| Back to Multiple platform build/check report for BioC 3.8 | 
  | 
This page was generated on 2019-04-13 11:24:05 -0400 (Sat, 13 Apr 2019).
| Package 1047/1649 | Hostname | OS / Arch | INSTALL | BUILD | CHECK | BUILD BIN | ||||||
| netbiov 1.16.0 Shailesh tripathi 
  | malbec1 | Linux (Ubuntu 16.04.6 LTS) / x86_64 | OK | OK | OK | |||||||
| tokay1 | Windows Server 2012 R2 Standard / x64 | OK | OK | OK | [ OK ] | |||||||
| merida1 | OS X 10.11.6 El Capitan / x86_64 | OK | OK | OK | OK | 
| Package: netbiov | 
| Version: 1.16.0 | 
| Command: rm -rf netbiov.buildbin-libdir && mkdir netbiov.buildbin-libdir && C:\Users\biocbuild\bbs-3.8-bioc\R\bin\R.exe CMD INSTALL --merge-multiarch --build --library=netbiov.buildbin-libdir netbiov_1.16.0.tar.gz | 
| StartedAt: 2019-04-13 07:42:01 -0400 (Sat, 13 Apr 2019) | 
| EndedAt: 2019-04-13 07:42:16 -0400 (Sat, 13 Apr 2019) | 
| EllapsedTime: 15.3 seconds | 
| RetCode: 0 | 
| Status: OK | 
| PackageFile: netbiov_1.16.0.zip | 
| PackageFileSize: 7.381 MiB | 
##############################################################################
##############################################################################
###
### Running command:
###
###   rm -rf netbiov.buildbin-libdir && mkdir netbiov.buildbin-libdir && C:\Users\biocbuild\bbs-3.8-bioc\R\bin\R.exe CMD INSTALL --merge-multiarch --build --library=netbiov.buildbin-libdir netbiov_1.16.0.tar.gz
###
##############################################################################
##############################################################################
install for i386
* installing *source* package 'netbiov' ...
** R
** data
** inst
** byte-compile and prepare package for lazy loading
** help
*** installing help indices
  converting help for package 'netbiov'
    finding HTML links ... done
    PPI_Athalina                            html  
    color_list                              html  
    gnet_bcell                              html  
    level.plot                              html  
    modules_PPI_Athalina                    html  
    modules_bcell                           html  
    mst.plot                                html  
    mst.plot.mod                            html  
    plot.NetworkSperical                    html  
    plot.NetworkSperical.startSet           html  
    plot.abstract.module                    html  
    plot.abstract.nodes                     html  
    plot.modules                            html  
    plot.netbiov                            html  
    plot.spiral.graph                       html  
    split.mst                               html  
** building package indices
** installing vignettes
** testing if installed package can be loaded
In R CMD INSTALL
install for x64
* installing *source* package 'netbiov' ...
** testing if installed package can be loaded
* MD5 sums
packaged installation of 'netbiov' as netbiov_1.16.0.zip
* DONE (netbiov)
In R CMD INSTALL
In R CMD INSTALL