Back to Multiple platform build/check report for BioC 3.8 |
|
This page was generated on 2019-03-18 11:30:30 -0400 (Mon, 18 Mar 2019).
Package 1618/1649 | Hostname | OS / Arch | INSTALL | BUILD | CHECK | ||||||
VariantFiltering 1.18.0 Robert Castelo
| malbec1 | Linux (Ubuntu 16.04.6 LTS) / x86_64 | OK | OK | OK | ![]() | |||||
tokay1 | Windows Server 2012 R2 Standard / x64 | OK | OK | WARNINGS | ![]() | ||||||
merida1 | OS X 10.11.6 El Capitan / x86_64 | OK | OK | OK | ![]() |
Package: VariantFiltering |
Version: 1.18.0 |
Command: rm -rf VariantFiltering.buildbin-libdir && mkdir VariantFiltering.buildbin-libdir && /Users/biocbuild/BBS/utils/build-universal.sh VariantFiltering_1.18.0.tar.gz /Library/Frameworks/R.framework/Versions/Current/Resources/bin/R VariantFiltering.buildbin-libdir |
StartedAt: 2019-03-18 05:06:01 -0400 (Mon, 18 Mar 2019) |
EndedAt: 2019-03-18 05:06:42 -0400 (Mon, 18 Mar 2019) |
EllapsedTime: 41.6 seconds |
RetCode: 0 |
Status: OK |
PackageFile: VariantFiltering_1.18.0.tgz |
PackageFileSize: 3.836 MiB |
############################################################################## ############################################################################## ### ### Running command: ### ### rm -rf VariantFiltering.buildbin-libdir && mkdir VariantFiltering.buildbin-libdir && /Users/biocbuild/BBS/utils/build-universal.sh VariantFiltering_1.18.0.tar.gz /Library/Frameworks/R.framework/Versions/Current/Resources/bin/R VariantFiltering.buildbin-libdir ### ############################################################################## ############################################################################## >>>>>>> >>>>>>> INSTALLATION WITH 'R CMD INSTALL --preclean --no-multiarch --library=VariantFiltering.buildbin-libdir VariantFiltering_1.18.0.tar.gz' >>>>>>> * installing *source* package ‘VariantFiltering’ ... ** libs clang -I"/Library/Frameworks/R.framework/Resources/include" -DNDEBUG -I"/Library/Frameworks/R.framework/Versions/3.5/Resources/library/S4Vectors/include" -I"/Library/Frameworks/R.framework/Versions/3.5/Resources/library/IRanges/include" -I"/Library/Frameworks/R.framework/Versions/3.5/Resources/library/XVector/include" -I"/Library/Frameworks/R.framework/Versions/3.5/Resources/library/Biostrings/include" -I/usr/local/include -fPIC -Wall -g -O2 -c Biostrings_stubs.c -o Biostrings_stubs.o clang -I"/Library/Frameworks/R.framework/Resources/include" -DNDEBUG -I"/Library/Frameworks/R.framework/Versions/3.5/Resources/library/S4Vectors/include" -I"/Library/Frameworks/R.framework/Versions/3.5/Resources/library/IRanges/include" -I"/Library/Frameworks/R.framework/Versions/3.5/Resources/library/XVector/include" -I"/Library/Frameworks/R.framework/Versions/3.5/Resources/library/Biostrings/include" -I/usr/local/include -fPIC -Wall -g -O2 -c R_init_VariantFiltering.c -o R_init_VariantFiltering.o clang -I"/Library/Frameworks/R.framework/Resources/include" -DNDEBUG -I"/Library/Frameworks/R.framework/Versions/3.5/Resources/library/S4Vectors/include" -I"/Library/Frameworks/R.framework/Versions/3.5/Resources/library/IRanges/include" -I"/Library/Frameworks/R.framework/Versions/3.5/Resources/library/XVector/include" -I"/Library/Frameworks/R.framework/Versions/3.5/Resources/library/Biostrings/include" -I/usr/local/include -fPIC -Wall -g -O2 -c methods-WeightMatrix.c -o methods-WeightMatrix.o clang -dynamiclib -Wl,-headerpad_max_install_names -undefined dynamic_lookup -single_module -multiply_defined suppress -L/Library/Frameworks/R.framework/Resources/lib -L/usr/local/lib -o VariantFiltering.so Biostrings_stubs.o R_init_VariantFiltering.o methods-WeightMatrix.o -F/Library/Frameworks/R.framework/.. -framework R -Wl,-framework -Wl,CoreFoundation installing to /Users/biocbuild/bbs-3.8-bioc/meat/VariantFiltering.buildbin-libdir/VariantFiltering/libs ** R ** inst ** byte-compile and prepare package for lazy loading in method for 'annotateVariants' with signature 'annObj="MafDb"': no definition for class "MafDb" ** help *** installing help indices ** building package indices ** installing vignettes ** testing if installed package can be loaded * DONE (VariantFiltering) >>>>>>> >>>>>>> FIXING LINKS FOR VariantFiltering.buildbin-libdir/VariantFiltering/libs//VariantFiltering.so >>>>>>> install_name_tool -change "/usr/local/lib/libgcc_s.1.dylib" "/Library/Frameworks/R.framework/Versions/3.5/Resources/lib/libgcc_s.1.dylib" "VariantFiltering.buildbin-libdir/VariantFiltering/libs//VariantFiltering.so" install_name_tool -change "/usr/local/lib/libgfortran.3.dylib" "/Library/Frameworks/R.framework/Versions/3.5/Resources/lib/libgfortran.3.dylib" "VariantFiltering.buildbin-libdir/VariantFiltering/libs//VariantFiltering.so" install_name_tool -change "/usr/local/lib/libreadline.5.2.dylib" "/Library/Frameworks/R.framework/Versions/3.5/Resources/lib/libreadline.5.2.dylib" "VariantFiltering.buildbin-libdir/VariantFiltering/libs//VariantFiltering.so" install_name_tool -change "/usr/local/lib/libreadline.dylib" "/Library/Frameworks/R.framework/Versions/3.5/Resources/lib/libreadline.dylib" "VariantFiltering.buildbin-libdir/VariantFiltering/libs//VariantFiltering.so" install_name_tool -change "/usr/local/lib/libquadmath.0.dylib" "/Library/Frameworks/R.framework/Versions/3.5/Resources/lib/libquadmath.0.dylib" "VariantFiltering.buildbin-libdir/VariantFiltering/libs//VariantFiltering.so"