Back to Multiple platform build/check report for BioC 3.8 |
|
This page was generated on 2019-03-22 11:29:26 -0400 (Fri, 22 Mar 2019).
Package 816/1649 | Hostname | OS / Arch | INSTALL | BUILD | CHECK | ||||||
KEGGgraph 1.42.0 Jitao David Zhang
| malbec1 | Linux (Ubuntu 16.04.6 LTS) / x86_64 | OK | OK | WARNINGS | ![]() | |||||
tokay1 | Windows Server 2012 R2 Standard / x64 | OK | OK | WARNINGS | ![]() | ||||||
merida1 | OS X 10.11.6 El Capitan / x86_64 | OK | OK | WARNINGS | ![]() |
Package: KEGGgraph |
Version: 1.42.0 |
Command: rm -rf KEGGgraph.buildbin-libdir && mkdir KEGGgraph.buildbin-libdir && /Users/biocbuild/BBS/utils/build-universal.sh KEGGgraph_1.42.0.tar.gz /Library/Frameworks/R.framework/Versions/Current/Resources/bin/R KEGGgraph.buildbin-libdir |
StartedAt: 2019-03-22 04:22:37 -0400 (Fri, 22 Mar 2019) |
EndedAt: 2019-03-22 04:23:25 -0400 (Fri, 22 Mar 2019) |
EllapsedTime: 48.6 seconds |
RetCode: 0 |
Status: OK |
PackageFile: KEGGgraph_1.42.0.tgz |
PackageFileSize: 1.696 MiB |
############################################################################## ############################################################################## ### ### Running command: ### ### rm -rf KEGGgraph.buildbin-libdir && mkdir KEGGgraph.buildbin-libdir && /Users/biocbuild/BBS/utils/build-universal.sh KEGGgraph_1.42.0.tar.gz /Library/Frameworks/R.framework/Versions/Current/Resources/bin/R KEGGgraph.buildbin-libdir ### ############################################################################## ############################################################################## >>>>>>> >>>>>>> INSTALLATION WITH 'R CMD INSTALL --preclean --no-multiarch --library=KEGGgraph.buildbin-libdir KEGGgraph_1.42.0.tar.gz' >>>>>>> * installing *source* package ‘KEGGgraph’ ... ** R ** data ** inst ** byte-compile and prepare package for lazy loading ** help *** installing help indices ** building package indices ** installing vignettes ** testing if installed package can be loaded * DONE (KEGGgraph)