| Back to Multiple platform build/check report for BioC 3.7 |
|
This page was generated on 2018-10-17 08:39:28 -0400 (Wed, 17 Oct 2018).
| Package 498/1561 | Hostname | OS / Arch | INSTALL | BUILD | CHECK | BUILD BIN | ||||||
| flowCHIC 1.14.0 Author: Joachim Schumann
| malbec2 | Linux (Ubuntu 16.04.1 LTS) / x86_64 | OK | OK | OK | |||||||
| tokay2 | Windows Server 2012 R2 Standard / x64 | OK | OK | OK | [ OK ] | |||||||
| merida2 | OS X 10.11.6 El Capitan / x86_64 | OK | OK | OK | OK |
| Package: flowCHIC |
| Version: 1.14.0 |
| Command: rm -rf flowCHIC.buildbin-libdir && mkdir flowCHIC.buildbin-libdir && C:\Users\biocbuild\bbs-3.7-bioc\R\bin\R.exe CMD INSTALL --merge-multiarch --build --library=flowCHIC.buildbin-libdir flowCHIC_1.14.0.tar.gz |
| StartedAt: 2018-10-17 06:19:49 -0400 (Wed, 17 Oct 2018) |
| EndedAt: 2018-10-17 06:20:25 -0400 (Wed, 17 Oct 2018) |
| EllapsedTime: 36.0 seconds |
| RetCode: 0 |
| Status: OK |
| PackageFile: flowCHIC_1.14.0.zip |
| PackageFileSize: 3.195 MiB |
##############################################################################
##############################################################################
###
### Running command:
###
### rm -rf flowCHIC.buildbin-libdir && mkdir flowCHIC.buildbin-libdir && C:\Users\biocbuild\bbs-3.7-bioc\R\bin\R.exe CMD INSTALL --merge-multiarch --build --library=flowCHIC.buildbin-libdir flowCHIC_1.14.0.tar.gz
###
##############################################################################
##############################################################################
install for i386
* installing *source* package 'flowCHIC' ...
** R
** data
** inst
** byte-compile and prepare package for lazy loading
** help
*** installing help indices
converting help for package 'flowCHIC'
finding HTML links ... done
Results_overlaps html
Results_overlaps_incol html
Results_overlaps_mix html
Results_xor html
Results_xor_incol html
Results_xor_mix html
abiotic_incol html
calculate_overlaps_xor html
fcs_to_img html
flowCHIC_package html
img_sub html
plot_nmds html
** building package indices
** installing vignettes
** testing if installed package can be loaded
In R CMD INSTALL
install for x64
* installing *source* package 'flowCHIC' ...
** testing if installed package can be loaded
* MD5 sums
packaged installation of 'flowCHIC' as flowCHIC_1.14.0.zip
* DONE (flowCHIC)
In R CMD INSTALL
In R CMD INSTALL