| Back to Multiple platform build/check report for BioC 3.6 experimental data |
This page was generated on 2018-04-12 12:50:27 -0400 (Thu, 12 Apr 2018).
Version Built
a4Base 1.26.0 3.4.4
a4Classif 1.26.0 3.4.4
a4Core 1.26.0 3.4.4
a4Preproc 1.26.0 3.4.4
a4Reporting 1.26.0 3.4.4
ABAData 1.8.0 3.4.4
ABAEnrichment 1.8.0 3.4.4
abind 1.4-5 3.4.4
acde 1.8.0 3.4.4
acepack 1.4.1 3.4.4
aCGH 1.56.0 3.4.4
ACME 2.34.0 3.4.4
actuar 2.3-1 3.4.4
ada 2.0-5 3.4.4
ade4 1.7-11 3.4.4
adehabitatLT 0.3.23 3.4.4
adehabitatMA 0.3.12 3.4.4
ADGofTest 0.3 3.4.4
affxparser 1.50.0 3.4.4
affy 1.56.0 3.4.4
affycomp 1.54.0 3.4.4
AffyCompatible 1.38.0 3.4.4
affycompData 1.16.0 3.4.4
affyContam 1.36.0 3.4.4
affycoretools 1.50.6 3.4.4
affydata 1.26.0 3.4.4
Affyhgu133A2Expr 1.14.0 3.4.4
Affyhgu133aExpr 1.16.0 3.4.4
Affyhgu133Plus2Expr 1.12.0 3.4.4
affyio 1.48.0 3.4.4
affylmGUI 1.52.0 3.4.4
AffymetrixDataTestFiles 0.16.0 3.4.4
Affymoe4302Expr 1.16.0 3.4.4
affyPLM 1.54.0 3.4.4
affyQCReport 1.56.0 3.4.4
agricolae 1.2-8 3.4.4
AhoCorasickTrie 0.1.0 3.4.4
AIMS 1.10.0 3.4.4
airway 0.112.0 3.4.4
akima 0.6-2 3.4.4
aLFQ 1.3.4 3.4.4
AlgDesign 1.1-7.3 3.4.4
ALL 1.20.0 3.4.4
ALLMLL 1.18.0 3.4.4
alluvial 0.1-2 3.4.4
alpineData 1.4.0 3.4.4
ALS 0.0.6 3.4.4
altcdfenvs 2.40.0 3.4.4
amap 0.8-14 3.4.4
AMOUNTAIN 1.4.0 3.4.4
AmpAffyExample 1.18.0 3.4.4
AneuFinderData 1.6.0 3.4.4
ANF 1.0.0 3.4.4
animation 2.5 3.4.4
annaffy 1.50.0 3.4.4
annotate 1.56.2 3.4.4
AnnotationDbi 1.40.0 3.4.4
AnnotationFilter 1.2.0 3.4.4
AnnotationForge 1.20.0 3.4.4
AnnotationFuncs 1.28.0 3.4.4
AnnotationHub 2.10.1 3.4.4
AnnotationHubData 1.8.1 3.4.4
annotationTools 1.52.0 3.4.4
anota 1.26.0 3.4.4
antiProfilesData 1.14.0 3.4.4
aod 1.3 3.4.4
apcluster 1.4.5 3.4.4
apComplex 2.44.0 3.4.4
ape 5.1 3.4.4
apeglm 1.0.3 3.4.4
aplpack 1.3.0 3.4.4
argparse 1.1.1 3.4.4
argparser 0.4 3.4.4
ArgumentCheck 0.10.2 3.4.4
arm 1.9-3 3.4.4
aroma.affymetrix 3.1.0 3.4.4
aroma.apd 0.6.0 3.4.4
aroma.core 3.1.1 3.4.4
aroma.light 3.8.0 3.4.4
ArrayExpress 1.38.0 3.4.4
arrayQualityMetrics 3.34.0 3.4.4
ArrayTV 1.16.0 3.4.4
ARRmData 1.14.0 3.4.4
arules 1.6-1 3.4.4
aRxiv 0.5.16 3.4.4
ashr 2.2-7 3.4.4
assertive 0.3-5 3.4.4
assertive.base 0.0-7 3.4.4
assertive.code 0.0-1 3.4.4
assertive.data 0.0-1 3.4.4
assertive.data.uk 0.0-1 3.4.4
assertive.data.us 0.0-1 3.4.4
assertive.datetimes 0.0-2 3.4.4
assertive.files 0.0-2 3.4.4
assertive.matrices 0.0-1 3.4.4
assertive.models 0.0-1 3.4.4
assertive.numbers 0.0-2 3.4.4
assertive.properties 0.0-4 3.4.4
assertive.reflection 0.0-4 3.4.4
assertive.sets 0.0-3 3.4.4
assertive.strings 0.0-3 3.4.4
assertive.types 0.0-3 3.4.4
assertthat 0.2.0 3.4.4
ath1121501cdf 2.18.0 3.4.4
aws 1.9-6 3.4.4
awsMethods 1.1-0 3.4.4
backports 1.1.2 3.4.4
ballgown 2.10.0 3.4.4
bamsignals 1.10.0 3.4.4
base 3.4.4 3.4.4
base64 2.0 3.4.4
base64enc 0.1-3 3.4.4
baseline 1.2-1 3.4.4
BASiCS 1.0.1 3.4.4
BatchJobs 1.7 3.4.4
BatchQC 1.6.1 3.4.4
bayesm 3.1-0.1 3.4.4
baySeq 2.12.0 3.4.4
BB 2014.10-1 3.4.4
BBmisc 1.11 3.4.4
bbmle 1.0.20 3.4.4
bc3net 1.0.4 3.4.4
bcellViper 1.14.0 3.4.4
BDgraph 2.45 3.4.4
bdsmatrix 1.3-3 3.4.4
beachmat 1.0.2 3.4.4
beadarray 2.28.0 3.4.4
beadarrayExampleData 1.16.0 3.4.4
BeadDataPackR 1.30.0 3.4.4
beanplot 1.2 3.4.4
beeswarm 0.2.3 3.4.4
betareg 3.1-0 3.4.4
bezier 1.1 3.4.4
BgeeDB 2.5.0 3.4.4
bgmm 1.8.3 3.4.4
BH 1.66.0-1 3.4.4
BiasedUrn 1.07 3.4.4
bibtex 0.4.2 3.4.4
biclust 1.2.0 3.4.4
biganalytics 1.1.14 3.4.4
biglm 0.9-1 3.4.4
bigmemory 4.5.33 3.4.4
bigmemory.sri 0.1.3 3.4.4
bigmemoryExtras 1.26.1 3.4.4
bigrquery 0.4.1 3.4.4
bindr 0.1.1 3.4.4
bindrcpp 0.2.2 3.4.4
binom 1.1-1 3.4.4
bio3d 2.3-4 3.4.4
Biobase 2.38.0 3.4.4
biobroom 1.10.1 3.4.4
BiocCheck 1.14.0 3.4.4
BiocFileCache 1.2.3 3.4.4
BiocGenerics 0.24.0 3.4.4
biocGraph 1.40.0 3.4.4
BiocInstaller 1.28.0 3.4.4
BiocParallel 1.12.0 3.4.4
BiocStyle 2.6.1 3.4.4
biocViews 1.46.0 3.4.4
bioDist 1.50.0 3.4.4
BioMark 0.4.5 3.4.4
biomaRt 2.34.2 3.4.4
biomformat 1.6.0 3.4.4
BioNet 1.38.0 3.4.4
bionetdata 1.0.1 3.4.4
Biostrings 2.46.0 3.4.4
biotmleData 1.2.0 3.4.4
biovizBase 1.26.0 3.4.4
BiSeq 1.18.0 3.4.4
bit 1.1-12 3.4.4
bit64 0.9-7 3.4.4
bitops 1.0-6 3.4.4
biwt 1.0 3.4.4
bladderbatch 1.16.0 3.4.4
blima 1.12.0 3.4.4
blimaTestingData 0.112.0 3.4.4
blob 1.1.1 3.4.4
blockmodeling 0.3.0 3.4.4
BMA 3.18.8 3.4.4
bmp 0.3 3.4.4
bnlearn 4.3 3.4.4
bold 0.5.0 3.4.4
bookdown 0.7 3.4.4
BoolNet 2.1.3 3.4.4
boot 1.3-20 3.4.4
bootstrap 2017.2 3.4.4
bpca 1.2-2 3.4.4
BRAIN 1.24.0 3.4.4
breastCancerMAINZ 1.16.0 3.4.4
breastCancerNKI 1.16.0 3.4.4
breastCancerTRANSBIG 1.16.0 3.4.4
breastCancerUNT 1.16.0 3.4.4
breastCancerUPP 1.16.0 3.4.4
breastCancerVDX 1.16.0 3.4.4
brew 1.0-6 3.4.4
brgedata 1.1.6 3.4.4
brglm 0.6.1 3.4.4
broom 0.4.4 3.4.4
BrowserViz 1.10.0 3.4.4
BSgenome 1.46.0 3.4.4
BSgenome.Athaliana.TAIR.TAIR9 1.3.1000 3.4.4
BSgenome.Celegans.UCSC.ce10 1.4.0 3.4.4
BSgenome.Celegans.UCSC.ce2 1.4.0 3.4.4
BSgenome.Dmelanogaster.UCSC.dm3 1.4.0 3.4.4
BSgenome.Drerio.UCSC.danRer10 1.4.2 3.4.4
BSgenome.Drerio.UCSC.danRer7 1.4.0 3.4.4
BSgenome.Ecoli.NCBI.20080805 1.3.1000 3.4.4
BSgenome.Ggallus.UCSC.galGal3 1.4.0 3.4.4
BSgenome.Hsapiens.1000genomes.hs37d5 0.99.1 3.4.4
BSgenome.Hsapiens.NCBI.GRCh38 1.3.1000 3.4.4
BSgenome.Hsapiens.UCSC.hg18 1.3.1000 3.4.4
BSgenome.Hsapiens.UCSC.hg18.masked 1.3.99 3.4.4
BSgenome.Hsapiens.UCSC.hg19 1.4.0 3.4.4
BSgenome.Hsapiens.UCSC.hg19.masked 1.3.99 3.4.4
BSgenome.Hsapiens.UCSC.hg38 1.4.1 3.4.4
BSgenome.Hsapiens.UCSC.hg38.masked 1.3.99 3.4.4
BSgenome.Mmusculus.UCSC.mm10 1.4.0 3.4.4
BSgenome.Mmusculus.UCSC.mm10.masked 1.3.99 3.4.4
BSgenome.Mmusculus.UCSC.mm8 1.4.0 3.4.4
BSgenome.Mmusculus.UCSC.mm8.masked 1.3.99 3.4.4
BSgenome.Mmusculus.UCSC.mm9 1.4.0 3.4.4
BSgenome.Mmusculus.UCSC.mm9.masked 1.3.99 3.4.4
BSgenome.Rnorvegicus.UCSC.rn4 1.4.0 3.4.4
BSgenome.Rnorvegicus.UCSC.rn5 1.4.0 3.4.4
BSgenome.Rnorvegicus.UCSC.rn5.masked 1.3.99 3.4.4
BSgenome.Rnorvegicus.UCSC.rn6 1.4.1 3.4.4
BSgenome.Scerevisiae.UCSC.sacCer1 1.4.0 3.4.4
BSgenome.Scerevisiae.UCSC.sacCer2 1.4.0 3.4.4
BSgenome.Scerevisiae.UCSC.sacCer3 1.4.0 3.4.4
bsseq 1.14.0 3.4.4
bsseqData 0.16.0 3.4.4
BufferedMatrix 1.42.0 3.4.4
bumphunter 1.20.0 3.4.4
c3net 1.1.1 3.4.4
C50 0.1.1 3.4.4
ca 0.70 3.4.4
CAGEr 1.20.0 3.4.4
Cairo 1.5-9 3.4.4
cairoDevice 2.24 3.4.4
calibrate 1.7.2 3.4.4
CAMERA 1.34.0 3.4.4
cancerdata 1.16.0 3.4.4
capushe 1.1.1 3.4.4
car 3.0-0 3.4.4
carData 3.0-1 3.4.4
Cardinal 1.10.0 3.4.4
caret 6.0-79 3.4.4
caroline 0.7.6 3.4.4
Category 2.44.0 3.4.4
catnet 1.15.3 3.4.4
caTools 1.17.1 3.4.4
cba 0.2-19 3.4.4
ccaPP 0.3.2 3.4.4
ccdata 1.4.0 3.4.4
CCl4 1.16.0 3.4.4
ccmap 1.4.0 3.4.4
CCP 1.1 3.4.4
CDFt 1.0.1 3.4.4
celestial 1.4.1 3.4.4
cellHTS2 2.42.0 3.4.4
CellMapper 1.4.0 3.4.4
CellMapperData 1.4.0 3.4.4
CellNOptR 1.24.1 3.4.4
cellranger 1.1.0 3.4.4
cgdsr 1.2.10 3.4.4
CGHbase 1.38.0 3.4.4
CGHcall 2.40.0 3.4.4
CGHregions 1.36.0 3.4.4
ChAMPdata 2.10.0 3.4.4
changepoint 2.2.2 3.4.4
charm 2.24.0 3.4.4
charmData 1.14.0 3.4.4
checkmate 1.8.5 3.4.4
ChemmineDrugs 1.0.0 3.4.4
ChemmineOB 1.16.2 3.4.4
ChemmineR 2.30.2 3.4.4
ChemometricsWithR 0.1.11 3.4.4
Chicago 1.6.0 3.4.4
chimera 1.20.0 3.4.4
chipenrich.data 2.2.0 3.4.4
ChIPexoQualExample 1.2.0 3.4.4
ChIPpeakAnno 3.12.7 3.4.4
ChIPseeker 1.14.2 3.4.4
chipseq 1.28.0 3.4.4
ChIPXpressData 1.16.0 3.4.4
chromstaRData 1.4.0 3.4.4
chron 2.3-52 3.4.4
circlize 0.4.3 3.4.4
CircStats 0.2-4 3.4.4
class 7.3-14 3.4.4
classInt 0.1-24 3.4.4
cleanUpdTSeq 1.16.0 3.4.4
cleaver 1.16.0 3.4.4
cli 1.0.0 3.4.4
clinfun 1.0.14 3.4.4
clipper 1.18.0 3.4.4
clipr 0.4.0 3.4.4
CLL 1.18.0 3.4.4
clst 1.26.0 3.4.4
clue 0.3-54 3.4.4
clues 0.5.9 3.4.4
cluster 2.0.7-1 3.4.4
clusterCrit 1.2.7 3.4.4
clusterProfiler 3.6.0 3.4.4
clusterRepro 0.5-1.1 3.4.4
clusterSim 0.47-1 3.4.4
clustsig 1.1 3.4.4
clValid 0.6-6 3.4.4
cMAP 1.15.1 3.4.4
cMap2data 1.14.0 3.4.4
cmprsk 2.2-7 3.4.4
cn.mops 1.24.0 3.4.4
CNEr 1.14.0 3.4.4
CNORode 1.20.0 3.4.4
CNTools 1.34.0 3.4.4
cnvGSA 1.22.0 3.4.4
cnvGSAdata 1.14.0 3.4.4
coda 0.19-1 3.4.4
codelink 1.46.0 3.4.4
codetools 0.2-15 3.4.4
COHCAPanno 1.14.0 3.4.4
coin 1.2-2 3.4.4
colonCA 1.20.0 3.4.4
colorRamps 2.3 3.4.4
colorspace 1.3-2 3.4.4
colortools 0.1.5 3.4.4
colourpicker 1.0 3.4.4
combinat 0.0-8 3.4.4
cometExactTest 0.1.5 3.4.4
commonmark 1.4 3.4.4
compiler 3.4.4 3.4.4
ComplexHeatmap 1.17.1 3.4.4
compositions 1.40-1 3.4.4
CompQuadForm 1.4.3 3.4.4
CONFESSdata 1.6.0 3.4.4
ConsensusClusterPlus 1.42.0 3.4.4
consensusSeekeR 1.6.0 3.4.4
contrast 0.21 3.4.4
convert 1.54.0 3.4.4
copula 0.999-18 3.4.4
CopyhelpeR 1.10.0 3.4.4
corpcor 1.6.9 3.4.4
corrgram 1.12 3.4.4
corrplot 0.84 3.4.4
covr 3.0.1 3.4.4
cowplot 0.9.2 3.4.4
CoxBoost 1.4 3.4.4
cp4p 0.3.5 3.4.4
CPE 1.4.4 3.4.4
cqn 1.24.0 3.4.4
crayon 1.3.4 3.4.4
CRISPRseek 1.18.0 3.4.4
crlmm 1.36.0 3.4.4
crossmeta 1.4.0 3.4.4
crosstalk 1.0.0 3.4.4
crul 0.5.2 3.4.4
CSAR 1.30.0 3.4.4
csaw 1.12.0 3.4.4
ctc 1.52.0 3.4.4
cubature 1.3-11 3.4.4
Cubist 0.2.1 3.4.4
cummeRbund 2.20.0 3.4.4
curatedBladderData 1.14.0 3.4.4
curatedOvarianData 1.16.0 3.4.4
curl 3.2 3.4.4
customProDB 1.18.0 3.4.4
cvAUC 1.1.0 3.4.4
CVST 0.2-1 3.4.4
cvTools 0.3.2 3.4.4
cvxclustr 1.1.1 3.4.4
cytolib 1.0.1 3.4.4
d3heatmap 0.6.1.2 3.4.4
d3Network 0.5.2.1 3.4.4
dagitty 0.2-2 3.4.4
DAPAR 1.10.4 3.4.4
DAPARdata 1.8.0 3.4.4
data.table 1.10.4-3 3.4.4
datasets 3.4.4 3.4.4
DBChIP 1.22.0 3.4.4
DBI 0.8 3.4.4
dbplyr 1.2.1 3.4.4
ddalpha 1.3.2 3.4.4
DDRTree 0.1.5 3.4.4
debugme 1.1.0 3.4.4
DECIPHER 2.6.0 3.4.4
deepSNV 1.24.0 3.4.4
DEFormats 1.6.1 3.4.4
DEGraph 1.30.0 3.4.4
Delaporte 6.1.0 3.4.4
DelayedArray 0.4.1 3.4.4
deldir 0.1-15 3.4.4
dendextend 1.7.0 3.4.4
dendsort 0.3.3 3.4.4
densityClust 0.3 3.4.4
DEoptimR 1.0-8 3.4.4
depmixS4 1.3-3 3.4.4
derfinder 1.12.6 3.4.4
derfinderData 0.112.0 3.4.4
derfinderHelper 1.12.0 3.4.4
derfinderPlot 1.12.3 3.4.4
desc 1.1.1 3.4.4
DescTools 0.99.24 3.4.4
DESeq 1.30.0 3.4.4
DESeq2 1.18.1 3.4.4
deSolve 1.20 3.4.4
destiny 2.6.2 3.4.4
devtools 1.13.5 3.4.4
DEXSeq 1.24.4 3.4.4
dfoptim 2018.2-1 3.4.4
diagram 1.6.4 3.4.4
DiagrammeR 1.0.0 3.4.4
DiagrammeRsvg 0.1 3.4.4
dichromat 2.0-0 3.4.4
DiffBind 2.6.6 3.4.4
diffloopdata 1.6.0 3.4.4
diffr 0.1 3.4.4
diffusionMap 1.1-0 3.4.4
digest 0.6.15 3.4.4
diggitdata 1.10.0 3.4.4
dimRed 0.1.0 3.4.4
diptest 0.75-7 3.4.4
DirichletMultinomial 1.20.0 3.4.4
DiscriMiner 0.1-29 3.4.4
distillery 1.0-4 3.4.4
distr 2.6.2 3.4.4
distrEx 2.6.1 3.4.4
DLBCL 1.18.0 3.4.4
DMRcate 1.14.0 3.4.4
DMRcatedata 1.14.0 3.4.4
dmt 0.8.20 3.4.4
DMwR 0.4.1 3.4.4
DNAcopy 1.52.0 3.4.4
dnet 1.1.3 3.4.4
DO.db 2.9 3.4.4
doBy 4.6-1 3.4.4
docopt 0.4.5 3.4.4
doFuture 0.6.0 3.4.4
doMPI 0.2.2 3.4.4
doParallel 1.0.11 3.4.4
doRNG 1.6.6 3.4.4
DOSE 3.4.0 3.4.4
doSNOW 1.0.16 3.4.4
dotCall64 0.9-5.2 3.4.4
downloader 0.4 3.4.4
dplyr 0.7.4 3.4.4
DPpackage 1.1-7.4 3.4.4
drc 3.0-1 3.4.4
DRIMSeq 1.6.0 3.4.4
drosgenome1.db 3.2.3 3.4.4
drosophila2probe 2.18.0 3.4.4
DRR 0.0.3 3.4.4
DrugVsDiseasedata 1.14.0 3.4.4
dsQTL 0.16.0 3.4.4
DSS 2.26.0 3.4.4
DT 0.4 3.4.4
dtw 1.18-1 3.4.4
dyebias 1.38.0 3.4.4
dyebiasexamples 1.18.0 3.4.4
dynamicTreeCut 1.63-1 3.4.4
DynDoc 1.56.0 3.4.4
e1071 1.6-8 3.4.4
earth 4.6.2 3.4.4
easyRNASeq 2.14.0 3.4.4
EBarrays 2.42.0 3.4.4
EBcoexpress 1.22.0 3.4.4
ebdbNet 1.2.5 3.4.4
EBImage 4.20.1 3.4.4
EBSeq 1.18.0 3.4.4
ecolicdf 2.18.0 3.4.4
ecoliLeucine 1.18.0 3.4.4
ecp 3.1.0 3.4.4
EDASeq 2.12.0 3.4.4
edgeR 3.20.9 3.4.4
effsize 0.7.1 3.4.4
EGSEA 1.6.1 3.4.4
EGSEAdata 1.6.0 3.4.4
eisa 1.30.0 3.4.4
elasticnet 1.1 3.4.4
ellipse 0.4.1 3.4.4
ELMER 2.2.7 3.4.4
ELMER.data 2.2.2 3.4.4
emdbook 1.3.9 3.4.4
emdist 0.3-1 3.4.4
emojifont 0.5.1 3.4.4
EMT 1.1 3.4.4
ENCODExplorer 2.4.0 3.4.4
energy 1.7-2 3.4.4
enrichR 1.0 3.4.4
EnsDb.Hsapiens.v75 2.99.0 3.4.4
EnsDb.Hsapiens.v79 2.99.0 3.4.4
EnsDb.Hsapiens.v86 2.99.0 3.4.4
EnsDb.Mmusculus.v79 2.99.0 3.4.4
ensembldb 2.2.2 3.4.4
ensemblVEP 1.20.1 3.4.4
entropy 1.2.1 3.4.4
enviPat 2.2 3.4.4
ENVISIONQuery 1.26.0 3.4.4
Epi 2.26 3.4.4
epivizr 2.8.0 3.4.4
epivizrData 1.6.0 3.4.4
epivizrServer 1.6.0 3.4.4
epivizrStandalone 1.6.0 3.4.4
erma 0.10.1 3.4.4
estimability 1.3 3.4.4
estrogen 1.24.0 3.4.4
etec16s 1.6.0 3.4.4
etm 0.6-2 3.4.4
etrunct 0.1 3.4.4
evaluate 0.10.1 3.4.4
evd 2.3-2 3.4.4
exactRankTests 0.8-29 3.4.4
exomeCopy 1.24.0 3.4.4
ExperimentHub 1.4.0 3.4.4
expint 0.1-4 3.4.4
expm 0.999-2 3.4.4
ExpressionAtlas 1.6.0 3.4.4
extrafont 0.17 3.4.4
extrafontdb 1.0 3.4.4
extRemes 2.0-8 3.4.4
extremevalues 2.3.2 3.4.4
faahKO 1.18.0 3.4.4
fabia 2.24.0 3.4.4
facopy.annot 0.112.0 3.4.4
FactoMineR 1.40 3.4.4
FANTOM3and4CAGE 1.14.0 3.4.4
fastcluster 1.1.24 3.4.4
fastICA 1.2-1 3.4.4
fastmatch 1.1-0 3.4.4
fastseg 1.24.0 3.4.4
fBasics 3042.89 3.4.4
fda 2.4.7 3.4.4
FDb.InfiniumMethylation.hg18 2.2.0 3.4.4
FDb.InfiniumMethylation.hg19 2.2.0 3.4.4
FDb.UCSC.tRNAs 1.0.1 3.4.4
fdrtool 1.2.15 3.4.4
feature 1.2.13 3.4.4
FEM 3.6.0 3.4.4
ff 2.2-13 3.4.4
ffbase 0.12.3 3.4.4
FField 0.1.0 3.4.4
ffpeExampleData 1.16.0 3.4.4
fftwtools 0.9-8 3.4.4
FGNet 3.12.0 3.4.4
fgsea 1.4.1 3.4.4
fibroEset 1.20.0 3.4.4
fields 9.6 3.4.4
filehash 2.4-1 3.4.4
filematrix 1.3 3.4.4
FindMyFriends 1.8.0 3.4.4
findpython 1.0.3 3.4.4
fingerprint 3.5.7 3.4.4
FIs 1.6.0 3.4.4
fit.models 0.5-14 3.4.4
fitdistrplus 1.0-9 3.4.4
flare 1.6.0 3.4.4
flashClust 1.01-2 3.4.4
Fletcher2013a 1.14.0 3.4.4
Fletcher2013b 1.14.0 3.4.4
flexclust 1.3-5 3.4.4
flexmix 2.3-14 3.4.4
flowClust 3.16.0 3.4.4
flowCore 1.44.2 3.4.4
flowFitExampleData 1.14.0 3.4.4
flowFP 1.36.0 3.4.4
flowMeans 1.38.0 3.4.4
flowMerge 2.26.0 3.4.4
flowPeaks 1.22.0 3.4.4
flowPloidyData 1.4.0 3.4.4
flowQB 2.6.0 3.4.4
flowQBData 1.4.0 3.4.4
FlowRepositoryR 1.10.0 3.4.4
FlowSOM 1.10.0 3.4.4
FlowSorted.Blood.450k 1.16.0 3.4.4
flowStats 3.36.0 3.4.4
flowType 2.16.0 3.4.4
flowUtils 1.42.0 3.4.4
flowViz 1.42.0 3.4.4
flowWorkspace 3.26.9 3.4.4
flowWorkspaceData 2.14.0 3.4.4
fmcsR 1.20.0 3.4.4
fmsb 0.6.3 3.4.4
FNN 1.1 3.4.4
forcats 0.3.0 3.4.4
foreach 1.4.4 3.4.4
foreign 0.8-69 3.4.4
formatR 1.5 3.4.4
Formula 1.2-2 3.4.4
fpc 2.1-11 3.4.4
frma 1.30.1 3.4.4
frmaExampleData 1.14.0 3.4.4
frmaTools 1.30.0 3.4.4
FSelector 0.21 3.4.4
FunciSNP.data 1.14.0 3.4.4
functional 0.6 3.4.4
futile.logger 1.4.3 3.4.4
futile.options 1.0.0 3.4.4
future 1.8.0 3.4.4
future.apply 0.1.0 3.4.4
GA 3.0.2 3.4.4
GA4GHclient 1.2.0 3.4.4
gaga 2.24.0 3.4.4
gage 2.28.2 3.4.4
gageData 2.16.0 3.4.4
gam 1.15 3.4.4
gamlss 5.0-6 3.4.4
gamlss.data 5.0-0 3.4.4
gamlss.dist 5.0-4 3.4.4
gap 1.1-21 3.4.4
gatingMLData 2.18.0 3.4.4
gbm 2.1.3 3.4.4
gclus 1.3.1 3.4.4
gCMAP 1.22.1 3.4.4
gcrma 2.50.0 3.4.4
gcspikelite 1.16.0 3.4.4
gdata 2.18.0 3.4.4
gdsfmt 1.14.1 3.4.4
geeM 0.10.0 3.4.4
geepack 1.2-1 3.4.4
GenABEL 1.8-0 3.4.4
GenABEL.data 1.0.0 3.4.4
genalg 0.2.0 3.4.4
GeneAnswers 2.20.0 3.4.4
genefilter 1.60.0 3.4.4
genefu 2.11.2 3.4.4
geneLenDataBase 1.14.0 3.4.4
GeneMeta 1.50.0 3.4.4
GeneNet 1.2.13 3.4.4
geneplotter 1.56.0 3.4.4
GeneSelectMMD 2.22.0 3.4.4
geNetClassifier 1.18.0 3.4.4
genetics 1.3.8.1 3.4.4
GenKern 1.2-60 3.4.4
genomation 1.11.3 3.4.4
genomationData 1.10.0 3.4.4
GenomeGraphs 1.38.0 3.4.4
GenomeInfoDb 1.14.0 3.4.4
GenomeInfoDbData 1.0.0 3.4.4
genomeIntervals 1.34.0 3.4.4
genomewidesnp5Crlmm 1.0.6 3.4.4
genomewidesnp6Crlmm 1.0.7 3.4.4
GenomicAlignments 1.14.2 3.4.4
GenomicFeatures 1.30.3 3.4.4
GenomicFiles 1.14.0 3.4.4
GenomicInteractions 1.12.0 3.4.4
GenomicRanges 1.30.3 3.4.4
GenomicScores 1.2.2 3.4.4
Genominator 1.32.0 3.4.4
genoset 1.34.0 3.4.4
GEOmap 2.4-4 3.4.4
GEOmetadb 1.40.0 3.4.4
geometry 0.3-6 3.4.4
GEOquery 2.46.15 3.4.4
gespeR 1.10.1 3.4.4
getopt 1.20.2 3.4.4
GetoptLong 0.1.6 3.4.4
GeuvadisTranscriptExpr 1.6.0 3.4.4
geuvPack 1.10.0 3.4.4
geuvStore2 1.8.0 3.4.4
GGally 1.3.2 3.4.4
GGBase 3.40.0 3.4.4
ggbeeswarm 0.6.0 3.4.4
ggbio 1.26.1 3.4.4
ggcyto 1.6.2 3.4.4
GGdata 1.16.0 3.4.4
ggdendro 0.1-20 3.4.4
ggExtra 0.8 3.4.4
ggforce 0.1.1 3.4.4
ggfortify 0.4.3 3.4.4
ggjoy 0.4.0 3.4.4
ggm 2.3 3.4.4
ggmcmc 1.1 3.4.4
ggnetwork 0.5.1 3.4.4
ggplot2 2.2.1 3.4.4
ggpmisc 0.2.16 3.4.4
ggpubr 0.1.6 3.4.4
ggrepel 0.7.0 3.4.4
ggridges 0.5.0 3.4.4
ggsci 2.8 3.4.4
ggseqlogo 0.1 3.4.4
ggsignif 0.4.0 3.4.4
ggthemes 3.4.2 3.4.4
GGtools 5.14.0 3.4.4
ggtree 1.10.5 3.4.4
ggvis 0.4.3 3.4.4
gistr 0.4.0 3.4.4
git2r 0.21.0 3.4.4
GLAD 2.42.0 3.4.4
glasso 1.8 3.4.4
Glimma 1.6.0 3.4.4
glm2 1.1.3 3.4.4
glmnet 2.0-16 3.4.4
glmpath 0.98 3.4.4
GlobalOptions 0.0.13 3.4.4
globals 0.11.0 3.4.4
globaltest 5.32.0 3.4.4
glue 1.2.0 3.4.4
gmapR 1.20.0 3.4.4
gmm 1.6-2 3.4.4
gmodels 2.16.2 3.4.4
gmp 0.5-13.1 3.4.4
GO.db 3.5.0 3.4.4
goftest 1.1-1 3.4.4
golubEsets 1.20.0 3.4.4
googleAuthR 0.6.2 3.4.4
googleVis 0.6.2 3.4.4
goric 0.0-95 3.4.4
GOSemSim 2.4.1 3.4.4
goseq 1.30.0 3.4.4
GOstats 2.44.0 3.4.4
GOTHiC 1.14.0 3.4.4
gower 0.1.2 3.4.4
gplots 3.0.1 3.4.4
gpls 1.50.0 3.4.4
gProfileR 0.6.4 3.4.4
gptk 1.08 3.4.4
gQTLBase 1.10.0 3.4.4
gQTLstats 1.10.1 3.4.4
gRain 1.3-0 3.4.4
graph 1.56.0 3.4.4
graphics 3.4.4 3.4.4
graphite 1.24.1 3.4.4
GraphPAC 1.20.0 3.4.4
grasp2db 1.1.0 3.4.4
gRbase 1.8-3 3.4.4
grDevices 3.4.4 3.4.4
grid 3.4.4 3.4.4
gridBase 0.4-7 3.4.4
gridExtra 2.3 3.4.4
gridSVG 1.6-0 3.4.4
grImport 0.9-0 3.4.4
grndata 1.10.0 3.4.4
GSA 1.03 3.4.4
GSBenchMark 0.112.0 3.4.4
GSEABase 1.40.1 3.4.4
GSEAlm 1.38.0 3.4.4
gsl 1.9-10.3 3.4.4
gsmoothr 0.1.7 3.4.4
gss 2.1-7 3.4.4
gsubfn 0.7 3.4.4
GSVA 1.26.0 3.4.4
GSVAdata 1.14.0 3.4.4
gtable 0.2.0 3.4.4
gtools 3.5.0 3.4.4
gtrellis 1.11.1 3.4.4
GUIDEseq 1.8.1 3.4.4
Gviz 1.22.3 3.4.4
gwascat 2.10.0 3.4.4
GWASdata 1.16.0 3.4.4
GWASExactHW 1.01 3.4.4
GWASTools 1.24.1 3.4.4
gWidgets 0.0-54 3.4.4
gWidgets2 1.0-7 3.4.4
gWidgets2RGtk2 1.0-7 3.4.4
gWidgetsRGtk2 0.0-86 3.4.4
gWidgetstcltk 0.0-55 3.4.4
h5vc 2.12.0 3.4.4
h5vcData 1.112.0 3.4.4
haplo.stats 1.7.9 3.4.4
hapmap100kxba 1.20.0 3.4.4
hapmapsnp5 1.20.0 3.4.4
hapmapsnp6 1.20.0 3.4.4
HardyWeinberg 1.5.9 3.4.4
HarmanData 1.6.0 3.4.4
hash 2.2.6 3.4.4
haven 1.1.1 3.4.4
HDF5Array 1.6.0 3.4.4
healthyFlowData 1.16.0 3.4.4
heatmap.plus 1.3 3.4.4
heatmap3 1.1.1 3.4.4
heatmaply 0.14.1 3.4.4
Heatplus 2.24.0 3.4.4
HEEBOdata 1.16.0 3.4.4
HelloRangesData 1.4.0 3.4.4
hexbin 1.27.2 3.4.4
hgfocus.db 3.2.3 3.4.4
hgfocuscdf 2.18.0 3.4.4
hgu133a.db 3.2.3 3.4.4
hgu133a2.db 3.2.3 3.4.4
hgu133acdf 2.18.0 3.4.4
hgu133afrmavecs 1.5.0 3.4.4
hgu133aprobe 2.18.0 3.4.4
hgu133atagcdf 2.18.0 3.4.4
hgu133atagprobe 2.18.0 3.4.4
hgu133plus2.db 3.2.3 3.4.4
hgu133plus2cdf 2.18.0 3.4.4
hgu133plus2frmavecs 1.5.0 3.4.4
hgu133plus2probe 2.18.0 3.4.4
hgu95a.db 3.2.3 3.4.4
hgu95acdf 2.18.0 3.4.4
hgu95av2 2.2.0 3.4.4
hgu95av2.db 3.2.3 3.4.4
hgu95av2cdf 2.18.0 3.4.4
hgu95av2probe 2.18.0 3.4.4
hgug4112a.db 3.2.3 3.4.4
HH 3.1-34 3.4.4
hiAnnotator 1.12.0 3.4.4
HiCDataHumanIMR90 0.112.0 3.4.4
HiCDataLymphoblast 1.14.0 3.4.4
highcharter 0.5.0 3.4.4
highr 0.6 3.4.4
HilbertCurve 1.9.1 3.4.4
HilbertVis 1.36.0 3.4.4
HilbertVisGUI 1.36.0 3.4.4
HiTC 1.22.1 3.4.4
HiveR 0.3.42 3.4.4
Hmisc 4.1-1 3.4.4
HMMcopy 1.20.0 3.4.4
hms 0.4.2 3.4.4
hom.Dm.inp.db 3.1.2 3.4.4
hom.Hs.inp.db 3.1.2 3.4.4
hom.Mm.inp.db 3.1.2 3.4.4
hom.Rn.inp.db 3.1.2 3.4.4
hom.Sc.inp.db 3.1.2 3.4.4
Homo.sapiens 1.3.1 3.4.4
hopach 2.38.0 3.4.4
howmany 0.3-1 3.4.4
hpar 1.20.0 3.4.4
HSMMSingleCell 0.112.0 3.4.4
htmlTable 1.11.2 3.4.4
htmltools 0.3.6 3.4.4
HTMLUtils 0.1.7 3.4.4
htmlwidgets 1.0 3.4.4
HTqPCR 1.32.0 3.4.4
HTSanalyzeR 2.30.0 3.4.4
HTSCluster 2.0.8 3.4.4
HTSFilter 1.18.0 3.4.4
httpcode 0.2.0 3.4.4
httpuv 1.3.6.2 3.4.4
httr 1.3.1 3.4.4
hu6800.db 3.2.3 3.4.4
HuExExonProbesetLocation 1.15.0 3.4.4
huge 1.2.7 3.4.4
hugene10sttranscriptcluster.db 8.7.0 3.4.4
human.db0 3.5.0 3.4.4
human370v1cCrlmm 1.0.2 3.4.4
human610quadv1bCrlmm 1.0.3 3.4.4
HumanAffyData 1.4.0 3.4.4
humanCHRLOC 2.1.6 3.4.4
humanStemCell 0.18.0 3.4.4
hwriter 1.3.2 3.4.4
hyperdraw 1.30.0 3.4.4
hypergea 1.3.6 3.4.4
hypergraph 1.50.0 3.4.4
ic.infer 1.1-6 3.4.4
iC10 1.1.3 3.4.4
iC10TrainingData 1.0.1 3.4.4
ica 1.0-1 3.4.4
Icens 1.50.0 3.4.4
iCluster 2.1.0 3.4.4
iClusterPlus 1.14.0 3.4.4
ICS 1.3-1 3.4.4
ICSNP 1.1-1 3.4.4
idiogram 1.54.0 3.4.4
IDPmisc 1.1.17 3.4.4
idr 1.2 3.4.4
ifultools 2.0-4 3.4.4
igraph 1.2.1 3.4.4
igraphdata 1.0.1 3.4.4
IHW 1.6.0 3.4.4
Illumina450ProbeVariants.db 1.14.0 3.4.4
IlluminaDataTestFiles 1.16.0 3.4.4
IlluminaHumanMethylation27kanno.ilmn12.hg19 0.6.0 3.4.4
IlluminaHumanMethylation27kmanifest 0.4.0 3.4.4
IlluminaHumanMethylation450kanno.ilmn12.hg19 0.6.0 3.4.4
IlluminaHumanMethylation450kmanifest 0.4.0 3.4.4
IlluminaHumanMethylationEPICanno.ilm10b2.hg19 0.6.0 3.4.4
IlluminaHumanMethylationEPICmanifest 0.3.0 3.4.4
illuminaHumanv1.db 1.26.0 3.4.4
illuminaHumanv2.db 1.26.0 3.4.4
illuminaHumanv3.db 1.26.0 3.4.4
illuminaHumanv4.db 1.26.0 3.4.4
illuminaio 0.20.0 3.4.4
imageHTS 1.28.1 3.4.4
imp4p 0.5 3.4.4
import 1.1.0 3.4.4
impute 1.52.0 3.4.4
imputeLCMD 2.0 3.4.4
ineq 0.2-13 3.4.4
influenceR 0.1.0 3.4.4
infotheo 1.2.0 3.4.4
inline 0.3.14 3.4.4
InteractionSet 1.6.0 3.4.4
interactiveDisplay 1.16.0 3.4.4
interactiveDisplayBase 1.16.0 3.4.4
intergraph 2.0-2 3.4.4
intervals 0.15.1 3.4.4
inum 1.0-0 3.4.4
iontreeData 1.14.0 3.4.4
iPAC 1.22.0 3.4.4
IPPD 1.26.0 3.4.4
ipred 0.9-6 3.4.4
IRanges 2.12.0 3.4.4
irlba 2.3.2 3.4.4
irr 0.84 3.4.4
isa2 0.3.5 3.4.4
ismev 1.41 3.4.4
Iso 0.0-17 3.4.4
isobar 1.24.0 3.4.4
IsoGene 1.0-24 3.4.4
isva 1.9 3.4.4
ITALICSData 2.16.0 3.4.4
iterators 1.0.9 3.4.4
itertools 0.1-3 3.4.4
IVAS 1.98.0 3.4.4
jackstraw 1.1.1 3.4.4
JADE 2.0-1 3.4.4
JASPAR2014 1.14.0 3.4.4
JASPAR2016 1.6.0 3.4.4
JctSeqData 1.8.0 3.4.4
jpeg 0.1-8 3.4.4
jsonlite 1.5 3.4.4
JunctionSeq 1.8.0 3.4.4
kableExtra 0.8.0 3.4.4
kappalab 0.4-7 3.4.4
kebabs 1.12.0 3.4.4
KEGG.db 3.2.3 3.4.4
KEGGdzPathwaysGEO 1.16.0 3.4.4
KEGGgraph 1.38.0 3.4.4
keggorthology 2.30.0 3.4.4
KEGGprofile 1.20.0 3.4.4
KEGGREST 1.18.1 3.4.4
kernlab 0.9-25 3.4.4
KernSmooth 2.23-15 3.4.4
kinship2 1.6.4 3.4.4
kknn 1.3.1 3.4.4
klaR 0.6-14 3.4.4
km.ci 0.5-2 3.4.4
KMsurv 0.1-5 3.4.4
knitcitations 1.0.8 3.4.4
knitr 1.20 3.4.4
knitrBootstrap 1.0.1 3.4.4
KOdata 1.4.0 3.4.4
kohonen 3.0.4 3.4.4
ks 1.11.0 3.4.4
kza 4.0.0 3.4.4
labeling 0.3 3.4.4
labelled 1.0.1 3.4.4
laeken 0.4.6 3.4.4
lambda.r 1.2 3.4.4
LaplacesDemon 16.1.0 3.4.4
lars 1.2 3.4.4
lassopv 0.2.0 3.4.4
lassoshooting 0.1.5-1 3.4.4
lattice 0.20-35 3.4.4
latticeExtra 0.6-28 3.4.4
lava 1.6.1 3.4.4
lavaan 0.5-23.1097 3.4.4
lazyeval 0.2.1 3.4.4
ldblock 1.8.1 3.4.4
leaps 3.0 3.4.4
LearnBayes 2.15.1 3.4.4
learnr 0.9.2 3.4.4
leeBamViews 1.14.0 3.4.4
les 1.28.0 3.4.4
leukemiasEset 1.14.0 3.4.4
lfa 1.8.0 3.4.4
libcoin 1.0-1 3.4.4
LiblineaR 2.10-8 3.4.4
liftr 0.8 3.4.4
LIM 1.4.6 3.4.4
limma 3.34.9 3.4.4
limSolve 1.5.5.3 3.4.4
linkcomm 1.0-11 3.4.4
lintr 1.0.2 3.4.4
LiquidAssociation 1.32.0 3.4.4
listenv 0.7.0 3.4.4
listviewer 2.0.0 3.4.4
lme4 1.1-17 3.4.4
Lmoments 1.2-3 3.4.4
lmtest 0.9-36 3.4.4
LOBSTAHS 1.4.0 3.4.4
locfdr 1.1-8 3.4.4
locfit 1.5-9.1 3.4.4
log4r 0.2 3.4.4
logging 0.7-103 3.4.4
logicFS 1.48.0 3.4.4
LogicReg 1.5.9 3.4.4
logistf 1.22 3.4.4
logspline 2.1.9 3.4.4
lokern 1.1-8 3.4.4
LOLA 1.8.0 3.4.4
longitudinal 1.1.12 3.4.4
LowMACAAnnotation 0.99.3 3.4.4
LPE 1.52.0 3.4.4
lpSolve 5.6.13 3.4.4
lpSolveAPI 5.5.2.0-17 3.4.4
lpsymphony 1.7.1 3.4.4
lsa 0.73.1 3.4.4
LSD 4.0-0 3.4.4
lsei 1.2-0 3.4.4
lsmeans 2.27-61 3.4.4
lsr 0.5 3.4.4
lubridate 1.7.4 3.4.4
lumi 2.30.0 3.4.4
lumiBarnes 1.18.0 3.4.4
lumiHumanAll.db 1.22.0 3.4.4
lumiHumanIDMapping 1.10.1 3.4.4
LungCancerACvsSCCGEO 1.14.0 3.4.4
LungCancerLines 0.16.0 3.4.4
lungExpression 0.16.0 3.4.4
lydata 1.4.0 3.4.4
LymphoSeqDB 0.99.2 3.4.4
M3DExampleData 1.4.0 3.4.4
MAclinical 1.0-5 3.4.4
made4 1.52.0 3.4.4
MafDb.1Kgenomes.phase1.hs37d5 3.6.0 3.4.4
maftools 1.4.28 3.4.4
magic 1.5-8 3.4.4
magicaxis 2.0.3 3.4.4
magrittr 1.5 3.4.4
makecdfenv 1.54.0 3.4.4
MALDIquant 1.17 3.4.4
MALDIquantForeign 0.11.1 3.4.4
manipulate 1.0.1 3.4.4
manipulateWidget 0.9.0 3.4.4
mAPKLData 1.10.0 3.4.4
mapproj 1.2.6 3.4.4
maps 3.3.0 3.4.4
maptools 0.9-2 3.4.4
maptpx 1.9-2 3.4.4
maqcExpression4plex 1.22.0 3.4.4
MAQCsubset 1.16.0 3.4.4
MAQCsubsetAFX 1.16.0 3.4.4
markdown 0.8 3.4.4
marray 1.56.0 3.4.4
maSigPro 1.50.0 3.4.4
MASS 7.3-49 3.4.4
MassSpecWavelet 1.44.0 3.4.4
MAST 1.4.1 3.4.4
Matching 4.9-2 3.4.4
matlab 1.0.2 3.4.4
Matrix 1.2-14 3.4.4
matrixcalc 1.0-3 3.4.4
MatrixModels 0.4-1 3.4.4
matrixStats 0.53.1 3.4.4
matter 1.4.1 3.4.4
maxstat 0.7-25 3.4.4
MBA 0.0-9 3.4.4
mboost 2.8-1 3.4.4
mcbiopi 1.1.2 3.4.4
MCL 1.0 3.4.4
mclust 5.4 3.4.4
mcmc 0.9-5 3.4.4
MCMCglmm 2.25 3.4.4
MCMCpack 1.4-2 3.4.4
mda 0.4-10 3.4.4
mdqc 1.40.0 3.4.4
MEALData 1.8.0 3.4.4
MEDIPSData 1.14.0 3.4.4
MEEBOdata 1.16.0 3.4.4
mefa 3.2-7 3.4.4
memoise 1.1.0 3.4.4
MergeMaid 2.50.0 3.4.4
MeSH.Aca.eg.db 1.9.0 3.4.4
MeSH.AOR.db 1.9.0 3.4.4
MeSH.Bsu.168.eg.db 1.9.0 3.4.4
MeSH.Cel.eg.db 1.9.0 3.4.4
MeSH.db 1.9.0 3.4.4
MeSH.Hsa.eg.db 1.9.0 3.4.4
MeSH.PCR.db 1.9.0 3.4.4
MeSH.Syn.eg.db 1.9.0 3.4.4
MeSHDbi 1.14.0 3.4.4
MESS 0.5.0 3.4.4
metaArray 1.56.0 3.4.4
metafor 2.0-0 3.4.4
metagene 2.10.1 3.4.4
metagenomeSeq 1.20.1 3.4.4
metaMA 3.1.2 3.4.4
metaMSdata 1.14.0 3.4.4
metap 0.8 3.4.4
methInheritSim 1.0.0 3.4.4
methods 3.4.4 3.4.4
methyAnalysis 1.20.0 3.4.4
MethylAid 1.12.0 3.4.4
MethylAidData 1.10.0 3.4.4
methylInheritance 1.2.0 3.4.4
methylKit 1.4.1 3.4.4
methylPipe 1.12.0 3.4.4
MethylSeekR 1.18.0 3.4.4
methylumi 2.24.1 3.4.4
methyvimData 1.0.0 3.4.4
mfa 1.0.0 3.4.4
Mfuzz 2.38.0 3.4.4
mgcv 1.8-23 3.4.4
MGFM 1.12.0 3.4.4
MGFR 1.4.0 3.4.4
mgsa 1.26.0 3.4.4
mGSZ 1.0 3.4.4
mgug4104a.db 3.2.3 3.4.4
mhsmm 0.4.16 3.4.4
mi 1.0 3.4.4
mice 2.46.0 3.4.4
microbenchmark 1.4-4 3.4.4
microRNA 1.36.0 3.4.4
MIGSAdata 1.2.0 3.4.4
mime 0.5 3.4.4
minet 3.36.0 3.4.4
minfi 1.24.0 3.4.4
minfiData 0.24.0 3.4.4
minfiDataEPIC 1.4.0 3.4.4
minionSummaryData 1.8.0 3.4.4
miniUI 0.1.1 3.4.4
minpack.lm 1.2-1 3.4.4
minqa 1.2.4 3.4.4
mirbase.db 1.2.0 3.4.4
miRBaseVersions.db 0.99.5 3.4.4
miRcompData 1.8.0 3.4.4
mirna10cdf 2.18.0 3.4.4
miRNApath 1.38.0 3.4.4
miRNAtap 1.12.0 3.4.4
miRNAtap.db 0.99.10 3.4.4
miRNATarget 1.16.0 3.4.4
misc3d 0.8-4 3.4.4
miscTools 0.6-22 3.4.4
missForest 1.4 3.4.4
missMethyl 1.12.0 3.4.4
mitoODEdata 1.14.0 3.4.4
mixsmsn 1.1-4 3.4.4
mixtools 1.1.0 3.4.4
mlbench 2.1-1 3.4.4
MLInterfaces 1.58.1 3.4.4
MLP 1.26.0 3.4.4
MMDiff2 1.6.0 3.4.4
MMDiffBamSubset 1.14.0 3.4.4
mnormt 1.5-5 3.4.4
modeest 2.1 3.4.4
ModelMetrics 1.1.0 3.4.4
modeltools 0.2-21 3.4.4
MoExExonProbesetLocation 1.15.0 3.4.4
mogene10sttranscriptcluster.db 8.7.0 3.4.4
moments 0.14 3.4.4
monocle 2.6.4 3.4.4
mosaicsExample 1.16.0 3.4.4
MotifDb 1.20.0 3.4.4
motifmatchr 1.0.1 3.4.4
motifRG 1.22.0 3.4.4
motifStack 1.22.4 3.4.4
MotIV 1.34.0 3.4.4
mouse4302.db 3.2.3 3.4.4
mouse4302cdf 2.18.0 3.4.4
mouse4302frmavecs 1.5.0 3.4.4
mpm 1.0-22 3.4.4
mRMRe 2.0.7 3.4.4
msa 1.10.0 3.4.4
msd16s 0.112.0 3.4.4
msdata 0.18.0 3.4.4
MSGFgui 1.12.0 3.4.4
MSGFplus 1.12.0 3.4.4
msgps 1.3 3.4.4
msm 1.6.6 3.4.4
msmsEDA 1.16.0 3.4.4
msmsTests 1.16.0 3.4.4
MSnbase 2.4.2 3.4.4
MSnID 1.12.1 3.4.4
msPurityData 1.6.0 3.4.4
msqc1 1.6.0 3.4.4
MSstats 3.10.6 3.4.4
mtbls2 1.8.0 3.4.4
MUGAExampleData 0.112.0 3.4.4
Mulcom 1.28.0 3.4.4
multcomp 1.4-8 3.4.4
MultiAssayExperiment 1.4.9 3.4.4
multicool 0.1-10 3.4.4
MultiDataSet 1.6.0 3.4.4
multtest 2.34.0 3.4.4
munsell 0.4.3 3.4.4
Mus.musculus 1.3.1 3.4.4
muStat 1.7.0 3.4.4
MVCClass 1.52.0 3.4.4
mvoutData 1.14.0 3.4.4
mvoutlier 2.0.9 3.4.4
mvtnorm 1.0-7 3.4.4
MWASTools 1.2.0 3.4.4
mygene 1.14.0 3.4.4
mzID 1.16.0 3.4.4
mzR 2.12.0 3.4.4
nabor 0.4.7 3.4.4
NADA 1.6-1 3.4.4
natserv 0.1.4 3.4.4
nbconvertR 1.0.2 3.4.4
NBPSeq 0.3.0 3.4.4
ncdf4 1.16 3.4.4
ncdfFlow 2.24.0 3.4.4
NCIgraph 1.26.0 3.4.4
nem 2.52.0 3.4.4
network 1.13.0.1 3.4.4
networkBMA 2.18.0 3.4.4
networkD3 0.4 3.4.4
NGScopyData 0.112.0 3.4.4
NISTunits 1.0.1 3.4.4
nlcv 0.3.2 3.4.4
nleqslv 3.3.1 3.4.4
nlme 3.1-137 3.4.4
nloptr 1.0.4 3.4.4
NLP 0.1-11 3.4.4
nls2 0.2 3.4.4
NMF 0.21.0 3.4.4
NMFN 2.0 3.4.4
nnet 7.3-12 3.4.4
nnls 1.4 3.4.4
NOISeq 2.22.1 3.4.4
nor1mix 1.2-3 3.4.4
norm 1.0-9.5 3.4.4
nortest 1.0-4 3.4.4
Nozzle.R1 1.1-1 3.4.4
nucleoSim 1.6.0 3.4.4
numDeriv 2016.8-1 3.4.4
objectProperties 0.6.5 3.4.4
objectSignals 0.10.2 3.4.4
OceanView 1.0.4 3.4.4
oligo 1.42.0 3.4.4
oligoClasses 1.40.0 3.4.4
oligoData 1.8.0 3.4.4
OLIN 1.56.0 3.4.4
omicade4 1.18.0 3.4.4
OnassisJavaLibs 1.0.0 3.4.4
Oncotree 0.3.3 3.4.4
ontoCAT 1.30.0 3.4.4
ontologyIndex 2.4 3.4.4
ontoProc 1.0.0 3.4.4
openCyto 1.16.1 3.4.4
openPrimeR 1.0.4 3.4.4
openssl 1.0.1 3.4.4
openxlsx 4.0.17 3.4.4
optextras 2016-8.8 3.4.4
optimx 2013.8.7 3.4.4
optparse 1.4.4 3.4.4
ORCME 2.0.2 3.4.4
ore 1.6.0 3.4.4
org.Ag.eg.db 3.5.0 3.4.4
org.At.tair.db 3.5.0 3.4.4
org.Bt.eg.db 3.5.0 3.4.4
org.Ce.eg.db 3.5.0 3.4.4
org.Cf.eg.db 3.5.0 3.4.4
org.Dm.eg.db 3.5.0 3.4.4
org.Dr.eg.db 3.5.0 3.4.4
org.EcK12.eg.db 3.5.0 3.4.4
org.Gg.eg.db 3.5.0 3.4.4
org.Hs.eg.db 3.5.0 3.4.4
org.Mm.eg.db 3.5.0 3.4.4
org.Mmu.eg.db 3.5.0 3.4.4
org.Pt.eg.db 3.5.0 3.4.4
org.Rn.eg.db 3.5.0 3.4.4
org.Sc.sgd.db 3.5.0 3.4.4
org.Ss.eg.db 3.5.0 3.4.4
org.Xl.eg.db 3.5.0 3.4.4
OrganismDbi 1.20.0 3.4.4
OrgMassSpecR 0.5-3 3.4.4
ORIClust 1.0-1 3.4.4
orQA 0.2.1 3.4.4
OTUbase 1.28.0 3.4.4
outliers 0.14 3.4.4
PADOG 1.20.0 3.4.4
pairsD3 0.1.0 3.4.4
pamr 1.55 3.4.4
pander 0.6.1 3.4.4
PANR 1.24.0 3.4.4
PANTHER.db 1.0.4 3.4.4
parallel 3.4.4 3.4.4
parathyroidSE 1.16.0 3.4.4
parcor 0.2-6 3.4.4
parmigene 1.0.2 3.4.4
parody 1.36.0 3.4.4
party 1.2-4 3.4.4
partykit 1.2-0 3.4.4
pasilla 1.6.0 3.4.4
pasillaBamSubset 0.16.0 3.4.4
PasillaTranscriptExpr 1.6.0 3.4.4
PathNetData 1.14.0 3.4.4
pathological 0.1-2 3.4.4
pathprint 1.6.0 3.4.4
pathprintGEOData 1.4.0 3.4.4
pathview 1.18.2 3.4.4
paxtoolsr 1.12.0 3.4.4
pbapply 1.3-4 3.4.4
pbcmc 1.6.0 3.4.4
pbivnorm 0.6.0 3.4.4
pbkrtest 0.4-7 3.4.4
pcaExplorer 2.4.0 3.4.4
pcaGoPromoter.Hs.hg19 1.14.0 3.4.4
pcaGoPromoter.Mm.mm9 1.14.0 3.4.4
pcaGoPromoter.Rn.rn4 1.14.0 3.4.4
pcalg 2.5-0 3.4.4
pcaMethods 1.70.0 3.4.4
pcaPP 1.9-73 3.4.4
PCHiCdata 1.6.0 3.4.4
PCIT 1.5-3 3.4.4
pcxn 2.0.0 3.4.4
pcxnData 2.0.0 3.4.4
pd.atdschip.tiling 0.16.0 3.4.4
pd.charm.hg18.example 0.99.4 3.4.4
pd.genomewidesnp.5 3.14.1 3.4.4
pd.genomewidesnp.6 3.14.1 3.4.4
pd.hg.u95a 3.12.0 3.4.4
pd.hg.u95av2 3.12.0 3.4.4
pd.hg18.60mer.expr 3.12.0 3.4.4
pd.huex.1.0.st.v2 3.14.1 3.4.4
pd.hugene.1.0.st.v1 3.14.1 3.4.4
pd.mapping250k.nsp 3.12.0 3.4.4
pd.mapping250k.sty 3.12.0 3.4.4
pd.mapping50k.hind240 3.12.0 3.4.4
pd.mapping50k.xba240 3.12.0 3.4.4
pdInfoBuilder 1.42.0 3.4.4
pdist 1.2 3.4.4
PECA 1.14.0 3.4.4
penalized 0.9-50 3.4.4
pepDat 0.112.0 3.4.4
PerfMeas 1.2.1 3.4.4
permute 0.9-4 3.4.4
PFAM.db 3.5.0 3.4.4
PGSEA 1.52.0 3.4.4
phangorn 2.4.0 3.4.4
phastCons100way.UCSC.hg19 3.6.0 3.4.4
pheatmap 1.0.8 3.4.4
phenopath 1.2.0 3.4.4
phenoTest 1.26.0 3.4.4
phylobase 0.8.4 3.4.4
phyloseq 1.22.3 3.4.4
piano 1.18.1 3.4.4
picante 1.6-2 3.4.4
PICS 2.22.0 3.4.4
pillar 1.2.1 3.4.4
pingr 1.1.2 3.4.4
pixmap 0.4-11 3.4.4
pkgconfig 2.0.1 3.4.4
pkgmaker 0.22 3.4.4
plasFIA 1.6.0 3.4.4
plasmodiumanophelescdf 2.18.0 3.4.4
plier 1.48.0 3.4.4
plogr 0.2.0 3.4.4
plot3D 1.1.1 3.4.4
plot3Drgl 1.0.1 3.4.4
plotly 4.7.1 3.4.4
plotmo 3.3.6 3.4.4
plotrix 3.7 3.4.4
pls 2.6-0 3.4.4
plsgenomics 1.5-1 3.4.4
plspm 0.4.9 3.4.4
plsVarSel 0.9.4 3.4.4
plyr 1.8.4 3.4.4
PMA 1.0.9 3.4.4
PMCMR 4.2 3.4.4
png 0.1-7 3.4.4
PoiClaClu 1.0.2 3.4.4
poilog 0.4 3.4.4
polspline 1.1.12 3.4.4
polyclip 1.6-1 3.4.4
polynom 1.3-9 3.4.4
PolynomF 1.0-1 3.4.4
PolyPhen.Hsapiens.dbSNP131 1.0.2 3.4.4
poweRlaw 0.70.1 3.4.4
ppcor 1.1 3.4.4
ppiData 0.16.0 3.4.4
ppiStats 1.44.0 3.4.4
ppls 1.6-1 3.4.4
prabclus 2.2-6 3.4.4
pracma 2.1.4 3.4.4
prada 1.54.0 3.4.4
praise 1.0.0 3.4.4
prebsdata 1.14.0 3.4.4
precrec 0.9.1 3.4.4
PREDA 1.24.0 3.4.4
PREDAsampledata 0.18.0 3.4.4
preprocessCore 1.40.0 3.4.4
prettydoc 0.2.1 3.4.4
prettyunits 1.0.2 3.4.4
princurve 1.1-12 3.4.4
printr 0.1 3.4.4
pROC 1.11.0 3.4.4
processx 2.0.0.1 3.4.4
prodlim 1.6.1 3.4.4
proFIA 1.4.0 3.4.4
profileModel 0.5-9 3.4.4
profmem 0.5.0 3.4.4
progress 1.1.2 3.4.4
pRoloc 1.18.0 3.4.4
pRolocdata 1.16.0 3.4.4
PROMISE 1.30.0 3.4.4
ProNet 1.0.0 3.4.4
Prostar 1.10.5 3.4.4
ProtGenerics 1.10.0 3.4.4
protiq 1.2 3.4.4
proto 1.0.0 3.4.4
protViz 0.2.45 3.4.4
proxy 0.4-22 3.4.4
prozor 0.2.3 3.4.4
pryr 0.1.4 3.4.4
PSCBS 0.63.0 3.4.4
pscl 1.5.2 3.4.4
PSICQUIC 1.16.4 3.4.4
pspline 1.0-18 3.4.4
psych 1.8.3.3 3.4.4
psygenet2r 1.10.0 3.4.4
PtH2O2lipids 1.4.0 3.4.4
ptw 1.9-12 3.4.4
puma 3.20.0 3.4.4
pumadata 2.14.0 3.4.4
purrr 0.2.4 3.4.4
pvclust 2.0-0 3.4.4
Pviz 1.12.0 3.4.4
PWMEnrich 4.14.0 3.4.4
PWMEnrich.Dmelanogaster.background 4.12.0 3.4.4
PWMEnrich.Hsapiens.background 4.12.0 3.4.4
PWMEnrich.Mmusculus.background 4.12.0 3.4.4
qap 0.1-1 3.4.4
qcmetrics 1.16.0 3.4.4
QDNAseq 1.14.0 3.4.4
qgraph 1.4.4 3.4.4
qlcMatrix 0.9.5 3.4.4
qpcR 1.4-0 3.4.4
qpcrNorm 1.36.0 3.4.4
qpgraph 2.12.0 3.4.4
qqman 0.1.4 3.4.4
qtl 1.42-8 3.4.4
QTLRel 1.0 3.4.4
quadprog 1.5-5 3.4.4
quantmod 0.4-12 3.4.4
quantreg 5.35 3.4.4
quantro 1.12.0 3.4.4
quantsmooth 1.44.0 3.4.4
QUBIC 1.6.4 3.4.4
QUBICdata 1.6.0 3.4.4
questionr 0.6.2 3.4.4
qusage 2.12.0 3.4.4
qvalue 2.10.0 3.4.4
R.cache 0.13.0 3.4.4
R.devices 2.15.1 3.4.4
R.filesets 2.12.1 3.4.4
R.huge 0.9.0 3.4.4
R.matlab 3.6.1 3.4.4
R.methodsS3 1.7.1 3.4.4
R.oo 1.21.0 3.4.4
R.rsp 0.42.0 3.4.4
R.utils 2.6.0 3.4.4
R2HTML 2.3.2 3.4.4
R6 2.2.2 3.4.4
radiant.data 0.8.1 3.4.4
rae230a.db 3.2.3 3.4.4
rae230aprobe 2.18.0 3.4.4
RaExExonProbesetLocation 1.15.0 3.4.4
ragene10sttranscriptcluster.db 8.7.0 3.4.4
RaggedExperiment 1.2.5 3.4.4
rama 1.52.0 3.4.4
randomForest 4.6-14 3.4.4
randomForestSRC 2.5.1 3.4.4
ranger 0.9.0 3.4.4
RankProd 3.4.0 3.4.4
RANN 2.5.1 3.4.4
rappdirs 0.3.1 3.4.4
rARPACK 0.11-0 3.4.4
raster 2.6-7 3.4.4
rat2302.db 3.2.3 3.4.4
Rattus.norvegicus 1.3.1 3.4.4
rbamtools 2.16.6 3.4.4
rbenchmark 1.0.0 3.4.4
RBGL 1.54.0 3.4.4
rBiopaxParser 2.18.0 3.4.4
rbokeh 0.5.0 3.4.4
Rbowtie 1.18.0 3.4.4
Rbowtie2 1.0.2 3.4.4
rcdk 3.4.5 3.4.4
rcdklibs 2.0 3.4.4
rcellminer 2.0.0 3.4.4
rcellminerData 2.0.0 3.4.4
Rcgmin 2013-2.21 3.4.4
rChoiceDialogs 1.0.6 3.4.4
RCircos 1.2.0 3.4.4
RColorBrewer 1.1-2 3.4.4
Rcpp 0.12.16 3.4.4
RcppAnnoy 0.0.10 3.4.4
RcppArmadillo 0.8.400.0.0 3.4.4
RcppClassic 0.9.9 3.4.4
RcppEigen 0.3.3.4.0 3.4.4
RcppParallel 4.4.0 3.4.4
RcppProgress 0.4 3.4.4
RcppRoll 0.2.2 3.4.4
Rcsdp 0.1.55 3.4.4
RCurl 1.95-4.10 3.4.4
RCy3 1.8.0 3.4.4
rda 1.0.2-2 3.4.4
RDAVIDWebService 1.16.0 3.4.4
Rdisop 1.38.0 3.4.4
rdrop2 0.8.1 3.4.4
reactome.db 1.62.0 3.4.4
ReactomePA 1.22.0 3.4.4
readbitmap 0.1-4 3.4.4
readBrukerFlexData 1.8.5 3.4.4
readMzXmlData 2.8.1 3.4.4
ReadqPCR 1.24.0 3.4.4
readr 1.1.1 3.4.4
readxl 1.0.0 3.4.4
rebus 0.1-3 3.4.4
rebus.base 0.0-3 3.4.4
rebus.datetimes 0.0-1 3.4.4
rebus.numbers 0.0-1 3.4.4
rebus.unicode 0.0-2 3.4.4
recipes 0.1.2 3.4.4
RecordLinkage 0.4-10 3.4.4
RedeR 1.26.0 3.4.4
RefFreeEWAS 2.1 3.4.4
refGenome 1.7.3 3.4.4
RefManageR 0.14.20 3.4.4
RefNet 1.14.0 3.4.4
regioneR 1.10.0 3.4.4
regionReport 1.12.2 3.4.4
registry 0.5 3.4.4
regress 1.3-15 3.4.4
relations 0.6-7 3.4.4
relimp 1.0-5 3.4.4
rematch 1.0.1 3.4.4
rentrez 1.2.1 3.4.4
ReorderCluster 1.0 3.4.4
ReportingTools 2.17.3 3.4.4
reportr 1.2.2 3.4.4
reshape 0.8.7 3.4.4
reshape2 1.4.3 3.4.4
restfulSE 1.0.2 3.4.4
reticulate 1.6 3.4.4
reutils 0.2.3 3.4.4
rex 1.1.2 3.4.4
rexposome 1.0.0 3.4.4
RFOC 3.4-6 3.4.4
RforProteomics 1.15.0 3.4.4
rGADEM 2.26.0 3.4.4
rgeos 0.3-26 3.4.4
rgexf 0.15.3 3.4.4
rggobi 2.1.21 3.4.4
rgl 0.99.16 3.4.4
Rgraphviz 2.22.0 3.4.4
RGtk2 2.20.34 3.4.4
rhandsontable 0.3.6 3.4.4
rhdf5 2.22.0 3.4.4
rhdf5client 1.0.7 3.4.4
Rhdf5lib 1.0.0 3.4.4
RhpcBLASctl 0.18-12 3.4.4
Rhtslib 1.10.0 3.4.4
Ringo 1.42.1 3.4.4
rintrojs 0.2.0 3.4.4
rio 0.5.10 3.4.4
rioja 0.9-15.1 3.4.4
RIPSeeker 1.18.0 3.4.4
Risa 1.20.0 3.4.4
RISmed 2.1.7 3.4.4
RITANdata 1.2.0 3.4.4
ritis 0.7.0 3.4.4
rjags 4-6 3.4.4
rJava 0.9-9 3.4.4
rjson 0.2.15 3.4.4
RJSONIO 1.3-0 3.4.4
Rlab 2.15.1 3.4.4
Rlabkey 2.2.1 3.4.4
rlang 0.2.0 3.4.4
rlecuyer 0.3-4 3.4.4
rlist 0.4.6.1 3.4.4
RMallow 1.0 3.4.4
rmarkdown 1.9 3.4.4
RMassBank 2.6.0 3.4.4
RMassBankData 1.16.0 3.4.4
rmeta 3.0 3.4.4
RmiR 1.34.0 3.4.4
RmiR.Hs.miRNA 1.0.7 3.4.4
Rmixmod 2.1.1 3.4.4
Rmpfr 0.7-0 3.4.4
Rmpi 0.6-7 3.4.4
rms 5.1-2 3.4.4
RMTstat 0.3 3.4.4
RMySQL 0.10.14 3.4.4
RNAinteract 1.26.0 3.4.4
RNAinteractMAPK 1.16.0 3.4.4
RNAseqData.HNRNPC.bam.chr14 0.16.0 3.4.4
rnaSeqMap 2.36.0 3.4.4
RnaSeqSampleSizeData 1.10.0 3.4.4
RnaSeqTutorial 0.16.0 3.4.4
RnBeads 1.10.8 3.4.4
RnBeads.hg19 1.10.0 3.4.4
rncl 0.8.2 3.4.4
RNeXML 2.0.8 3.4.4
rngtools 1.2.4 3.4.4
roar 1.14.0 3.4.4
robCompositions 2.0.7 3.4.4
robust 0.4-18 3.4.4
robustbase 0.92-8 3.4.4
RobustRankAggreg 1.1 3.4.4
ROC 1.54.0 3.4.4
ROCR 1.0-7 3.4.4
Roleswitch 1.16.0 3.4.4
rols 2.6.1 3.4.4
ROntoTools 2.6.0 3.4.4
Rook 1.1-1 3.4.4
rootSolve 1.7 3.4.4
ropls 1.10.0 3.4.4
rotl 3.0.4 3.4.4
ROTS 1.6.0 3.4.4
roxygen2 6.0.1 3.4.4
RPA 1.34.0 3.4.4
rpart 4.1-13 3.4.4
rphast 1.6.9 3.4.4
RPMG 2.2-2 3.4.4
RPMM 1.25 3.4.4
RPostgreSQL 0.6-2 3.4.4
rprojroot 1.3-2 3.4.4
RProtoBuf 0.4.11 3.4.4
RProtoBufLib 1.0.2 3.4.4
RpsiXML 2.20.0 3.4.4
rpx 1.14.0 3.4.4
rrcov 1.4-3 3.4.4
rRDP 1.12.0 3.4.4
rRDPData 0.112.0 3.4.4
rredlist 0.4.0 3.4.4
Rsamtools 1.30.0 3.4.4
rsbml 2.36.0 3.4.4
RSEIS 3.7-8 3.4.4
Rserve 1.7-3 3.4.4
rSFFreader 0.26.0 3.4.4
rsm 2.9 3.4.4
Rsolnp 1.16 3.4.4
RSpectra 0.12-0 3.4.4
RSQLite 2.1.0 3.4.4
rstan 2.17.3 3.4.4
rstudioapi 0.7 3.4.4
Rsubread 1.28.1 3.4.4
rsvd 0.9 3.4.4
RSVGTipsDevice 1.0-7 3.4.4
rTANDEM 1.18.0 3.4.4
RTCGA 1.8.0 3.4.4
RTCGA.clinical 20151101.8.0 3.4.4
RTCGA.CNV 1.6.0 3.4.4
RTCGA.methylation 1.6.0 3.4.4
RTCGA.miRNASeq 1.6.0 3.4.4
RTCGA.mRNA 1.6.0 3.4.4
RTCGA.mutations 20151101.8.0 3.4.4
RTCGA.PANCAN12 1.6.0 3.4.4
RTCGA.rnaseq 20151101.8.0 3.4.4
RTCGA.RPPA 1.6.0 3.4.4
RTCGAToolbox 2.8.0 3.4.4
rtfbs 0.3.9 3.4.4
RTN 2.2.0 3.4.4
RTNduals 1.2.0 3.4.4
rtracklayer 1.38.3 3.4.4
rTRM 1.16.0 3.4.4
Rtsne 0.13 3.4.4
Rttf2pt1 1.3.6 3.4.4
RUnit 0.4.31 3.4.4
ruv 0.9.7 3.4.4
RUVnormalizeData 0.112.0 3.4.4
RUVSeq 1.12.0 3.4.4
rvcheck 0.0.9 3.4.4
rvest 0.3.2 3.4.4
Rvmmin 2017-7.18 3.4.4
Rwave 2.4-8 3.4.4
RWeka 0.4-37 3.4.4
RWekajars 3.9.2-1 3.4.4
S4Vectors 0.16.0 3.4.4
safe 3.18.0 3.4.4
sampleClassifierData 1.2.0 3.4.4
sampling 2.8 3.4.4
samr 2.0 3.4.4
SamSPECTRAL 1.32.0 3.4.4
sandwich 2.4-0 3.4.4
sangerseqR 1.14.0 3.4.4
scales 0.5.0 3.4.4
scater 1.6.3 3.4.4
scatterplot3d 0.3-41 3.4.4
scDD 1.2.0 3.4.4
ScISI 1.50.0 3.4.4
SCLCBam 1.10.0 3.4.4
scran 1.6.9 3.4.4
scrime 1.3.3 3.4.4
scRNAseq 1.4.0 3.4.4
sda 1.3.7 3.4.4
SDMTools 1.1-221 3.4.4
SearchTrees 0.5.2 3.4.4
segmented 0.5-3.0 3.4.4
selectr 0.4-1 3.4.4
sem 3.1-9 3.4.4
sendmailR 1.2-1 3.4.4
seq2pathway.data 1.10.0 3.4.4
SeqArray 1.18.2 3.4.4
seqbias 1.26.0 3.4.4
seqCNA.annot 1.14.0 3.4.4
seqinr 3.4-5 3.4.4
seqLogo 1.44.0 3.4.4
seqPattern 1.10.0 3.4.4
SeqVarTools 1.16.1 3.4.4
seriation 1.2-3 3.4.4
serumStimulation 1.14.0 3.4.4
setRNG 2013.9-1 3.4.4
sets 1.0-18 3.4.4
settings 0.2.4 3.4.4
Seurat 2.3.0 3.4.4
sfsmisc 1.1-2 3.4.4
sgeostat 1.0-27 3.4.4
SGSeq 1.12.0 3.4.4
shades 1.1.0 3.4.4
shape 1.4.4 3.4.4
shiny 1.0.5 3.4.4
shinyAce 0.2.1 3.4.4
shinyBS 0.61 3.4.4
shinydashboard 0.7.0 3.4.4
shinyFiles 0.6.2 3.4.4
shinyjs 1.0 3.4.4
shinyMethylData 0.112.0 3.4.4
shinythemes 1.1.1 3.4.4
ShortRead 1.36.1 3.4.4
showtext 0.5-1 3.4.4
showtextdb 2.0 3.4.4
SIFT.Hsapiens.dbSNP132 1.0.2 3.4.4
SIFT.Hsapiens.dbSNP137 1.0.0 3.4.4
sigaR 1.26.0 3.4.4
sigclust 1.1.0 3.4.4
siggenes 1.52.0 3.4.4
signal 0.7-6 3.4.4
sigPathway 1.46.0 3.4.4
similaRpeak 1.10.0 3.4.4
simpIntLists 1.14.0 3.4.4
simpleaffy 2.54.0 3.4.4
simulatorZ 1.12.0 3.4.4
SingleCellExperiment 1.0.0 3.4.4
sizepower 1.48.0 3.4.4
slam 0.1-42 3.4.4
SLGI 1.38.0 3.4.4
SLqPCR 1.44.0 3.4.4
sm 2.2-5.4 3.4.4
SmartSVA 0.1.3 3.4.4
smatr 3.4-8 3.4.4
sme 1.0.2 3.4.4
smoother 1.1 3.4.4
smoothie 1.0-1 3.4.4
smoothmest 0.1-2 3.4.4
SmoothWin 1.0.0 3.4.4
SMVar 1.3.3 3.4.4
sn 1.5-1 3.4.4
sna 2.4 3.4.4
SNAGEE 1.18.0 3.4.4
SNAGEEdata 1.14.0 3.4.4
snapCGH 1.48.0 3.4.4
SNFtool 2.2.1 3.4.4
snm 1.26.0 3.4.4
snow 0.4-2 3.4.4
SnowballC 0.5.1 3.4.4
snowfall 1.84-6.1 3.4.4
SNPassoc 1.9-2 3.4.4
SNPchip 2.24.0 3.4.4
SNPhoodData 1.8.0 3.4.4
SNPlocs.Hsapiens.dbSNP.20101109 0.99.7 3.4.4
SNPlocs.Hsapiens.dbSNP.20120608 0.99.11 3.4.4
SNPlocs.Hsapiens.dbSNP141.GRCh38 0.99.11 3.4.4
SNPlocs.Hsapiens.dbSNP142.GRCh37 0.99.5 3.4.4
SNPlocs.Hsapiens.dbSNP144.GRCh37 0.99.20 3.4.4
SNPlocs.Hsapiens.dbSNP144.GRCh38 0.99.20 3.4.4
SNPlocs.Hsapiens.dbSNP150.GRCh38 0.99.20 3.4.4
SNPRelate 1.12.2 3.4.4
snpStats 1.28.0 3.4.4
softImpute 1.4 3.4.4
soGGi 1.10.0 3.4.4
solrium 1.0.0 3.4.4
som 0.3-5.1 3.4.4
SomaticCancerAlterations 1.14.0 3.4.4
SomaticSignatures 2.14.0 3.4.4
sonicLength 1.4.4 3.4.4
sourcetools 0.1.6 3.4.4
sp 1.2-7 3.4.4
SpacePAC 1.16.0 3.4.4
spam 2.1-3 3.4.4
SPARQL 1.16 3.4.4
sparsediscrim 0.2.4 3.4.4
sparseLDA 0.1-9 3.4.4
SparseM 1.77 3.4.4
sparseMVN 0.2.1.1 3.4.4
spatial 7.3-11 3.4.4
SpatialExtremes 2.0-6 3.4.4
SpatialTools 1.0.2 3.4.4
spatstat 1.55-1 3.4.4
spatstat.data 1.2-0 3.4.4
spatstat.utils 1.8-0 3.4.4
spBayes 0.4-1 3.4.4
spData 0.2.8.3 3.4.4
spdep 0.7-7 3.4.4
specL 1.12.0 3.4.4
speedglm 0.3-2 3.4.4
SPEM 1.18.0 3.4.4
SPIA 2.30.0 3.4.4
SpidermiR 1.8.2 3.4.4
SpikeIn 1.20.0 3.4.4
SpikeInSubset 1.18.0 3.4.4
splancs 2.01-40 3.4.4
spliceR 1.20.0 3.4.4
splines 3.4.4 3.4.4
splitstackshape 1.4.4 3.4.4
splots 1.44.0 3.4.4
spls 2.2-2 3.4.4
splus2R 1.2-2 3.4.4
sqldf 0.4-11 3.4.4
SQN 1.0.5 3.4.4
SQUAREM 2017.10-1 3.4.4
squash 1.0.8 3.4.4
SRAdb 1.40.0 3.4.4
sROC 0.1-2 3.4.4
ssize 1.52.0 3.4.4
st 1.2.5 3.4.4
stabledist 0.7-1 3.4.4
stabs 0.6-3 3.4.4
StanHeaders 2.17.2 3.4.4
Starr 1.34.0 3.4.4
startupmsg 0.9.4 3.4.4
statmod 1.4.30 3.4.4
statnet.common 4.0.0 3.4.4
stats 3.4.4 3.4.4
stats4 3.4.4 3.4.4
stemHypoxia 1.14.0 3.4.4
stjudem 1.18.0 3.4.4
Streamer 1.24.0 3.4.4
STRINGdb 1.18.0 3.4.4
stringdist 0.9.4.7 3.4.4
stringi 1.1.7 3.4.4
stringr 1.3.0 3.4.4
strucchange 1.5-1 3.4.4
SummarizedExperiment 1.8.1 3.4.4
superheat 0.1.0 3.4.4
SuperLearner 2.0-23 3.4.4
superpc 1.09 3.4.4
SuppDists 1.1-9.4 3.4.4
supraHex 1.16.0 3.4.4
survcomp 1.28.5 3.4.4
survey 3.33-2 3.4.4
survival 2.41-3 3.4.4
survivalROC 1.0.3 3.4.4
survminer 0.4.2 3.4.4
survMisc 0.5.4 3.4.4
Sushi 1.16.0 3.4.4
sva 3.26.0 3.4.4
svd 0.4.1 3.4.4
svDialogs 0.9-57 3.4.4
svGUI 0.9-55 3.4.4
SVM2CRMdata 1.10.0 3.4.4
svMisc 1.0-2 3.4.4
svUnit 0.7-12 3.4.4
SweaveListingUtils 0.7.7 3.4.4
synapter 2.2.0 3.4.4
synapterdata 1.16.0 3.4.4
sysfonts 0.7.2 3.4.4
systemPipeR 1.12.0 3.4.4
targetscan.Hs.eg.db 0.6.1 3.4.4
targetscan.Mm.eg.db 0.6.1 3.4.4
TargetScore 1.16.0 3.4.4
TargetScoreData 1.14.0 3.4.4
TargetSearch 1.34.0 3.4.4
TargetSearchData 1.16.0 3.4.4
taxize 0.9.3 3.4.4
TCC 1.18.0 3.4.4
TCGAbiolinks 2.6.12 3.4.4
TCGAMethylation450k 1.14.0 3.4.4
tcltk 3.4.4 3.4.4
tcltk2 1.2-11 3.4.4
tclust 1.3-1 3.4.4
TeachingDemos 2.10 3.4.4
tensor 1.5 3.4.4
tensorA 0.36 3.4.4
test3cdf 2.18.0 3.4.4
tester 0.1.7 3.4.4
testthat 2.0.0 3.4.4
TFBSTools 1.16.0 3.4.4
TFMPvalue 0.0.6 3.4.4
TH.data 1.0-8 3.4.4
threejs 0.3.1 3.4.4
tibble 1.4.2 3.4.4
tidyr 0.8.0 3.4.4
tidyselect 0.2.4 3.4.4
tiff 0.1-5 3.4.4
tilingArray 1.56.0 3.4.4
timeDate 3043.102 3.4.4
timeSeries 3042.102 3.4.4
timsac 1.3.6 3.4.4
tinesath1cdf 1.16.0 3.4.4
tinytex 0.4 3.4.4
tkrgl 0.7 3.4.4
tkrplot 0.0-23 3.4.4
tkWidgets 1.56.0 3.4.4
tm 0.7-3 3.4.4
TMB 1.7.13 3.4.4
tmle 1.3.0-1 3.4.4
tmvnsim 1.0-2 3.4.4
tmvtnorm 1.4-10 3.4.4
tofsimsData 1.6.0 3.4.4
tools 3.4.4 3.4.4
topdownr 1.0.0 3.4.4
topdownrdata 1.0.0 3.4.4
topGO 2.30.1 3.4.4
topicmodels 0.2-7 3.4.4
topologyGSA 1.4.6 3.4.4
trackViewer 1.14.1 3.4.4
tractor.base 3.2.2 3.4.4
tree 1.0-39 3.4.4
treeio 1.2.2 3.4.4
triebeard 0.3.0 3.4.4
trimcluster 0.1-2 3.4.4
truncnorm 1.0-8 3.4.4
tseries 0.10-43 3.4.4
tsne 0.1-3 3.4.4
TSP 1.1-5 3.4.4
tspair 1.36.0 3.4.4
TTR 0.23-3 3.4.4
turner 0.1.7 3.4.4
tweeDEseqCountData 1.16.0 3.4.4
tweenr 0.1.5 3.4.4
twilight 1.54.0 3.4.4
TxDb.Athaliana.BioMart.plantsmart22 3.0.1 3.4.4
TxDb.Celegans.UCSC.ce6.ensGene 3.2.2 3.4.4
TxDb.Dmelanogaster.UCSC.dm3.ensGene 3.2.2 3.4.4
TxDb.Dmelanogaster.UCSC.dm6.ensGene 3.4.1 3.4.4
TxDb.Drerio.UCSC.danRer10.refGene 3.4.2 3.4.4
TxDb.Hsapiens.UCSC.hg18.knownGene 3.2.2 3.4.4
TxDb.Hsapiens.UCSC.hg19.knownGene 3.2.2 3.4.4
TxDb.Hsapiens.UCSC.hg19.lincRNAsTranscripts 3.2.2 3.4.4
TxDb.Hsapiens.UCSC.hg38.knownGene 3.4.0 3.4.4
TxDb.Mmusculus.UCSC.mm10.ensGene 3.4.0 3.4.4
TxDb.Mmusculus.UCSC.mm10.knownGene 3.4.0 3.4.4
TxDb.Mmusculus.UCSC.mm9.knownGene 3.2.2 3.4.4
TxDb.Rnorvegicus.UCSC.rn4.ensGene 3.2.2 3.4.4
TxDb.Rnorvegicus.UCSC.rn5.refGene 3.4.2 3.4.4
TxDb.Rnorvegicus.UCSC.rn6.refGene 3.4.1 3.4.4
tximport 1.6.0 3.4.4
tximportData 1.6.0 3.4.4
ucminf 1.1-4 3.4.4
udunits2 0.13 3.4.4
UniProt.ws 2.18.0 3.4.4
uniqtag 1.0 3.4.4
units 0.5-1 3.4.4
UpSetR 1.3.3 3.4.4
urltools 1.7.0 3.4.4
utf8 1.1.3 3.4.4
utils 3.4.4 3.4.4
uuid 0.1-2 3.4.4
V8 1.5 3.4.4
VanillaICE 1.40.0 3.4.4
varhandle 2.0.2 3.4.4
VariantAnnotation 1.24.5 3.4.4
VariantTools 1.20.0 3.4.4
varSelRF 0.7-8 3.4.4
vbsr 0.0.5 3.4.4
vcd 1.4-4 3.4.4
vegan 2.4-6 3.4.4
venn 1.5 3.4.4
VennDiagram 1.6.20 3.4.4
verification 1.42 3.4.4
VGAM 1.0-5 3.4.4
VIM 4.7.0 3.4.4
vioplot 0.2 3.4.4
viper 1.12.0 3.4.4
vipor 0.4.5 3.4.4
viridis 0.5.1 3.4.4
viridisLite 0.3.0 3.4.4
visNetwork 2.0.3 3.4.4
vsn 3.46.0 3.4.4
vulcandata 1.0.0 3.4.4
waffle 0.7.0 3.4.4
wateRmelon 1.22.1 3.4.4
waveslim 1.7.5 3.4.4
wavethresh 4.6.8 3.4.4
waveTilingData 1.14.0 3.4.4
weaver 1.44.0 3.4.4
webshot 0.5.0 3.4.4
WES.1KG.WUGSC 1.10.0 3.4.4
wesanderson 0.3.2 3.4.4
WGCNA 1.63 3.4.4
whisker 0.3-2 3.4.4
widgetTools 1.56.0 3.4.4
WikidataR 1.4.0 3.4.4
WikipediR 1.5.0 3.4.4
wikitaxa 0.2.0 3.4.4
withr 2.1.2 3.4.4
wmtsa 2.0-3 3.4.4
wordcloud 2.5 3.4.4
worrms 0.2.0 3.4.4
WriteXLS 4.0.0 3.4.4
xcms 3.0.2 3.4.4
xfun 0.1 3.4.4
xgboost 0.6.4.1 3.4.4
XGR 1.1.2 3.4.4
xlsx 0.5.7 3.4.4
xlsxjars 0.6.1 3.4.4
Xmisc 0.2.1 3.4.4
XML 3.98-1.10 3.4.4
xml2 1.2.0 3.4.4
xtable 1.8-2 3.4.4
XtraSNPlocs.Hsapiens.dbSNP144.GRCh38 0.99.12 3.4.4
xts 0.10-2 3.4.4
XVector 0.18.0 3.4.4
yaml 2.1.18 3.4.4
yaqcaffy 1.38.0 3.4.4
yeast2.db 3.2.3 3.4.4
yeastCC 1.18.0 3.4.4
yeastExpData 0.24.0 3.4.4
yeastNagalakshmi 1.14.0 3.4.4
yeastRNASeq 0.16.0 3.4.4
zCompositions 1.1.1 3.4.4
zebrafishRNASeq 0.112.0 3.4.4
zinbwave 1.0.0 3.4.4
zlibbioc 1.24.0 3.4.4
zoo 1.8-1 3.4.4