Back to the "Build/check report"
BioC experimental data: BUILD/CHECK reports for dsQTL
This page was generated on 2017-08-15 15:10:49 -0400 (Tue, 15 Aug 2017).
Package
81
/317
Hostname
OS / Arch
INSTALL
BUILD
CHECK
BUILD BIN
dsQTL
0.15.0
VJ Carey
Snapshot Date:
2017-08-15 09:00:08 -0400 (Tue, 15 Aug 2017)
URL:
https://hedgehog.fhcrc.org/bioc-data/trunk/experiment/pkgs/dsQTL
Last Changed Rev:
4157
/ Revision:
4227
Last Changed Date:
2017-04-24 16:19:55 -0400 (Mon, 24 Apr 2017)
malbec1
Linux (Ubuntu 16.04.1 LTS) / x86_64
OK
OK
OK