Back to the "Build/check report"

BioC experimental data: BUILD/CHECK reports for DAPARdata

This page was generated on 2017-08-15 15:10:49 -0400 (Tue, 15 Aug 2017).

Package 68/317HostnameOS / ArchINSTALLBUILDCHECKBUILD BIN
DAPARdata 1.5.1
Samuel Wieczorek
Snapshot Date: 2017-08-15 09:00:08 -0400 (Tue, 15 Aug 2017)
URL: https://hedgehog.fhcrc.org/bioc-data/trunk/experiment/pkgs/DAPARdata
Last Changed Rev: 4198 / Revision: 4227
Last Changed Date: 2017-06-30 12:10:56 -0400 (Fri, 30 Jun 2017)
malbec1 Linux (Ubuntu 16.04.1 LTS) / x86_64  OK  OK  WARNINGS UNNEEDED, same version exists in internal repository