| Back to Multiple platform build/check report for BioC 3.6 |
|
This page was generated on 2018-04-12 13:37:48 -0400 (Thu, 12 Apr 2018).
| Package 1085/1472 | Hostname | OS / Arch | INSTALL | BUILD | CHECK | BUILD BIN | ||||||
| PSICQUIC 1.16.4 Paul Shannon
| malbec1 | Linux (Ubuntu 16.04.1 LTS) / x86_64 | OK | OK | WARNINGS | |||||||
| tokay1 | Windows Server 2012 R2 Standard / x64 | OK | OK | WARNINGS | OK | |||||||
| veracruz1 | OS X 10.11.6 El Capitan / x86_64 | OK | OK | WARNINGS | [ OK ] |
| Package: PSICQUIC |
| Version: 1.16.4 |
| Command: rm -rf PSICQUIC.buildbin-libdir && mkdir PSICQUIC.buildbin-libdir && /Users/biocbuild/BBS/utils/build-universal.sh PSICQUIC_1.16.4.tar.gz /Library/Frameworks/R.framework/Versions/Current/Resources/bin/R PSICQUIC.buildbin-libdir |
| StartedAt: 2018-04-12 12:02:13 -0400 (Thu, 12 Apr 2018) |
| EndedAt: 2018-04-12 12:02:22 -0400 (Thu, 12 Apr 2018) |
| EllapsedTime: 8.4 seconds |
| RetCode: 0 |
| Status: OK |
| PackageFile: PSICQUIC_1.16.4.tgz |
| PackageFileSize: 317 KiB |
############################################################################## ############################################################################## ### ### Running command: ### ### rm -rf PSICQUIC.buildbin-libdir && mkdir PSICQUIC.buildbin-libdir && /Users/biocbuild/BBS/utils/build-universal.sh PSICQUIC_1.16.4.tar.gz /Library/Frameworks/R.framework/Versions/Current/Resources/bin/R PSICQUIC.buildbin-libdir ### ############################################################################## ############################################################################## >>>>>>> >>>>>>> INSTALLATION WITH 'R CMD INSTALL --preclean --no-multiarch --library=PSICQUIC.buildbin-libdir PSICQUIC_1.16.4.tar.gz' >>>>>>> * installing *source* package ‘PSICQUIC’ ... ** R ** inst ** preparing package for lazy loading Warning: replacing previous import ‘IRanges::desc’ by ‘plyr::desc’ when loading ‘PSICQUIC’ Creating a new generic function for ‘count’ in package ‘PSICQUIC’ ** help *** installing help indices ** building package indices ** installing vignettes ** testing if installed package can be loaded Warning: replacing previous import ‘IRanges::desc’ by ‘plyr::desc’ when loading ‘PSICQUIC’ * DONE (PSICQUIC)