| Back to Multiple platform build/check report for BioC 3.6 |
|
This page was generated on 2018-04-12 13:37:50 -0400 (Thu, 12 Apr 2018).
| Package 308/1472 | Hostname | OS / Arch | INSTALL | BUILD | CHECK | BUILD BIN | ||||||
| CRISPRseek 1.18.0 Lihua Julie Zhu
| malbec1 | Linux (Ubuntu 16.04.1 LTS) / x86_64 | OK | OK | OK | |||||||
| tokay1 | Windows Server 2012 R2 Standard / x64 | OK | OK | OK | OK | |||||||
| veracruz1 | OS X 10.11.6 El Capitan / x86_64 | OK | OK | OK | [ OK ] |
| Package: CRISPRseek |
| Version: 1.18.0 |
| Command: rm -rf CRISPRseek.buildbin-libdir && mkdir CRISPRseek.buildbin-libdir && /Users/biocbuild/BBS/utils/build-universal.sh CRISPRseek_1.18.0.tar.gz /Library/Frameworks/R.framework/Versions/Current/Resources/bin/R CRISPRseek.buildbin-libdir |
| StartedAt: 2018-04-12 11:19:14 -0400 (Thu, 12 Apr 2018) |
| EndedAt: 2018-04-12 11:19:31 -0400 (Thu, 12 Apr 2018) |
| EllapsedTime: 16.8 seconds |
| RetCode: 0 |
| Status: OK |
| PackageFile: CRISPRseek_1.18.0.tgz |
| PackageFileSize: 376.5 KiB |
############################################################################## ############################################################################## ### ### Running command: ### ### rm -rf CRISPRseek.buildbin-libdir && mkdir CRISPRseek.buildbin-libdir && /Users/biocbuild/BBS/utils/build-universal.sh CRISPRseek_1.18.0.tar.gz /Library/Frameworks/R.framework/Versions/Current/Resources/bin/R CRISPRseek.buildbin-libdir ### ############################################################################## ############################################################################## >>>>>>> >>>>>>> INSTALLATION WITH 'R CMD INSTALL --preclean --no-multiarch --library=CRISPRseek.buildbin-libdir CRISPRseek_1.18.0.tar.gz' >>>>>>> * installing *source* package ‘CRISPRseek’ ... ** R ** inst ** preparing package for lazy loading ** help *** installing help indices ** building package indices ** installing vignettes ** testing if installed package can be loaded * DONE (CRISPRseek)