TCGAbiolinks 2.5.7 Antonio Colaprico
Snapshot Date: 2017-08-15 17:18:21 -0400 (Tue, 15 Aug 2017) | URL: https://hedgehog.fhcrc.org/bioconductor/trunk/madman/Rpacks/TCGAbiolinks | Last Changed Rev: 131795 / Revision: 131943 | Last Changed Date: 2017-08-07 20:03:07 -0400 (Mon, 07 Aug 2017) |
| malbec1 | Linux (Ubuntu 16.04.1 LTS) / x86_64 | OK | OK | OK | | ![UNNEEDED, same version exists in internal repository UNNEEDED, same version exists in internal repository](../120px-Blue_Light_Icon.svg.png) |
tokay1 | Windows Server 2012 R2 Standard / x64 | [ OK ] | OK | OK | OK | ![UNNEEDED, same version exists in internal repository UNNEEDED, same version exists in internal repository](../120px-Blue_Light_Icon.svg.png) |
veracruz1 | OS X 10.11.6 El Capitan / x86_64 | OK | OK | OK | OK | ![UNNEEDED, same version exists in internal repository UNNEEDED, same version exists in internal repository](../120px-Blue_Light_Icon.svg.png) |
##############################################################################
##############################################################################
###
### Running command:
###
### rm -rf TCGAbiolinks.buildbin-libdir && mkdir TCGAbiolinks.buildbin-libdir && C:\cygwin\bin\curl.exe -O https://malbec1.bioconductor.org/BBS/3.6/bioc/src/contrib/TCGAbiolinks_2.5.7.tar.gz && C:\Users\biocbuild\bbs-3.6-bioc\R\bin\R.exe CMD INSTALL --build --library=TCGAbiolinks.buildbin-libdir --merge-multiarch TCGAbiolinks_2.5.7.tar.gz && C:\Users\biocbuild\bbs-3.6-bioc\R\bin\R.exe CMD INSTALL TCGAbiolinks_2.5.7.zip && rm TCGAbiolinks_2.5.7.tar.gz TCGAbiolinks_2.5.7.zip
###
##############################################################################
##############################################################################
% Total % Received % Xferd Average Speed Time Time Time Current
Dload Upload Total Spent Left Speed
0 0 0 0 0 0 0 0 --:--:-- --:--:-- --:--:-- 0
100 12.5M 100 12.5M 0 0 80.8M 0 --:--:-- --:--:-- --:--:-- 82.6M
install for i386
* installing *source* package 'TCGAbiolinks' ...
** R
** data
*** moving datasets to lazyload DB
** inst
** preparing package for lazy loading
** help
*** installing help indices
** building package indices
** installing vignettes
** testing if installed package can be loaded
install for x64
* installing *source* package 'TCGAbiolinks' ...
** testing if installed package can be loaded
* MD5 sums
packaged installation of 'TCGAbiolinks' as TCGAbiolinks_2.5.7.zip
* DONE (TCGAbiolinks)
* installing to library 'C:/Users/biocbuild/bbs-3.6-bioc/R/library'
package 'TCGAbiolinks' successfully unpacked and MD5 sums checked