MethylAid 1.11.1 M. van Iterson
 | Snapshot Date: 2017-08-15 17:18:21 -0400 (Tue, 15 Aug 2017) |  | URL: https://hedgehog.fhcrc.org/bioconductor/trunk/madman/Rpacks/MethylAid |  | Last Changed Rev: 129500 / Revision: 131943 |  | Last Changed Date: 2017-05-10 04:38:19 -0400 (Wed, 10 May 2017) |  
  | malbec1  | Linux (Ubuntu 16.04.1 LTS) / x86_64  |  OK  |  OK  |  OK  |  |   | 
| tokay1  | Windows Server 2012 R2 Standard / x64  |  OK  |  OK  |  OK  | [ OK ] |   | 
| veracruz1  | OS X 10.11.6 El Capitan / x86_64  |  OK  |  OK  |  OK  |  OK  |   | 
##############################################################################
##############################################################################
###
### Running command:
###
###   cd MethylAid.buildbin-libdir/MethylAid && zip -r ../../MethylAid_1.11.1.zip . & cd ../..
###
##############################################################################
##############################################################################
updating: MethylAid/ (372 bytes security) (stored 0%)
  adding: CITATION (332 bytes security) (deflated 54%)
  adding: data/ (372 bytes security) (stored 0%)
  adding: data/datalist (332 bytes security) (stored 0%)
  adding: data/exampleData.RData (332 bytes security) (deflated 0%)
  adding: DESCRIPTION (332 bytes security) (deflated 49%)
  adding: doc/ (372 bytes security) (stored 0%)
  adding: doc/index.html (332 bytes security) (deflated 58%)
  adding: doc/MethylAid.pdf (332 bytes security) (deflated 13%)
  adding: doc/MethylAid.R (332 bytes security) (deflated 72%)
  adding: doc/MethylAid.Rnw (332 bytes security) (deflated 63%)
  adding: help/ (372 bytes security) (stored 0%)
  adding: help/aliases.rds (332 bytes security) (stored 0%)
  adding: help/AnIndex (332 bytes security) (deflated 63%)
  adding: help/MethylAid.rdb (332 bytes security) (deflated 0%)
  adding: help/MethylAid.rdx (332 bytes security) (stored 0%)
  adding: help/paths.rds (332 bytes security) (stored 0%)
  adding: html/ (372 bytes security) (stored 0%)
  adding: html/00Index.html (332 bytes security) (deflated 67%)
  adding: html/R.css (332 bytes security) (deflated 75%)
  adding: INDEX (332 bytes security) (deflated 69%)
  adding: MD5 (332 bytes security) (deflated 44%)
  adding: Meta/ (372 bytes security) (stored 0%)
  adding: Meta/data.rds (332 bytes security) (stored 0%)
  adding: Meta/features.rds (332 bytes security) (stored 0%)
  adding: Meta/hsearch.rds (332 bytes security) (stored 0%)
  adding: Meta/links.rds (332 bytes security) (stored 0%)
  adding: Meta/nsInfo.rds (332 bytes security) (stored 0%)
  adding: Meta/package.rds (332 bytes security) (stored 0%)
  adding: Meta/Rd.rds (332 bytes security) (stored 0%)
  adding: Meta/vignette.rds (332 bytes security) (stored 0%)
  adding: MethylAid/global.R (332 bytes security) (stored 0%)
  adding: MethylAid/server.R (332 bytes security) (deflated 38%)
  adding: MethylAid/ui.R (332 bytes security) (deflated 39%)
  adding: NAMESPACE (332 bytes security) (deflated 65%)
  adding: NEWS (332 bytes security) (deflated 20%)
  adding: R/ (372 bytes security) (stored 0%)
  adding: R/MethylAid (332 bytes security) (deflated 41%)
  adding: R/MethylAid.rdb (332 bytes security) (deflated 30%)
  adding: R/MethylAid.rdx (332 bytes security) (stored 0%)
  adding: scripts/ (372 bytes security) (stored 0%)
  adding: scripts/config.R (332 bytes security) (deflated 37%)
  adding: scripts/sge.tmpl (332 bytes security) (deflated 42%)
  adding: scripts/summarize.R (332 bytes security) (deflated 63%)
  adding: scripts/summarize.sh (332 bytes security) (deflated 27%)
  adding: unitTests/ (372 bytes security) (stored 0%)
  adding: unitTests/test_summarize.R (332 bytes security) (deflated 61%)
  adding: unitTests/test_visualize.R (332 bytes security) (deflated 65%)
  adding: www/ (372 bytes security) (stored 0%)
  adding: www/About.html (332 bytes security) (deflated 64%)