| Back to the "Multiple platform build/check report" | A B C [D] E F G H I J K L M N O P Q R S T U V W X Y Z | 
This page was generated on 2017-08-16 13:14:59 -0400 (Wed, 16 Aug 2017).
| Package 361/1410 | Hostname | OS / Arch | INSTALL | BUILD | CHECK | BUILD BIN | |||||
| DMRcate 1.13.0 Tim Peters 
 | malbec1 | Linux (Ubuntu 16.04.1 LTS) / x86_64 | OK | OK | WARNINGS |  | |||||
| tokay1 | Windows Server 2012 R2 Standard / x64 | OK | OK | WARNINGS | OK |  | |||||
| veracruz1 | OS X 10.11.6 El Capitan / x86_64 | OK | TIMEOUT | skipped | skipped |