rols 2.4.0 Laurent Gatto
 | Snapshot Date: 2017-08-13 17:17:53 -0400 (Sun, 13 Aug 2017) |  | URL: https://hedgehog.fhcrc.org/bioconductor/branches/RELEASE_3_5/madman/Rpacks/rols |  | Last Changed Rev: 130573 / Revision: 131908 |  | Last Changed Date: 2017-06-20 16:14:59 -0400 (Tue, 20 Jun 2017) |  
  | malbec2  | Linux (Ubuntu 16.04.1 LTS) / x86_64  |  OK  |  OK  |  OK  |  |   | 
| tokay2  | Windows Server 2012 R2 Standard / x64  |  OK  |  OK  |  OK  | [ OK ] |   | 
| veracruz2  | OS X 10.11.6 El Capitan / x86_64  |  OK  |  OK  |  OK  |  OK  |   | 
##############################################################################
##############################################################################
###
### Running command:
###
###   cd rols.buildbin-libdir/rols && zip -r ../../rols_2.4.0.zip . & cd ../..
###
##############################################################################
##############################################################################
  adding: DESCRIPTION (264 bytes security) (deflated 45%)
  adding: doc/ (304 bytes security) (stored 0%)
  adding: doc/index.html (264 bytes security) (deflated 57%)
  adding: doc/rols.html (264 bytes security) (deflated 69%)
  adding: doc/rols.R (264 bytes security) (deflated 77%)
  adding: doc/rols.Rmd (264 bytes security) (deflated 59%)
  adding: help/ (304 bytes security) (stored 0%)
  adding: help/aliases.rds (264 bytes security) (stored 0%)
  adding: help/AnIndex (264 bytes security) (deflated 85%)
  adding: help/paths.rds (264 bytes security) (stored 0%)
  adding: help/rols.rdb (264 bytes security) (deflated 1%)
  adding: help/rols.rdx (264 bytes security) (stored 0%)
  adding: html/ (304 bytes security) (stored 0%)
  adding: html/00Index.html (264 bytes security) (deflated 89%)
  adding: html/R.css (264 bytes security) (deflated 75%)
  adding: INDEX (264 bytes security) (deflated 59%)
  adding: MD5 (264 bytes security) (deflated 41%)
  adding: Meta/ (304 bytes security) (stored 0%)
  adding: Meta/features.rds (264 bytes security) (stored 0%)
  adding: Meta/hsearch.rds (264 bytes security) (stored 0%)
  adding: Meta/links.rds (264 bytes security) (stored 0%)
  adding: Meta/nsInfo.rds (264 bytes security) (stored 0%)
  adding: Meta/package.rds (264 bytes security) (stored 0%)
  adding: Meta/Rd.rds (264 bytes security) (stored 0%)
  adding: Meta/vignette.rds (264 bytes security) (stored 0%)
  adding: NAMESPACE (264 bytes security) (deflated 67%)
  adding: NEWS (264 bytes security) (deflated 64%)
  adding: R/ (304 bytes security) (stored 0%)
  adding: R/rols (264 bytes security) (deflated 41%)
  adding: R/rols.rdb (264 bytes security) (deflated 34%)
  adding: R/rols.rdx (264 bytes security) (deflated 2%)
  adding: scripts/ (304 bytes security) (stored 0%)
  adding: scripts/misc.R (264 bytes security) (deflated 54%)