All our mirrors of open source software are available via http, https, ftp and an onion service. More information about our mirrors including statistics and contact information is available on our mirror info pages.
For information about dotsrc.org and our other services please go to our website.
| File Name ↓ | File Size ↓ | Date ↓ | 
|---|---|---|
| Parent directory/ | - | - | 
| ABAEnrichment/ | - | 2017-10-18 18:33:32 | 
| ABSSeq/ | - | 2017-10-18 18:31:54 | 
| ABarray/ | - | 2017-10-18 18:27:59 | 
| ACME/ | - | 2017-10-18 18:28:11 | 
| ADaCGH2/ | - | 2017-10-18 18:29:15 | 
| AGDEX/ | - | 2017-10-18 18:30:04 | 
| AIMS/ | - | 2017-10-18 18:32:43 | 
| ALDEx2/ | - | 2017-10-18 18:32:29 | 
| AMOUNTAIN/ | - | 2017-10-18 18:34:47 | 
| ARRmNormalization/ | - | 2017-10-18 18:30:58 | 
| ASAFE/ | - | 2017-10-18 18:34:49 | 
| ASEB/ | - | 2017-10-18 18:30:11 | 
| ASGSCA/ | - | 2017-10-18 18:32:32 | 
| ASSET/ | - | 2017-10-18 18:31:20 | 
| ASSIGN/ | - | 2017-10-18 18:31:54 | 
| ASpli/ | - | 2017-10-18 18:34:52 | 
| ATACseqQC/ | - | 2017-10-18 18:35:40 | 
| AffyCompatible/ | - | 2017-10-18 18:28:29 | 
| AffyExpress/ | - | 2017-10-18 18:28:16 | 
| AffyRNADegradation/ | - | 2017-10-18 18:30:12 | 
| AgiMicroRna/ | - | 2017-10-18 18:28:52 | 
| AllelicImbalance/ | - | 2017-10-18 18:31:25 | 
| AnalysisPageServer/ | - | 2017-10-18 18:32:47 | 
| Anaquin/ | - | 2017-10-18 18:34:55 | 
| AneuFinder/ | - | 2017-10-18 18:34:25 | 
| AnnotationDbi/ | - | 2017-10-18 18:28:06 | 
| AnnotationFilter/ | - | 2017-10-18 18:35:32 | 
| AnnotationForge/ | - | 2017-10-18 18:30:27 | 
| AnnotationFuncs/ | - | 2017-10-18 18:29:24 | 
| AnnotationHub/ | - | 2017-10-18 18:31:02 | 
| AnnotationHubData/ | - | 2017-10-18 18:33:35 | 
| ArrayExpress/ | - | 2017-10-18 18:28:37 | 
| ArrayExpressHTS/ | - | 2017-10-18 18:29:29 | 
| ArrayTV/ | - | 2017-10-18 18:31:22 | 
| ArrayTools/ | - | 2017-10-18 18:28:36 | 
| AtlasRDF/ | - | 2017-10-18 18:31:37 | 
| BAC/ | - | 2017-10-18 18:28:22 | 
| BADER/ | - | 2017-10-18 18:31:22 | 
| BAGS/ | - | 2017-10-18 18:30:14 | 
| BBCAnalyzer/ | - | 2017-10-18 18:33:33 | 
| BCRANK/ | - | 2017-10-18 18:28:24 | 
| BEAT/ | - | 2017-10-18 18:31:37 | 
| BEclear/ | - | 2017-10-18 18:33:19 | 
| BGmix/ | - | 2017-10-18 18:28:21 | 
| BHC/ | - | 2017-10-18 18:29:07 | 
| BLMA/ | - | 2017-10-18 18:35:37 | 
| BPRMeth/ | - | 2017-10-18 18:35:10 | 
| BRAIN/ | - | 2017-10-18 18:30:17 | 
| BSgenome/ | - | 2017-10-18 18:27:58 | 
| BUMHMM/ | - | 2017-10-18 18:35:12 | 
| BUS/ | - | 2017-10-18 18:28:49 | 
| BaalChIP/ | - | 2017-10-18 18:34:59 | 
| BadRegionFinder/ | - | 2017-10-18 18:34:29 | 
| BaseSpaceR/ | - | 2017-10-18 18:31:01 | 
| Basic4Cseq/ | - | 2017-10-18 18:31:49 | 
| BasicSTARRseq/ | - | 2017-10-18 18:34:12 | 
| BatchQC/ | - | 2017-10-18 18:34:32 | 
| BayesKnockdown/ | - | 2017-10-18 18:34:52 | 
| BayesPeak/ | - | 2017-10-18 18:29:04 | 
| BeadDataPackR/ | - | 2017-10-18 18:29:01 | 
| BgeeDB/ | - | 2017-10-18 18:34:33 | 
| BiGGR/ | - | 2017-10-18 18:31:21 | 
| BiRewire/ | - | 2017-10-18 18:31:22 | 
| BiSeq/ | - | 2017-10-18 18:31:05 | 
| BicARE/ | - | 2017-10-18 18:28:39 | 
| BioCor/ | - | 2017-10-18 18:35:29 | 
| BioMVCClass/ | - | 2017-10-18 18:28:01 | 
| BioMedR/ | - | 2017-10-18 18:35:33 | 
| BioNet/ | - | 2017-10-18 18:29:09 | 
| BioQC/ | - | 2017-10-18 18:33:49 | 
| BioSeqClass/ | - | 2017-10-18 18:28:55 | 
| Biobase/ | - | 2017-10-18 18:27:14 | 
| BiocCaseStudies/ | - | 2017-10-18 18:28:20 | 
| BiocCheck/ | - | 2017-10-18 18:31:56 | 
| BiocFileCache/ | - | 2017-10-18 18:35:29 | 
| BiocGenerics/ | - | 2017-10-18 18:30:11 | 
| BiocInstaller/ | - | 2017-10-18 18:29:29 | 
| BiocParallel/ | - | 2017-10-18 18:30:47 | 
| BiocStyle/ | - | 2017-10-18 18:31:12 | 
| BiocWorkflowTools/ | - | 2017-10-18 18:34:58 | 
| Biostrings/ | - | 2017-10-18 18:27:27 | 
| BitSeq/ | - | 2017-10-18 18:30:21 | 
| BrainStars/ | - | 2017-10-18 18:30:18 | 
| BridgeDbR/ | - | 2017-10-18 18:32:40 | 
| BrowserViz/ | - | 2017-10-18 18:32:59 | 
| BrowserVizDemo/ | - | 2017-10-18 18:16:46 | 
| BubbleTree/ | - | 2017-10-18 18:32:56 | 
| BufferedMatrix/ | - | 2017-10-18 18:28:07 | 
| BufferedMatrixMethods/ | - | 2017-10-18 18:28:08 | 
| CAFE/ | - | 2017-10-18 18:31:49 | 
| CAGEr/ | - | 2017-10-18 18:30:56 | 
| CALIB/ | - | 2017-10-18 18:28:10 | 
| CAMERA/ | - | 2017-10-18 18:28:43 | 
| CATALYST/ | - | 2017-10-18 18:35:35 | 
| CAnD/ | - | 2017-10-18 18:33:13 | 
| CCPROMISE/ | - | 2017-10-18 18:35:09 | 
| CFAssay/ | - | 2017-10-18 18:32:41 | 
| CGEN/ | - | 2017-10-18 18:29:09 | 
| CGHbase/ | - | 2017-10-18 18:28:30 | 
| CGHcall/ | - | 2017-10-18 18:28:16 | 
| CGHnormaliter/ | - | 2017-10-18 18:28:52 | 
| CGHregions/ | - | 2017-10-18 18:28:30 | 
| CHRONOS/ | - | 2017-10-18 18:34:37 | 
| CINdex/ | - | 2017-10-18 18:34:28 | 
| CMA/ | - | 2017-10-18 18:28:31 | 
| CNAnorm/ | - | 2017-10-18 18:30:04 | 
| CNEr/ | - | 2017-10-18 18:31:46 | 
| CNORdt/ | - | 2017-10-18 18:30:41 | 
| CNORfeeder/ | - | 2017-10-18 18:31:01 | 
| CNORfuzzy/ | - | 2017-10-18 18:30:36 | 
| CNORode/ | - | 2017-10-18 18:30:41 | 
| CNPBayes/ | - | 2017-10-18 18:33:46 | 
| CNTools/ | - | 2017-10-18 18:28:48 | 
| CNVPanelizer/ | - | 2017-10-18 18:33:24 | 
| CNVrd2/ | - | 2017-10-18 18:31:33 | 
| CNVtools/ | - | 2017-10-18 18:28:54 | 
| CODEX/ | - | 2017-10-18 18:32:48 | 
| COHCAP/ | - | 2017-10-18 18:31:37 | 
| COMPASS/ | - | 2017-10-18 18:31:46 | 
| CONFESS/ | - | 2017-10-18 18:34:30 | 
| CORREP/ | - | 2017-10-18 18:28:12 | 
| COSNet/ | - | 2017-10-18 18:32:41 | 
| CRISPRseek/ | - | 2017-10-18 18:31:34 | 
| CRImage/ | - | 2017-10-18 18:29:14 | 
| CSAR/ | - | 2017-10-18 18:28:56 | 
| CSSP/ | - | 2017-10-18 18:31:14 | 
| CVE/ | - | 2017-10-18 18:34:52 | 
| CancerInSilico/ | - | 2017-10-18 18:35:02 | 
| CancerMutationAnalysis/ | - | 2017-10-18 18:30:21 | 
| CancerSubtypes/ | - | 2017-10-18 18:34:54 | 
| Cardinal/ | - | 2017-10-18 18:32:54 | 
| Category/ | - | 2017-10-18 18:27:44 | 
| CausalR/ | - | 2017-10-18 18:33:20 | 
| CellMapper/ | - | 2017-10-18 18:34:53 | 
| CellNOptR/ | - | 2017-10-18 18:30:09 | 
| CexoR/ | - | 2017-10-18 18:31:26 | 
| ChAMP/ | - | 2017-10-18 18:31:31 | 
| ChIPComp/ | - | 2017-10-18 18:33:33 | 
| ChIPQC/ | - | 2017-10-18 18:31:55 | 
| ChIPXpress/ | - | 2017-10-18 18:30:35 | 
| ChIPexoQual/ | - | 2017-10-18 18:35:18 | 
| ChIPpeakAnno/ | - | 2017-10-18 18:28:49 | 
| ChIPseeker/ | - | 2017-10-18 18:32:03 | 
| ChIPseqR/ | - | 2017-10-18 18:28:54 | 
| ChIPsim/ | - | 2017-10-18 18:28:50 | 
| ChemmineOB/ | - | 2017-10-18 18:31:20 | 
| ChemmineR/ | - | 2017-10-18 18:28:38 | 
| Chicago/ | - | 2017-10-18 18:33:48 | 
| ChromHeatMap/ | - | 2017-10-18 18:28:53 | 
| ClassifyR/ | - | 2017-10-18 18:32:17 | 
| Clomial/ | - | 2017-10-18 18:31:48 | 
| Clonality/ | - | 2017-10-18 18:29:18 | 
| ClusterSignificance/ | - | 2017-10-18 18:34:35 | 
| CoCiteStats/ | - | 2017-10-18 18:27:39 | 
| CoGAPS/ | - | 2017-10-18 18:29:09 | 
| CoRegNet/ | - | 2017-10-18 18:32:37 | 
| CompGO/ | - | 2017-10-18 18:31:55 | 
| ComplexHeatmap/ | - | 2017-10-18 18:33:06 | 
| ConsensusClusterPlus/ | - | 2017-10-18 18:28:58 | 
| CopyNumber450k/ | - | 2017-10-18 18:31:47 | 
| CopywriteR/ | - | 2017-10-18 18:33:09 | 
| CorMut/ | - | 2017-10-18 18:30:33 | 
| Cormotif/ | - | 2017-10-18 18:29:34 | 
| CountClust/ | - | 2017-10-18 18:34:24 | 
| CoverageView/ | - | 2017-10-18 18:31:57 | 
| CrispRVariants/ | - | 2017-10-18 18:34:06 | 
| CytoML/ | - | 2017-10-18 18:34:46 | 
| DAPAR/ | - | 2017-10-18 18:33:39 | 
| DART/ | - | 2017-10-18 18:30:14 | 
| DBChIP/ | - | 2017-10-18 18:30:29 | 
| DChIPRep/ | - | 2017-10-18 18:33:43 | 
| DECIPHER/ | - | 2017-10-18 18:30:05 | 
| DEDS/ | - | 2017-10-18 18:27:36 | 
| DEFormats/ | - | 2017-10-18 18:34:26 | 
| DEGraph/ | - | 2017-10-18 18:13:54 | 
| DEGreport/ | - | 2017-10-18 18:32:08 | 
| DEGseq/ | - | 2017-10-18 18:28:55 | 
| DESeq/ | - | 2017-10-18 18:28:56 | 
| DESeq2/ | - | 2017-10-18 18:30:56 | 
| DEXSeq/ | - | 2017-10-18 18:29:32 | 
| DEsubs/ | - | 2017-10-18 18:35:02 | 
| DFP/ | - | 2017-10-18 18:28:34 | 
| DMRScan/ | - | 2017-10-18 18:35:18 | 
| DMRcaller/ | - | 2017-10-18 18:33:07 | 
| DMRcate/ | - | 2017-10-18 18:31:48 | 
| DMRforPairs/ | - | 2017-10-18 18:31:58 | 
| DNABarcodes/ | - | 2017-10-18 18:33:37 | 
| DNAcopy/ | - | 2017-10-18 18:27:31 | 
| DNAshapeR/ | - | 2017-10-18 18:34:23 | 
| DOQTL/ | - | 2017-10-18 18:32:10 | 
| DOSE/ | - | 2017-10-18 18:29:32 | 
| DRIMSeq/ | - | 2017-10-18 18:34:23 | 
| DSS/ | - | 2017-10-18 18:30:26 | 
| DTA/ | - | 2017-10-18 18:30:03 | 
| DaMiRseq/ | - | 2017-10-18 18:35:29 | 
| DeMAND/ | - | 2017-10-18 18:33:27 | 
| DeconRNASeq/ | - | 2017-10-18 18:30:40 | 
| DeepBlueR/ | - | 2017-10-18 18:34:48 | 
| DelayedArray/ | - | 2017-10-18 18:35:12 | 
| DiffBind/ | - | 2017-10-18 18:30:04 | 
| DiffLogo/ | - | 2017-10-18 18:33:37 | 
| Director/ | - | 2017-10-18 18:34:39 | 
| DirichletMultinomial/ | - | 2017-10-18 18:30:23 | 
| DriverNet/ | - | 2017-10-18 18:30:48 | 
| DrugVsDisease/ | - | 2017-10-18 18:30:54 | 
| DupChecker/ | - | 2017-10-18 18:32:05 | 
| DynDoc/ | - | 2017-10-18 18:27:15 | 
| EBImage/ | - | 2017-10-18 18:27:55 | 
| EBSEA/ | - | 2017-10-18 18:34:29 | 
| EBSeq/ | - | 2017-10-18 18:31:07 | 
| EBSeqHMM/ | - | 2017-10-18 18:32:41 | 
| EBarrays/ | - | 2017-10-18 18:27:29 | 
| EBcoexpress/ | - | 2017-10-18 18:30:22 | 
| EDASeq/ | - | 2017-10-18 18:30:03 | 
| EDDA/ | - | 2017-10-18 18:31:48 | 
| EGAD/ | - | 2017-10-18 18:34:38 | 
| EGSEA/ | - | 2017-10-18 18:34:37 | 
| ELBOW/ | - | 2017-10-18 18:31:44 | 
| ELMER/ | - | 2017-10-18 18:33:21 | 
| EMDomics/ | - | 2017-10-18 18:33:19 | 
| ENCODExplorer/ | - | 2017-10-18 18:33:14 | 
| ENVISIONQuery/ | - | 2017-10-18 18:29:24 | 
| ENmix/ | - | 2017-10-18 18:33:12 | 
| EWCE/ | - | 2017-10-18 18:34:12 | 
| EasyqpcR/ | - | 2017-10-18 18:30:36 | 
| EmpiricalBrownsMethod/ | - | 2017-10-18 18:34:10 | 
| EnrichedHeatmap/ | - | 2017-10-18 18:33:38 | 
| EnrichmentBrowser/ | - | 2017-10-18 18:32:26 | 
| EventPointer/ | - | 2017-10-18 18:35:25 | 
| ExiMiR/ | - | 2017-10-18 18:29:20 | 
| ExperimentHub/ | - | 2017-10-18 18:34:18 | 
| ExperimentHubData/ | - | 2017-10-18 18:34:18 | 
| ExpressionAtlas/ | - | 2017-10-18 18:34:15 | 
| ExpressionView/ | - | 2017-10-18 18:29:03 | 
| FEM/ | - | 2017-10-18 18:32:31 | 
| FGNet/ | - | 2017-10-18 18:31:31 | 
| FISHalyseR/ | - | 2017-10-18 18:33:07 | 
| FRGEpistasis/ | - | 2017-10-18 18:31:55 | 
| FamAgg/ | - | 2017-10-18 18:33:49 | 
| FindMyFriends/ | - | 2017-10-18 18:33:38 | 
| FitHiC/ | - | 2017-10-18 18:35:00 | 
| FlowRepositoryR/ | - | 2017-10-18 18:33:13 | 
| FlowSOM/ | - | 2017-10-18 18:32:46 | 
| FourCSeq/ | - | 2017-10-18 18:32:23 | 
| FunChIP/ | - | 2017-10-18 18:34:41 | 
| FunciSNP/ | - | 2017-10-18 18:30:26 | 
| GA4GHclient/ | - | 2017-10-18 18:35:30 | 
| GAprediction/ | - | 2017-10-18 18:34:54 | 
| GEM/ | - | 2017-10-18 18:34:42 | 
| GENE.E/ | - | 2017-10-18 18:31:04 | 
| GENESIS/ | - | 2017-10-18 18:33:03 | 
| GEOmetadb/ | - | 2017-10-18 18:28:27 | 
| GEOquery/ | - | 2017-10-18 18:27:51 | 
| GEOsearch/ | - | 2017-10-18 18:33:34 | 
| GEOsubmission/ | - | 2017-10-18 18:29:06 | 
| GEWIST/ | - | 2017-10-18 18:30:12 | 
| GGBase/ | - | 2017-10-18 18:28:29 | 
| GGtools/ | - | 2017-10-18 18:28:02 | 
| GISPA/ | - | 2017-10-18 18:35:26 | 
| GLAD/ | - | 2017-10-18 18:27:35 | 
| GMRP/ | - | 2017-10-18 18:34:24 | 
| GOFunction/ | - | 2017-10-18 18:29:34 | 
| GOSemSim/ | - | 2017-10-18 18:28:40 | 
| GOSim/ | - | 2017-10-18 18:31:23 | 
| GOTHiC/ | - | 2017-10-18 18:31:34 | 
| GOexpress/ | - | 2017-10-18 18:32:26 | 
| GOpro/ | - | 2017-10-18 18:35:01 | 
| GOstats/ | - | 2017-10-18 18:27:32 | 
| GOsummaries/ | - | 2017-10-18 18:32:25 | 
| GRENITS/ | - | 2017-10-18 18:29:35 | 
| GRmetrics/ | - | 2017-10-18 18:34:53 | 
| GRridge/ | - | 2017-10-18 18:35:11 | 
| GSALightning/ | - | 2017-10-18 18:34:07 | 
| GSAR/ | - | 2017-10-18 18:32:08 | 
| GSCA/ | - | 2017-10-18 18:31:46 | 
| GSEABase/ | - | 2017-10-18 18:28:14 | 
| GSEAlm/ | - | 2017-10-18 18:28:24 | 
| GSRI/ | - | 2017-10-18 18:29:06 | 
| GSReg/ | - | 2017-10-18 18:32:13 | 
| GSVA/ | - | 2017-10-18 18:29:29 | 
| GUIDEseq/ | - | 2017-10-18 18:33:43 | 
| GWASTools/ | - | 2017-10-18 18:30:05 | 
| GenRank/ | - | 2017-10-18 18:34:17 | 
| GenVisR/ | - | 2017-10-18 18:34:10 | 
| GeneAnswers/ | - | 2017-10-18 18:28:53 | 
| GeneBreak/ | - | 2017-10-18 18:33:43 | 
| GeneExpressionSignature/ | - | 2017-10-18 18:30:01 | 
| GeneGA/ | - | 2017-10-18 18:29:15 | 
| GeneGeneInteR/ | - | 2017-10-18 18:34:50 | 
| GeneMeta/ | - | 2017-10-18 18:27:44 | 
| GeneNetworkBuilder/ | - | 2017-10-18 18:30:36 | 
| GeneOverlap/ | - | 2017-10-18 18:31:37 | 
| GeneRegionScan/ | - | 2017-10-18 18:28:46 | 
| GeneSelectMMD/ | - | 2017-10-18 18:28:44 | 
| GeneSelector/ | - | 2017-10-18 18:28:26 | 
| GeneticsDesign/ | - | 2017-10-18 18:28:08 | 
| GeneticsPed/ | - | 2017-10-18 18:28:12 | 
| GenoGAM/ | - | 2017-10-18 18:34:27 | 
| GenomeGraphs/ | - | 2017-10-18 18:28:27 | 
| GenomeInfoDb/ | - | 2017-10-18 18:31:45 | 
| GenomicAlignments/ | - | 2017-10-18 18:31:34 | 
| GenomicDataCommons/ | - | 2017-10-18 18:35:32 | 
| GenomicFeatures/ | - | 2017-10-18 18:28:52 | 
| GenomicFiles/ | - | 2017-10-18 18:32:01 | 
| GenomicInteractions/ | - | 2017-10-18 18:32:28 | 
| GenomicRanges/ | - | 2017-10-18 18:29:01 | 
| GenomicScores/ | - | 2017-10-18 18:35:35 | 
| GenomicTuples/ | - | 2017-10-18 18:32:34 | 
| Genominator/ | - | 2017-10-18 18:28:56 | 
| Glimma/ | - | 2017-10-18 18:34:31 | 
| GlobalAncova/ | - | 2017-10-18 18:27:49 | 
| GoogleGenomics/ | - | 2017-10-18 18:33:09 | 
| GraphAT/ | - | 2017-10-18 18:27:32 | 
| GraphAlignment/ | - | 2017-10-18 18:28:23 | 
| GraphPAC/ | - | 2017-10-18 18:30:49 | 
| GreyListChIP/ | - | 2017-10-18 18:32:53 | 
| Guitar/ | - | 2017-10-18 18:33:38 | 
| Gviz/ | - | 2017-10-18 18:30:15 | 
| HCsnip/ | - | 2017-10-18 18:30:59 | 
| HDF5Array/ | - | 2017-10-18 18:34:19 | 
| HDTD/ | - | 2017-10-18 18:32:05 | 
| HELP/ | - | 2017-10-18 18:28:31 | 
| HEM/ | - | 2017-10-18 18:27:32 | 
| HIBAG/ | - | 2017-10-18 18:32:55 | 
| HMMcopy/ | - | 2017-10-18 18:30:42 | 
| HTSFilter/ | - | 2017-10-18 18:30:54 | 
| HTSanalyzeR/ | - | 2017-10-18 18:29:10 | 
| HTSeqGenie/ | - | 2017-10-18 18:14:52 | 
| HTqPCR/ | - | 2017-10-18 18:28:54 | 
| Harman/ | - | 2017-10-18 18:34:36 | 
| Harshlight/ | - | 2017-10-18 18:27:59 | 
| Heatplus/ | - | 2017-10-18 18:27:56 | 
| HelloRanges/ | - | 2017-10-18 18:35:06 | 
| HiTC/ | - | 2017-10-18 18:30:21 | 
| HilbertCurve/ | - | 2017-10-18 18:33:30 | 
| HilbertVis/ | - | 2017-10-18 18:28:39 | 
| HilbertVisGUI/ | - | 2017-10-18 18:20:16 | 
| HybridMTest/ | - | 2017-10-18 18:30:18 | 
| IHW/ | - | 2017-10-18 18:34:11 | 
| IMAS/ | - | 2017-10-18 18:35:35 | 
| IMPCdata/ | - | 2017-10-18 18:32:38 | 
| INPower/ | - | 2017-10-18 18:31:49 | 
| INSPEcT/ | - | 2017-10-18 18:33:26 | 
| IONiseR/ | - | 2017-10-18 18:33:24 | 
| IPO/ | - | 2017-10-18 18:34:52 | 
| IPPD/ | - | 2017-10-18 18:29:16 | 
| IRanges/ | - | 2017-10-18 18:27:26 | 
| ISoLDE/ | - | 2017-10-18 18:34:24 | 
| ITALICS/ | - | 2017-10-18 18:28:33 | 
| IVAS/ | - | 2017-10-18 18:32:53 | 
| IWTomics/ | - | 2017-10-18 18:35:11 | 
| Icens/ | - | 2017-10-18 18:27:28 | 
| IdMappingAnalysis/ | - | 2017-10-18 18:30:17 | 
| IdMappingRetrieval/ | - | 2017-10-18 18:29:35 | 
| IdeoViz/ | - | 2017-10-18 18:32:32 | 
| Imetagene/ | - | 2017-10-18 18:33:40 | 
| ImmuneSpaceR/ | - | 2017-10-18 18:34:38 | 
| ImpulseDE/ | - | 2017-10-18 18:34:50 | 
| ImpulseDE2/ | - | 2017-10-18 18:35:36 | 
| InPAS/ | - | 2017-10-18 18:33:03 | 
| IntEREst/ | - | 2017-10-18 18:35:27 | 
| InteractionSet/ | - | 2017-10-18 18:34:34 | 
| IsoGeneGUI/ | - | 2017-10-18 18:29:09 | 
| JunctionSeq/ | - | 2017-10-18 18:34:08 | 
| KCsmart/ | - | 2017-10-18 18:28:37 | 
| KEGGREST/ | - | 2017-10-18 18:30:52 | 
| KEGGgraph/ | - | 2017-10-18 18:28:40 | 
| KEGGlincs/ | - | 2017-10-18 18:35:03 | 
| KEGGprofile/ | - | 2017-10-18 18:30:28 | 
| LBE/ | - | 2017-10-18 18:28:09 | 
| LEA/ | - | 2017-10-18 18:33:01 | 
| LINC/ | - | 2017-10-18 18:34:57 | 
| LMGene/ | - | 2017-10-18 18:27:46 | 
| LOBSTAHS/ | - | 2017-10-18 18:34:47 | 
| LOLA/ | - | 2017-10-18 18:33:36 | 
| LPE/ | - | 2017-10-18 18:27:26 | 
| LPEadj/ | - | 2017-10-18 18:28:30 | 
| LVSmiRNA/ | - | 2017-10-18 18:29:13 | 
| LedPred/ | - | 2017-10-18 18:33:30 | 
| Linnorm/ | - | 2017-10-18 18:34:30 | 
| LiquidAssociation/ | - | 2017-10-18 18:28:54 | 
| Logolas/ | - | 2017-10-18 18:35:23 | 
| LowMACA/ | - | 2017-10-18 18:33:05 | 
| LymphoSeq/ | - | 2017-10-18 18:34:34 | 
| M3D/ | - | 2017-10-18 18:32:18 | 
| M3Drop/ | - | 2017-10-18 18:35:07 | 
| MADSEQ/ | - | 2017-10-18 18:34:42 | 
| MAIT/ | - | 2017-10-18 18:32:34 | 
| MANOR/ | - | 2017-10-18 18:27:50 | 
| MAST/ | - | 2017-10-18 18:35:04 | 
| MBASED/ | - | 2017-10-18 18:32:21 | 
| MBAmethyl/ | - | 2017-10-18 18:32:40 | 
| MBCB/ | - | 2017-10-18 18:29:08 | 
| MBttest/ | - | 2017-10-18 18:34:17 | 
| MCRestimate/ | - | 2017-10-18 18:28:40 | 
| MCbiclust/ | - | 2017-10-18 18:35:20 | 
| MEAL/ | - | 2017-10-18 18:33:41 | 
| MEDIPS/ | - | 2017-10-18 18:29:15 | 
| MEDME/ | - | 2017-10-18 18:28:35 | 
| MEIGOR/ | - | 2017-10-18 18:32:14 | 
| MGFM/ | - | 2017-10-18 18:32:28 | 
| MGFR/ | - | 2017-10-18 18:34:47 | 
| MIGSA/ | - | 2017-10-18 18:35:25 | 
| MIMOSA/ | - | 2017-10-18 18:31:46 | 
| MLInterfaces/ | - | 2017-10-18 18:27:34 | 
| MLP/ | - | 2017-10-18 18:29:16 | 
| MLSeq/ | - | 2017-10-18 18:31:51 | 
| MMDiff2/ | - | 2017-10-18 18:34:38 | 
| MODA/ | - | 2017-10-18 18:34:51 | 
| MPFE/ | - | 2017-10-18 18:32:18 | 
| MSGFgui/ | - | 2017-10-18 18:32:31 | 
| MSGFplus/ | - | 2017-10-18 18:32:30 | 
| MSnID/ | - | 2017-10-18 18:32:27 | 
| MSnbase/ | - | 2017-10-18 18:29:23 | 
| MSstats/ | - | 2017-10-18 18:31:28 | 
| MVCClass/ | - | 2017-10-18 18:27:37 | 
| MWASTools/ | - | 2017-10-18 18:35:11 | 
| MantelCorr/ | - | 2017-10-18 18:27:50 | 
| MassArray/ | - | 2017-10-18 18:29:00 | 
| MassSpecWavelet/ | - | 2017-10-18 18:28:11 | 
| MatrixRider/ | - | 2017-10-18 18:33:01 | 
| MaxContrastProjection/ | - | 2017-10-18 18:35:28 | 
| MeSHDbi/ | - | 2017-10-18 18:32:01 | 
| MeSHSim/ | - | 2017-10-18 18:32:51 | 
| MeasurementError.cor/ | - | 2017-10-18 18:27:23 | 
| MergeMaid/ | - | 2017-10-18 18:27:33 | 
| Mergeomics/ | - | 2017-10-18 18:34:14 | 
| MetCirc/ | - | 2017-10-18 18:34:44 | 
| Metab/ | - | 2017-10-18 18:32:43 | 
| MetaboSignal/ | - | 2017-10-18 18:34:57 | 
| MethPed/ | - | 2017-10-18 18:34:19 | 
| MethTargetedNGS/ | - | 2017-10-18 18:33:11 | 
| MethylAid/ | - | 2017-10-18 18:32:06 | 
| MethylMix/ | - | 2017-10-18 18:32:22 | 
| MethylSeekR/ | - | 2017-10-18 18:30:54 | 
| Mfuzz/ | - | 2017-10-18 18:27:54 | 
| MiChip/ | - | 2017-10-18 18:28:51 | 
| MiPP/ | - | 2017-10-18 18:27:43 | 
| MiRaGE/ | - | 2017-10-18 18:30:25 | 
| MineICA/ | - | 2017-10-18 18:30:55 | 
| MinimumDistance/ | - | 2017-10-18 18:30:23 | 
| Mirsynergy/ | - | 2017-10-18 18:31:45 | 
| MmPalateMiRNA/ | - | 2017-10-18 18:30:08 | 
| MoPS/ | - | 2017-10-18 18:32:05 | 
| MoonlightR/ | - | 2017-10-18 18:35:05 | 
| MotIV/ | - | 2017-10-18 18:29:02 | 
| MotifDb/ | - | 2017-10-18 18:30:36 | 
| Mulcom/ | - | 2017-10-18 18:29:11 | 
| MultiAssayExperiment/ | - | 2017-10-18 18:34:27 | 
| MultiDataSet/ | - | 2017-10-18 18:34:35 | 
| MultiMed/ | - | 2017-10-18 18:32:14 | 
| MutationalPatterns/ | - | 2017-10-18 18:35:06 | 
| NADfinder/ | - | 2017-10-18 18:35:32 | 
| NCIgraph/ | - | 2017-10-18 18:14:05 | 
| NGScopy/ | - | 2017-10-18 18:32:24 | 
| NOISeq/ | - | 2017-10-18 18:30:43 | 
| NTW/ | - | 2017-10-18 18:29:08 | 
| NanoStringDiff/ | - | 2017-10-18 18:33:32 | 
| NanoStringQCPro/ | - | 2017-10-18 18:33:10 | 
| NarrowPeaks/ | - | 2017-10-18 18:30:16 | 
| NetPathMiner/ | - | 2017-10-18 18:32:02 | 
| NetSAM/ | - | 2017-10-18 18:31:10 | 
| NormqPCR/ | - | 2017-10-18 18:29:36 | 
| NuPoP/ | - | 2017-10-18 18:29:11 | 
| OCplus/ | - | 2017-10-18 18:27:56 | 
| OGSA/ | - | 2017-10-18 18:33:29 | 
| OLIN/ | - | 2017-10-18 18:27:34 | 
| OLINgui/ | - | 2017-10-18 18:27:36 | 
| OSAT/ | - | 2017-10-18 18:30:27 | 
| OTUbase/ | - | 2017-10-18 18:29:12 | 
| OmicCircos/ | - | 2017-10-18 18:31:12 | 
| OmicsMarkeR/ | - | 2017-10-18 18:33:08 | 
| OncoScore/ | - | 2017-10-18 18:34:25 | 
| OncoSimulR/ | - | 2017-10-18 18:32:15 | 
| OperaMate/ | - | 2017-10-18 18:33:21 | 
| OrderedList/ | - | 2017-10-18 18:27:57 | 
| Organism.dplyr/ | - | 2017-10-18 18:35:25 | 
| OrganismDbi/ | - | 2017-10-18 18:30:38 | 
| Oscope/ | - | 2017-10-18 18:33:31 | 
| OutlierD/ | - | 2017-10-18 18:28:17 | 
| PAA/ | - | 2017-10-18 18:32:33 | 
| PADOG/ | - | 2017-10-18 18:30:35 | 
| PANR/ | - | 2017-10-18 18:30:02 | 
| PAPi/ | - | 2017-10-18 18:31:03 | 
| PAnnBuilder/ | - | 2017-10-18 18:28:44 | 
| PCAN/ | - | 2017-10-18 18:34:22 | 
| PCpheno/ | - | 2017-10-18 18:28:22 | 
| PECA/ | - | 2017-10-18 18:31:35 | 
| PGA/ | - | 2017-10-18 18:33:23 | 
| PGSEA/ | - | 2017-10-18 18:28:10 | 
| PICS/ | - | 2017-10-18 18:29:05 | 
| PING/ | - | 2017-10-18 18:30:16 | 
| PLPE/ | - | 2017-10-18 18:28:35 | 
| POST/ | - | 2017-10-18 18:35:20 | 
| PPInfer/ | - | 2017-10-18 18:35:38 | 
| PREDA/ | - | 2017-10-18 18:29:38 | 
| PROMISE/ | - | 2017-10-18 18:29:05 | 
| PROPER/ | - | 2017-10-18 18:32:45 | 
| PROcess/ | - | 2017-10-18 18:27:29 | 
| PSEA/ | - | 2017-10-18 18:32:29 | 
| PSICQUIC/ | - | 2017-10-18 18:31:33 | 
| PWMEnrich/ | - | 2017-10-18 18:30:27 | 
| PanVizGenerator/ | - | 2017-10-18 18:34:09 | 
| Path2PPI/ | - | 2017-10-18 18:33:34 | 
| PathNet/ | - | 2017-10-18 18:30:53 | 
| PathoStat/ | - | 2017-10-18 18:35:04 | 
| Pbase/ | - | 2017-10-18 18:32:10 | 
| PharmacoGx/ | - | 2017-10-18 18:34:55 | 
| PhenStat/ | - | 2017-10-18 18:31:36 | 
| Pi/ | - | 2017-10-18 18:35:00 | 
| Pigengene/ | - | 2017-10-18 18:34:41 | 
| Polyfit/ | - | 2017-10-18 18:32:12 | 
| Prize/ | - | 2017-10-18 18:33:25 | 
| ProCoNA/ | - | 2017-10-18 18:31:24 | 
| Prostar/ | - | 2017-09-13 17:52:29 | 
| ProtGenerics/ | - | 2017-10-18 18:32:56 | 
| ProteomicsAnnotationHubData/ | - | 2017-10-18 18:33:36 | 
| PureCN/ | - | 2017-10-18 18:34:35 | 
| Pviz/ | - | 2017-10-18 18:32:13 | 
| QDNAseq/ | - | 2017-10-18 18:31:52 | 
| QUALIFIER/ | - | 2017-10-18 18:30:16 | 
| QUBIC/ | - | 2017-10-18 18:34:28 | 
| QuartPAC/ | - | 2017-10-18 18:32:44 | 
| QuasR/ | - | 2017-10-18 18:30:52 | 
| QuaternaryProd/ | - | 2017-10-18 18:34:07 | 
| R3CPET/ | - | 2017-10-18 18:33:12 | 
| R453Plus1Toolbox/ | - | 2017-10-18 18:29:15 | 
| R4RNA/ | - | 2017-10-18 18:33:46 | 
| RBGL/ | - | 2017-10-18 18:27:24 | 
| RBM/ | - | 2017-10-18 18:33:05 | 
| RBioinf/ | - | 2017-10-18 18:28:28 | 
| RCAS/ | - | 2017-10-18 18:34:50 | 
| RCASPAR/ | - | 2017-10-18 18:29:32 | 
| RCy3/ | - | 2017-10-18 18:33:45 | 
| RCyjs/ | - | 2017-10-18 18:33:10 | 
| RCytoscape/ | - | 2017-10-18 18:13:49 | 
| RDAVIDWebService/ | - | 2017-10-18 18:31:11 | 
| RDRToolbox/ | - | 2017-10-18 18:29:10 | 
| REDseq/ | - | 2017-10-18 18:29:31 | 
| REMP/ | - | 2017-10-18 18:35:22 | 
| RGSEA/ | - | 2017-10-18 18:32:09 | 
| RGalaxy/ | - | 2017-10-18 18:30:28 | 
| RGraph2js/ | - | 2017-10-18 18:34:11 | 
| RIPSeeker/ | - | 2017-10-18 18:30:45 | 
| RITAN/ | - | 2017-10-18 18:35:40 | 
| RIVER/ | - | 2017-10-18 18:35:33 | 
| RImmPort/ | - | 2017-10-18 18:34:15 | 
| RJMCMCNucleosomes/ | - | 2017-10-18 18:35:16 | 
| RLMM/ | - | 2017-10-18 18:27:49 | 
| RMassBank/ | - | 2017-10-18 18:30:35 | 
| RNASeqPower/ | - | 2017-10-18 18:30:59 | 
| RNAinteract/ | - | 2017-10-18 18:29:22 | 
| RNAither/ | - | 2017-10-18 18:28:37 | 
| RNAprobR/ | - | 2017-10-18 18:33:02 | 
| ROC/ | - | 2017-10-18 18:27:16 | 
| ROTS/ | - | 2017-10-18 18:34:12 | 
| ROntoTools/ | - | 2017-10-18 18:31:01 | 
| RPA/ | - | 2017-10-18 18:28:49 | 
| RRHO/ | - | 2017-10-18 18:31:15 | 
| RSVSim/ | - | 2017-10-18 18:30:49 | 
| RTCA/ | - | 2017-10-18 18:28:52 | 
| RTCGA/ | - | 2017-10-18 18:33:37 | 
| RTCGAToolbox/ | - | 2017-10-18 18:33:20 | 
| RTN/ | - | 2017-10-18 18:31:17 | 
| RTNduals/ | - | 2017-10-18 18:35:21 | 
| RTopper/ | - | 2017-10-18 18:30:03 | 
| RUVSeq/ | - | 2017-10-18 18:32:07 | 
| RUVcorr/ | - | 2017-10-18 18:33:08 | 
| RUVnormalize/ | - | 2017-10-18 18:32:19 | 
| RaggedExperiment/ | - | 2017-10-18 18:35:34 | 
| RamiGO/ | - | 2017-10-18 18:14:11 | 
| RankProd/ | - | 2017-10-18 18:27:42 | 
| RareVariantVis/ | - | 2017-10-18 18:33:21 | 
| Rariant/ | - | 2017-10-18 18:31:56 | 
| RbcBook1/ | - | 2017-10-18 18:28:04 | 
| Rbowtie/ | - | 2017-10-18 18:30:51 | 
| Rcade/ | - | 2017-10-18 18:30:42 | 
| Rchemcpp/ | - | 2017-10-18 18:31:16 | 
| RchyOptimyx/ | - | 2017-10-18 18:30:20 | 
| Rcpi/ | - | 2017-10-18 18:31:52 | 
| Rdisop/ | - | 2017-10-18 18:28:19 | 
| ReQON/ | - | 2017-10-18 18:30:09 | 
| ReactomePA/ | - | 2017-10-18 18:30:19 | 
| ReadqPCR/ | - | 2017-10-18 18:29:34 | 
| RedeR/ | - | 2017-10-18 18:29:36 | 
| RefNet/ | - | 2017-10-18 18:32:00 | 
| RefPlus/ | - | 2017-10-18 18:28:06 | 
| Repitools/ | - | 2017-10-18 18:29:33 | 
| ReportingTools/ | - | 2017-10-18 18:30:40 | 
| Rgraphviz/ | - | 2017-10-18 18:27:20 | 
| Rhtslib/ | - | 2017-10-18 18:32:58 | 
| RiboProfiling/ | - | 2017-10-18 18:33:44 | 
| Ringo/ | - | 2017-10-18 18:28:11 | 
| Risa/ | - | 2017-10-18 18:30:39 | 
| Rmagpie/ | - | 2017-10-18 18:28:47 | 
| RmiR/ | - | 2017-10-18 18:28:48 | 
| RnBeads/ | - | 2017-10-18 18:33:15 | 
| RnaSeqGeneEdgeRQL/ | - | 2017-08-16 18:22:07 | 
| RnaSeqSampleSize/ | - | 2017-10-18 18:32:49 | 
| Rnits/ | - | 2017-10-18 18:32:22 | 
| Roleswitch/ | - | 2017-10-18 18:31:21 | 
| RpsiXML/ | - | 2017-10-18 18:28:34 | 
| Rqc/ | - | 2017-10-18 18:32:40 | 
| Rsamtools/ | - | 2017-10-18 18:29:03 | 
| Rsubread/ | - | 2017-10-18 18:29:25 | 
| Rtreemix/ | - | 2017-10-18 18:28:20 | 
| S4Vectors/ | - | 2017-10-18 18:32:03 | 
| SAGx/ | - | 2017-10-18 18:28:03 | 
| SANTA/ | - | 2017-10-18 18:30:57 | 
| SBMLR/ | - | 2017-10-18 18:27:38 | 
| SC3/ | - | 2017-10-18 18:34:09 | 
| SCAN.UPC/ | - | 2017-10-18 18:30:41 | 
| SELEX/ | - | 2017-10-18 18:32:56 | 
| SEPA/ | - | 2017-10-18 18:33:22 | 
| SGSeq/ | - | 2017-10-18 18:32:37 | 
| SICtools/ | - | 2017-10-18 18:33:42 | 
| SIM/ | - | 2017-10-18 18:28:31 | 
| SIMAT/ | - | 2017-10-18 18:33:02 | 
| SIMLR/ | - | 2017-10-18 18:35:01 | 
| SISPA/ | - | 2017-10-18 18:33:42 | 
| SLGI/ | - | 2017-10-18 18:28:22 | 
| SLqPCR/ | - | 2017-10-18 18:28:09 | 
| SMAP/ | - | 2017-10-18 18:28:15 | 
| SMITE/ | - | 2017-10-18 18:34:13 | 
| SNAGEE/ | - | 2017-10-18 18:30:46 | 
| SNPRelate/ | - | 2017-10-18 18:32:23 | 
| SNPchip/ | - | 2017-10-18 18:27:55 | 
| SNPediaR/ | - | 2017-10-18 18:34:51 | 
| SNPhood/ | - | 2017-10-18 18:33:44 | 
| SPEM/ | - | 2017-10-18 18:31:00 | 
| SPIA/ | - | 2017-10-18 18:28:43 | 
| SPLINTER/ | - | 2017-10-18 18:35:01 | 
| SQUADD/ | - | 2017-10-18 18:29:12 | 
| SRAdb/ | - | 2017-10-18 18:29:04 | 
| SRGnet/ | - | 2017-10-18 18:34:42 | 
| SSPA/ | - | 2017-10-18 18:28:45 | 
| STAN/ | - | 2017-10-18 18:32:16 | 
| STATegRa/ | - | 2017-10-18 18:32:37 | 
| STRINGdb/ | - | 2017-10-18 18:31:25 | 
| STROMA4/ | - | 2017-10-18 18:35:31 | 
| SVAPLSseq/ | - | 2017-10-18 18:34:54 | 
| SVM2CRM/ | - | 2017-10-18 18:33:09 | 
| SWATH2stats/ | - | 2017-10-18 18:33:43 | 
| SamSPECTRAL/ | - | 2017-10-18 18:29:00 | 
| ScISI/ | - | 2017-10-18 18:27:53 | 
| SemDist/ | - | 2017-10-18 18:32:19 | 
| SeqArray/ | - | 2017-10-18 18:31:00 | 
| SeqGSEA/ | - | 2017-10-18 18:31:02 | 
| SeqVarTools/ | - | 2017-10-18 18:31:17 | 
| ShortRead/ | - | 2017-10-18 18:28:30 | 
| SigCheck/ | - | 2017-10-18 18:32:36 | 
| SigFuge/ | - | 2017-10-18 18:31:13 | 
| SimBindProfiles/ | - | 2017-10-18 18:31:25 | 
| SomaticSignatures/ | - | 2017-10-18 18:31:45 | 
| SpacePAC/ | - | 2017-10-18 18:31:18 | 
| SpeCond/ | - | 2017-10-18 18:28:55 | 
| SpidermiR/ | - | 2017-10-18 18:34:23 | 
| SplicingGraphs/ | - | 2017-10-18 18:31:05 | 
| StarBioTrek/ | - | 2017-10-18 18:35:08 | 
| Starr/ | - | 2017-10-18 18:28:50 | 
| Streamer/ | - | 2017-10-18 18:29:37 | 
| SummarizedExperiment/ | - | 2017-10-18 18:33:19 | 
| Sushi/ | - | 2017-10-18 18:31:58 | 
| SwathXtend/ | - | 2017-10-18 18:34:23 | 
| SwimR/ | - | 2017-10-18 18:31:19 | 
| TCC/ | - | 2017-10-18 18:31:21 | 
| TCGAWorkflow/ | - | 2017-08-16 18:22:08 | 
| TCGAbiolinks/ | - | 2017-10-18 18:33:33 | 
| TCGAbiolinksGUI/ | - | 2017-10-18 18:35:23 | 
| TCseq/ | - | 2017-10-18 18:35:16 | 
| TDARACNE/ | - | 2017-10-18 18:29:20 | 
| TEQC/ | - | 2017-10-18 18:29:17 | 
| TFBSTools/ | - | 2017-10-18 18:31:30 | 
| TIN/ | - | 2017-10-18 18:33:04 | 
| TPP/ | - | 2017-10-18 18:33:10 | 
| TRONCO/ | - | 2017-10-18 18:32:50 | 
| TSCAN/ | - | 2017-10-18 18:32:24 | 
| TSRchitect/ | - | 2017-10-18 18:35:41 | 
| TSSi/ | - | 2017-10-18 18:29:38 | 
| TVTB/ | - | 2017-10-18 18:35:07 | 
| TarSeqQC/ | - | 2017-10-18 18:33:39 | 
| TargetScore/ | - | 2017-10-18 18:31:14 | 
| TargetSearch/ | - | 2017-10-18 18:28:47 | 
| TitanCNA/ | - | 2017-10-18 18:31:59 | 
| ToPASeq/ | - | 2017-10-18 18:16:22 | 
| TransView/ | - | 2017-10-18 18:30:43 | 
| TurboNorm/ | - | 2017-10-18 18:29:18 | 
| TypeInfo/ | - | 2017-10-18 18:27:58 | 
| UNDO/ | - | 2017-10-18 18:31:53 | 
| UniProt.ws/ | - | 2017-10-18 18:30:46 | 
| Uniquorn/ | - | 2017-10-18 18:34:20 | 
| VanillaICE/ | - | 2017-10-18 18:28:17 | 
| VariantAnnotation/ | - | 2017-10-18 18:29:37 | 
| VariantFiltering/ | - | 2017-10-18 18:31:57 | 
| VariantTools/ | - | 2017-10-18 18:30:44 | 
| Vega/ | - | 2017-10-18 18:29:18 | 
| VegaMC/ | - | 2017-10-18 18:30:20 | 
| XBSeq/ | - | 2017-10-18 18:33:25 | 
| XDE/ | - | 2017-10-18 18:28:23 | 
| XVector/ | - | 2017-10-18 18:31:06 | 
| YAPSA/ | - | 2017-10-18 18:34:56 | 
| a4/ | - | 2017-10-18 18:29:29 | 
| a4Base/ | - | 2017-10-18 18:29:28 | 
| a4Classif/ | - | 2017-10-18 18:29:28 | 
| a4Core/ | - | 2017-10-18 18:29:28 | 
| a4Preproc/ | - | 2017-10-18 18:29:28 | 
| a4Reporting/ | - | 2017-10-18 18:29:29 | 
| aCGH/ | - | 2017-10-18 18:27:32 | 
| acde/ | - | 2017-10-18 18:33:20 | 
| adSplit/ | - | 2017-10-18 18:27:54 | 
| affxparser/ | - | 2017-10-18 18:27:48 | 
| affy/ | - | 2017-10-18 18:27:18 | 
| affyContam/ | - | 2017-10-18 18:28:39 | 
| affyILM/ | - | 2017-10-18 18:29:07 | 
| affyPLM/ | - | 2017-10-18 18:27:23 | 
| affyPara/ | - | 2017-10-18 18:28:25 | 
| affyQCReport/ | - | 2017-10-18 18:27:46 | 
| affycomp/ | - | 2017-10-18 18:27:21 | 
| affycoretools/ | - | 2017-10-18 18:27:50 | 
| affyio/ | - | 2017-10-18 18:27:17 | 
| affylmGUI/ | - | 2017-10-18 18:27:30 | 
| affypdnn/ | - | 2017-10-18 18:27:25 | 
| agilp/ | - | 2017-10-18 18:30:41 | 
| alpine/ | - | 2017-10-18 18:34:55 | 
| alsace/ | - | 2017-10-18 18:31:49 | 
| altcdfenvs/ | - | 2017-10-18 18:27:29 | 
| ampliQueso/ | - | 2017-10-18 18:31:26 | 
| anamiR/ | - | 2017-10-18 18:35:05 | 
| annaffy/ | - | 2017-10-18 18:27:22 | 
| annmap/ | - | 2017-10-18 18:30:25 | 
| annotate/ | - | 2017-10-18 18:27:15 | 
| annotationTools/ | - | 2017-10-18 18:28:09 | 
| annotatr/ | - | 2017-10-18 18:35:06 | 
| anota/ | - | 2017-10-18 18:29:29 | 
| antiProfiles/ | - | 2017-10-18 18:31:03 | 
| apComplex/ | - | 2017-10-18 18:27:39 | 
| aroma.light/ | - | 2017-10-18 18:28:00 | 
| arrayMvout/ | - | 2017-10-18 18:28:39 | 
| arrayQuality/ | - | 2017-10-18 18:27:29 | 
| arrayQualityMetrics/ | - | 2017-10-18 18:28:16 | 
| attract/ | - | 2017-10-18 18:29:07 | 
| bacon/ | - | 2017-10-18 18:34:22 | 
| ballgown/ | - | 2017-10-18 18:32:16 | 
| bamsignals/ | - | 2017-10-18 18:33:03 | 
| banocc/ | - | 2017-10-18 18:35:33 | 
| basecallQC/ | - | 2017-10-18 18:35:34 | 
| baySeq/ | - | 2017-10-18 18:28:53 | 
| beadarray/ | - | 2017-10-18 18:27:53 | 
| beadarraySNP/ | - | 2017-10-18 18:28:02 | 
| betr/ | - | 2017-08-16 18:21:56 | 
| bgafun/ | - | 2017-10-18 18:28:17 | 
| bgx/ | - | 2017-10-18 18:28:13 | 
| bigmelon/ | - | 2017-10-18 18:34:59 | 
| bigmemoryExtras/ | - | 2017-10-18 18:30:41 | 
| bioCancer/ | - | 2017-10-18 18:34:40 | 
| bioDist/ | - | 2017-10-18 18:27:39 | 
| bioassayR/ | - | 2017-10-18 18:31:26 | 
| biobroom/ | - | 2017-10-18 18:33:45 | 
| biocGraph/ | - | 2017-10-18 18:28:14 | 
| biocViews/ | - | 2017-10-18 18:27:48 | 
| biomaRt/ | - | 2017-10-18 18:27:39 | 
| biomformat/ | - | 2017-10-18 18:33:50 | 
| biomvRCNS/ | - | 2017-10-18 18:30:56 | 
| biosigner/ | - | 2017-10-18 18:34:19 | 
| biosvd/ | - | 2017-10-18 18:31:43 | 
| biotmle/ | - | 2017-10-18 18:35:37 | 
| biovizBase/ | - | 2017-10-18 18:30:04 | 
| birta/ | - | 2017-10-18 18:30:18 | 
| birte/ | - | 2017-10-18 18:32:55 | 
| blima/ | - | 2017-10-18 18:32:04 | 
| branchpointer/ | - | 2017-10-18 18:35:28 | 
| bridge/ | - | 2017-10-18 18:27:44 | 
| bsseq/ | - | 2017-10-18 18:30:29 | 
| bumphunter/ | - | 2017-10-18 18:30:48 | 
| caOmicsV/ | - | 2017-10-18 18:33:22 | 
| canceR/ | - | 2017-10-18 18:33:00 | 
| cancerclass/ | - | 2017-10-18 18:30:24 | 
| casper/ | - | 2017-10-18 18:30:53 | 
| categoryCompare/ | - | 2017-10-18 18:14:36 | 
| ccmap/ | - | 2017-10-18 18:34:45 | 
| ccrepe/ | - | 2017-10-18 18:31:35 | 
| cellGrowth/ | - | 2017-10-18 18:30:19 | 
| cellHTS2/ | - | 2017-10-18 18:28:14 | 
| cellTree/ | - | 2017-10-18 18:34:08 | 
| cellbaseR/ | - | 2017-10-18 18:35:37 | 
| cellity/ | - | 2017-10-18 18:34:16 | 
| cellscape/ | - | 2017-10-18 18:35:23 | 
| cghMCR/ | - | 2017-10-18 18:27:57 | 
| charm/ | - | 2017-10-18 18:29:00 | 
| chimera/ | - | 2017-10-18 18:30:56 | 
| chimeraviz/ | - | 2017-10-18 18:35:12 | 
| chipenrich/ | - | 2017-10-18 18:31:21 | 
| chipseq/ | - | 2017-10-18 18:28:48 | 
| chopsticks/ | - | 2017-10-18 18:29:21 | 
| chroGPS/ | - | 2017-10-18 18:30:43 | 
| chromDraw/ | - | 2017-10-18 18:32:48 | 
| chromPlot/ | - | 2017-10-18 18:34:16 | 
| chromstaR/ | - | 2017-10-18 18:34:45 | 
| cisPath/ | - | 2017-10-18 18:30:56 | 
| cleanUpdTSeq/ | - | 2017-10-18 18:31:12 | 
| cleaver/ | - | 2017-10-18 18:31:09 | 
| clippda/ | - | 2017-10-18 18:28:51 | 
| clipper/ | - | 2017-10-18 18:30:53 | 
| clonotypeR/ | - | 2017-10-18 18:31:06 | 
| clst/ | - | 2017-10-18 18:29:22 | 
| clstutils/ | - | 2017-10-18 18:29:23 | 
| clustComp/ | - | 2017-10-18 18:34:14 | 
| clusterExperiment/ | - | 2017-10-18 18:34:47 | 
| clusterProfiler/ | - | 2017-10-18 18:29:23 | 
| clusterSeq/ | - | 2017-10-18 18:35:13 | 
| clusterStab/ | - | 2017-10-18 18:27:45 | 
| cn.farms/ | - | 2017-10-18 18:29:25 | 
| cn.mops/ | - | 2017-10-18 18:30:10 | 
| cnvGSA/ | - | 2017-10-18 18:30:21 | 
| coGPS/ | - | 2017-10-18 18:30:18 | 
| coMET/ | - | 2017-10-18 18:32:48 | 
| coRNAi/ | - | 2017-10-18 18:29:07 | 
| cobindR/ | - | 2017-10-18 18:31:14 | 
| codelink/ | - | 2017-10-18 18:27:51 | 
| cogena/ | - | 2017-10-18 18:33:09 | 
| compEpiTools/ | - | 2017-10-18 18:32:20 | 
| compcodeR/ | - | 2017-10-18 18:31:59 | 
| consensusSeekeR/ | - | 2017-10-18 18:33:47 | 
| contiBAIT/ | - | 2017-10-18 18:34:14 | 
| conumee/ | - | 2017-10-18 18:33:11 | 
| convert/ | - | 2017-10-18 18:27:31 | 
| copa/ | - | 2017-10-18 18:27:54 | 
| copynumber/ | - | 2017-10-18 18:31:03 | 
| coseq/ | - | 2017-10-18 18:35:17 | 
| cosmiq/ | - | 2017-10-18 18:32:06 | 
| covEB/ | - | 2017-10-18 18:34:43 | 
| covRNA/ | - | 2017-10-18 18:34:40 | 
| cpvSNP/ | - | 2017-10-18 18:32:44 | 
| cqn/ | - | 2017-10-18 18:29:33 | 
| crisprseekplus/ | - | 2017-10-18 18:35:06 | 
| crlmm/ | - | 2017-10-18 18:28:44 | 
| crossmeta/ | - | 2017-10-18 18:34:44 | 
| csaw/ | - | 2017-10-18 18:32:36 | 
| ctc/ | - | 2017-10-18 18:27:16 | 
| ctsGE/ | - | 2017-10-18 18:34:51 | 
| cummeRbund/ | - | 2017-10-18 18:30:05 | 
| customProDB/ | - | 2017-10-18 18:31:09 | 
| cycle/ | - | 2017-10-18 18:28:53 | 
| cydar/ | - | 2017-10-18 18:35:30 | 
| cytofkit/ | - | 2017-10-18 18:32:53 | 
| dSimer/ | - | 2017-10-18 18:34:39 | 
| daMA/ | - | 2017-10-18 18:27:22 | 
| dada2/ | - | 2017-10-18 18:34:17 | 
| dagLogo/ | - | 2017-10-18 18:31:26 | 
| dcGSA/ | - | 2017-10-18 18:33:50 | 
| ddCt/ | - | 2017-10-18 18:28:49 | 
| ddgraph/ | - | 2017-10-18 18:30:24 | 
| debrowser/ | - | 2017-10-18 18:34:24 | 
| deepSNV/ | - | 2017-10-18 18:30:14 | 
| deltaGseg/ | - | 2017-10-18 18:30:58 | 
| derfinder/ | - | 2017-10-18 18:32:30 | 
| derfinderHelper/ | - | 2017-10-18 18:32:31 | 
| derfinderPlot/ | - | 2017-10-18 18:32:30 | 
| destiny/ | - | 2017-10-18 18:33:30 | 
| dexus/ | - | 2017-10-18 18:30:58 | 
| diffGeneAnalysis/ | - | 2017-10-18 18:27:46 | 
| diffHic/ | - | 2017-10-18 18:33:13 | 
| diffloop/ | - | 2017-10-18 18:34:37 | 
| diggit/ | - | 2017-10-18 18:33:00 | 
| discordant/ | - | 2017-10-18 18:35:20 | 
| dks/ | - | 2017-10-18 18:30:04 | 
| domainsignatures/ | - | 2017-10-18 18:28:34 | 
| doppelgangR/ | - | 2017-10-18 18:34:21 | 
| dualKS/ | - | 2017-10-18 18:31:49 | 
| dupRadar/ | - | 2017-10-18 18:33:37 | 
| dyebias/ | - | 2017-10-18 18:28:45 | 
| easyRNASeq/ | - | 2017-10-18 18:30:12 | 
| ecolitk/ | - | 2017-10-18 18:27:25 | 
| edge/ | - | 2017-10-18 18:33:18 | 
| edgeR/ | - | 2017-10-18 18:28:35 | 
| eegc/ | - | 2017-10-18 18:34:55 | 
| eiR/ | - | 2017-10-18 18:31:01 | 
| eisa/ | - | 2017-10-18 18:28:56 | 
| ensemblVEP/ | - | 2017-10-18 18:30:49 | 
| ensembldb/ | - | 2017-10-18 18:33:04 | 
| epiNEM/ | - | 2017-10-18 18:35:27 | 
| epigenomix/ | - | 2017-10-18 18:30:58 | 
| epivizr/ | - | 2017-10-18 18:31:26 | 
| epivizrData/ | - | 2017-10-18 18:34:36 | 
| epivizrServer/ | - | 2017-10-18 18:34:36 | 
| epivizrStandalone/ | - | 2017-10-18 18:34:38 | 
| erccdashboard/ | - | 2017-10-18 18:32:20 | 
| erma/ | - | 2017-10-18 18:33:24 | 
| esetVis/ | - | 2017-10-18 18:34:44 | 
| eudysbiome/ | - | 2017-10-18 18:33:31 | 
| exomeCopy/ | - | 2017-10-18 18:30:09 | 
| exomePeak/ | - | 2017-10-18 18:31:27 | 
| explorase/ | - | 2017-10-18 18:19:52 | 
| fCCAC/ | - | 2017-10-18 18:35:09 | 
| fCI/ | - | 2017-10-18 18:33:24 | 
| fabia/ | - | 2017-10-18 18:29:07 | 
| facopy/ | - | 2017-10-18 18:32:38 | 
| factDesign/ | - | 2017-10-18 18:27:23 | 
| farms/ | - | 2017-10-18 18:29:11 | 
| fastLiquidAssociation/ | - | 2017-10-18 18:32:03 | 
| fastseg/ | - | 2017-10-18 18:30:10 | 
| fdrame/ | - | 2017-10-18 18:27:46 | 
| ffpe/ | - | 2017-10-18 18:30:17 | 
| fgsea/ | - | 2017-10-18 18:34:46 | 
| flagme/ | - | 2017-10-18 18:28:40 | 
| flipflop/ | - | 2017-10-18 18:31:31 | 
| flowAI/ | - | 2017-10-18 18:34:10 | 
| flowBeads/ | - | 2017-10-18 18:31:09 | 
| flowBin/ | - | 2017-10-18 18:31:36 | 
| flowCHIC/ | - | 2017-10-18 18:32:36 | 
| flowCL/ | - | 2017-10-18 18:31:56 | 
| flowClean/ | - | 2017-10-18 18:32:06 | 
| flowClust/ | - | 2017-10-18 18:28:26 | 
| flowCore/ | - | 2017-10-18 18:28:05 | 
| flowCyBar/ | - | 2017-10-18 18:31:55 | 
| flowDensity/ | - | 2017-10-18 18:32:11 | 
| flowFP/ | - | 2017-10-18 18:28:49 | 
| flowFit/ | - | 2017-10-18 18:31:07 | 
| flowMap/ | - | 2017-10-18 18:31:27 | 
| flowMatch/ | - | 2017-10-18 18:31:35 | 
| flowMeans/ | - | 2017-10-18 18:29:05 | 
| flowMerge/ | - | 2017-10-18 18:28:48 | 
| flowPeaks/ | - | 2017-10-18 18:30:26 | 
| flowPloidy/ | - | 2017-10-18 18:35:03 | 
| flowPlots/ | - | 2017-10-18 18:29:24 | 
| flowQ/ | - | 2017-10-18 18:12:53 | 
| flowQB/ | - | 2017-10-18 18:30:25 | 
| flowStats/ | - | 2017-10-18 18:28:46 | 
| flowTime/ | - | 2017-10-18 18:35:31 | 
| flowTrans/ | - | 2017-10-18 18:29:06 | 
| flowType/ | - | 2017-10-18 18:29:34 | 
| flowUtils/ | - | 2017-10-18 18:28:05 | 
| flowVS/ | - | 2017-10-18 18:33:14 | 
| flowViz/ | - | 2017-10-18 18:28:06 | 
| flowWorkspace/ | - | 2017-10-18 18:29:30 | 
| flowcatchR/ | - | 2017-10-18 18:32:33 | 
| fmcsR/ | - | 2017-10-18 18:30:37 | 
| focalCall/ | - | 2017-10-18 18:32:33 | 
| frma/ | - | 2017-10-18 18:28:57 | 
| frmaTools/ | - | 2017-10-18 18:28:57 | 
| funtooNorm/ | - | 2017-10-18 18:35:17 | 
| gCMAP/ | - | 2017-10-18 18:30:39 | 
| gCMAPWeb/ | - | 2017-10-18 18:30:57 | 
| gCrisprTools/ | - | 2017-10-18 18:34:57 | 
| gQTLBase/ | - | 2017-10-18 18:32:45 | 
| gQTLstats/ | - | 2017-10-18 18:32:45 | 
| gaga/ | - | 2017-10-18 18:28:21 | 
| gage/ | - | 2017-10-18 18:29:14 | 
| gaggle/ | - | 2017-10-18 18:27:58 | 
| gaia/ | - | 2017-10-18 18:29:17 | 
| garfield/ | - | 2017-10-18 18:34:16 | 
| gaucho/ | - | 2017-10-18 18:32:00 | 
| gcapc/ | - | 2017-10-18 18:35:12 | 
| gcatest/ | - | 2017-10-18 18:33:39 | 
| gcrma/ | - | 2017-10-18 18:27:21 | 
| gdsfmt/ | - | 2017-10-18 18:32:50 | 
| geNetClassifier/ | - | 2017-10-18 18:31:03 | 
| geecc/ | - | 2017-10-18 18:32:25 | 
| genArise/ | - | 2017-10-18 18:27:34 | 
| genbankr/ | - | 2017-10-18 18:34:33 | 
| geneAttribution/ | - | 2017-10-18 18:34:56 | 
| geneClassifiers/ | - | 2017-10-18 18:35:21 | 
| geneRecommender/ | - | 2017-10-18 18:27:43 | 
| geneRxCluster/ | - | 2017-10-18 18:31:37 | 
| geneXtendeR/ | - | 2017-10-18 18:35:02 | 
| genefilter/ | - | 2017-10-18 18:27:15 | 
| genefu/ | - | 2017-10-18 18:29:26 | 
| geneplast/ | - | 2017-10-18 18:34:43 | 
| geneplotter/ | - | 2017-10-18 18:27:15 | 
| genoCN/ | - | 2017-10-18 18:29:01 | 
| genomation/ | - | 2017-10-18 18:32:43 | 
| genomeIntervals/ | - | 2017-10-18 18:28:43 | 
| genomes/ | - | 2017-10-18 18:29:06 | 
| genoset/ | - | 2017-10-18 18:29:27 | 
| genotypeeval/ | - | 2017-10-18 18:33:28 | 
| genphen/ | - | 2017-10-18 18:34:26 | 
| gespeR/ | - | 2017-10-18 18:32:49 | 
| ggbio/ | - | 2017-10-18 18:30:08 | 
| ggcyto/ | - | 2017-10-18 18:34:08 | 
| ggtree/ | - | 2017-10-18 18:32:52 | 
| girafe/ | - | 2017-10-18 18:29:02 | 
| globalSeq/ | - | 2017-10-18 18:33:47 | 
| globaltest/ | - | 2017-10-18 18:27:33 | 
| gmapR/ | - | 2017-10-18 18:30:31 | 
| goProfiles/ | - | 2017-10-18 18:28:29 | 
| goSTAG/ | - | 2017-10-18 18:35:18 | 
| goTools/ | - | 2017-10-18 18:27:30 | 
| goseq/ | - | 2017-10-18 18:29:04 | 
| gpls/ | - | 2017-10-18 18:27:23 | 
| gprege/ | - | 2017-10-18 18:30:19 | 
| graph/ | - | 2017-10-18 18:27:19 | 
| graphite/ | - | 2017-10-18 18:30:02 | 
| groHMM/ | - | 2017-10-18 18:32:38 | 
| gtrellis/ | - | 2017-10-18 18:33:04 | 
| gwascat/ | - | 2017-10-18 18:30:15 | 
| h5vc/ | - | 2017-10-18 18:31:32 | 
| hapFabia/ | - | 2017-10-18 18:30:38 | 
| heatmaps/ | - | 2017-10-18 18:35:39 | 
| hiAnnotator/ | - | 2017-10-18 18:32:04 | 
| hiReadsProcessor/ | - | 2017-10-18 18:32:21 | 
| hicrep/ | - | 2017-10-18 18:35:26 | 
| hierGWAS/ | - | 2017-10-18 18:33:22 | 
| hopach/ | - | 2017-10-18 18:27:36 | 
| hpar/ | - | 2017-10-18 18:30:38 | 
| htSeqTools/ | - | 2017-10-18 18:29:35 | 
| hyperdraw/ | - | 2017-10-18 18:28:57 | 
| hypergraph/ | - | 2017-10-18 18:27:44 | 
| iASeq/ | - | 2017-10-18 18:30:22 | 
| iBBiG/ | - | 2017-10-18 18:30:21 | 
| iBMQ/ | - | 2017-10-18 18:30:49 | 
| iCARE/ | - | 2017-10-18 18:34:10 | 
| iCOBRA/ | - | 2017-10-18 18:33:49 | 
| iCheck/ | - | 2017-10-18 18:33:40 | 
| iChip/ | - | 2017-10-18 18:28:58 | 
| iClusterPlus/ | - | 2017-10-18 18:31:41 | 
| iGC/ | - | 2017-10-18 18:33:35 | 
| iPAC/ | - | 2017-10-18 18:30:33 | 
| iSeq/ | - | 2017-10-18 18:29:13 | 
| ibh/ | - | 2017-10-18 18:29:24 | 
| ideal/ | - | 2017-10-18 18:35:39 | 
| idiogram/ | - | 2017-10-18 18:27:43 | 
| illuminaio/ | - | 2017-10-18 18:30:45 | 
| imageHTS/ | - | 2017-10-18 18:29:10 | 
| immunoClust/ | - | 2017-10-18 18:33:00 | 
| impute/ | - | 2017-10-18 18:27:28 | 
| intansv/ | - | 2017-10-18 18:31:14 | 
| interactiveDisplay/ | - | 2017-10-18 18:31:32 | 
| interactiveDisplayBase/ | - | 2017-10-18 18:32:16 | 
| inveRsion/ | - | 2017-10-18 18:29:23 | 
| iontree/ | - | 2017-10-18 18:29:38 | 
| isobar/ | - | 2017-10-18 18:30:08 | 
| isomiRs/ | - | 2017-10-18 18:34:28 | 
| iterativeBMA/ | - | 2017-10-18 18:28:33 | 
| iterativeBMAsurv/ | - | 2017-10-18 18:28:33 | 
| joda/ | - | 2017-10-18 18:29:21 | 
| karyoploteR/ | - | 2017-10-18 18:35:19 | 
| kebabs/ | - | 2017-10-18 18:32:39 | 
| keggorthology/ | - | 2017-10-18 18:28:14 | 
| kimod/ | - | 2017-10-18 18:34:06 | 
| lapmix/ | - | 2017-10-18 18:28:01 | 
| ldblock/ | - | 2017-10-18 18:33:34 | 
| les/ | - | 2017-10-18 18:29:12 | 
| lfa/ | - | 2017-10-18 18:33:40 | 
| limma/ | - | 2017-10-18 18:27:21 | 
| limmaGUI/ | - | 2017-10-18 18:27:30 | 
| lmdme/ | - | 2017-10-18 18:30:37 | 
| logicFS/ | - | 2017-10-18 18:27:58 | 
| logitT/ | - | 2017-10-18 18:28:34 | 
| lol/ | - | 2017-10-18 18:29:28 | 
| lpNet/ | - | 2017-10-18 18:30:55 | 
| lpsymphony/ | - | 2017-10-18 18:34:01 | 
| lumi/ | - | 2017-10-18 18:28:07 | 
| mAPKL/ | - | 2017-10-18 18:32:50 | 
| mBPCR/ | - | 2017-10-18 18:28:50 | 
| mQTL.NMR/ | - | 2017-10-18 18:32:14 | 
| maCorrPlot/ | - | 2017-10-18 18:27:56 | 
| maPredictDSC/ | - | 2017-10-18 18:31:12 | 
| maSigPro/ | - | 2017-10-18 18:27:49 | 
| maanova/ | - | 2017-10-18 18:27:48 | 
| macat/ | - | 2017-10-18 18:27:38 | 
| made4/ | - | 2017-10-18 18:27:40 | 
| maftools/ | - | 2017-10-18 18:34:49 | 
| maigesPack/ | - | 2017-10-18 18:28:18 | 
| makecdfenv/ | - | 2017-10-18 18:27:19 | 
| manta/ | - | 2017-10-18 18:30:14 | 
| mapscape/ | - | 2017-10-18 18:35:23 | 
| marray/ | - | 2017-10-18 18:27:30 | 
| maskBAD/ | - | 2017-10-18 18:30:12 | 
| massiR/ | - | 2017-10-18 18:31:50 | 
| matchBox/ | - | 2017-10-18 18:30:45 | 
| matter/ | - | 2017-10-18 18:35:04 | 
| mcaGUI/ | - | 2017-10-18 18:29:25 | 
| mdgsa/ | - | 2017-10-18 18:32:46 | 
| mdqc/ | - | 2017-10-18 18:28:23 | 
| meshes/ | - | 2017-10-18 18:35:07 | 
| meshr/ | - | 2017-10-18 18:32:01 | 
| messina/ | - | 2017-10-18 18:31:54 | 
| metaArray/ | - | 2017-10-18 18:27:52 | 
| metaCCA/ | - | 2017-10-18 18:34:14 | 
| metaMS/ | - | 2017-10-18 18:31:57 | 
| metaSeq/ | - | 2017-10-18 18:31:32 | 
| metabomxtr/ | - | 2017-10-18 18:32:17 | 
| metagene/ | - | 2017-10-18 18:32:17 | 
| metagenomeFeatures/ | - | 2017-10-18 18:33:41 | 
| metagenomeSeq/ | - | 2017-10-18 18:31:02 | 
| metahdep/ | - | 2017-10-18 18:28:43 | 
| metaseqR/ | - | 2017-10-18 18:31:50 | 
| metavizr/ | - | 2017-10-18 18:35:37 | 
| methVisual/ | - | 2017-10-18 18:28:59 | 
| methyAnalysis/ | - | 2017-10-18 18:30:37 | 
| methylInheritance/ | - | 2017-10-18 18:35:37 | 
| methylKit/ | - | 2017-10-18 18:34:48 | 
| methylMnM/ | - | 2017-10-18 18:31:27 | 
| methylPipe/ | - | 2017-10-18 18:32:21 | 
| methylumi/ | - | 2017-10-18 18:28:47 | 
| mgsa/ | - | 2017-10-18 18:29:19 | 
| miRLAB/ | - | 2017-10-18 18:33:28 | 
| miRNAmeConverter/ | - | 2017-10-18 18:34:21 | 
| miRNApath/ | - | 2017-10-18 18:28:32 | 
| miRNAtap/ | - | 2017-10-18 18:32:18 | 
| miRcomp/ | - | 2017-10-18 18:33:45 | 
| microRNA/ | - | 2017-10-18 18:28:36 | 
| mimager/ | - | 2017-10-18 18:35:17 | 
| minet/ | - | 2017-10-18 18:28:32 | 
| minfi/ | - | 2017-10-18 18:30:06 | 
| mirIntegrator/ | - | 2017-10-18 18:33:23 | 
| missMethyl/ | - | 2017-10-18 18:32:15 | 
| mitoODE/ | - | 2017-10-18 18:31:10 | 
| mmnet/ | - | 2017-10-18 18:15:35 | 
| mogsa/ | - | 2017-10-18 18:33:07 | 
| monocle/ | - | 2017-10-18 18:32:04 | 
| mosaics/ | - | 2017-10-18 18:29:20 | 
| motifRG/ | - | 2017-10-18 18:30:23 | 
| motifStack/ | - | 2017-10-18 18:30:39 | 
| motifbreakR/ | - | 2017-10-18 18:33:36 | 
| motifcounter/ | - | 2017-10-18 18:35:29 | 
| msPurity/ | - | 2017-10-18 18:34:40 | 
| msa/ | - | 2017-10-18 18:33:16 | 
| msgbsR/ | - | 2017-10-18 18:35:41 | 
| msmsEDA/ | - | 2017-10-18 18:31:15 | 
| msmsTests/ | - | 2017-10-18 18:31:16 | 
| multiClust/ | - | 2017-10-18 18:33:48 | 
| multiOmicsViz/ | - | 2017-10-18 18:35:28 | 
| multiscan/ | - | 2017-10-18 18:28:32 | 
| multtest/ | - | 2017-10-18 18:27:16 | 
| muscle/ | - | 2017-10-18 18:32:59 | 
| mvGST/ | - | 2017-10-18 18:32:38 | 
| mygene/ | - | 2017-10-18 18:32:42 | 
| myvariant/ | - | 2017-10-18 18:33:33 | 
| mzID/ | - | 2017-10-18 18:31:22 | 
| mzR/ | - | 2017-10-18 18:29:54 | 
| ncdfFlow/ | - | 2017-10-18 18:30:10 | 
| nem/ | - | 2017-10-18 18:28:04 | 
| netReg/ | - | 2017-10-18 18:35:30 | 
| netbenchmark/ | - | 2017-10-18 18:33:02 | 
| netbiov/ | - | 2017-10-18 18:32:15 | 
| nethet/ | - | 2017-10-18 18:32:44 | 
| netprioR/ | - | 2017-10-18 18:34:41 | 
| netresponse/ | - | 2017-10-18 18:29:13 | 
| networkBMA/ | - | 2017-10-18 18:30:33 | 
| nnNorm/ | - | 2017-10-18 18:27:34 | 
| nondetects/ | - | 2017-10-18 18:31:54 | 
| normalize450K/ | - | 2017-10-18 18:33:50 | 
| normr/ | - | 2017-10-18 18:34:45 | 
| npGSEA/ | - | 2017-10-18 18:31:59 | 
| nucleR/ | - | 2017-10-18 18:29:36 | 
| nucleoSim/ | - | 2017-10-18 18:34:20 | 
| nudge/ | - | 2017-10-18 18:27:57 | 
| occugene/ | - | 2017-10-18 18:28:06 | 
| odseq/ | - | 2017-10-18 18:34:30 | 
| oligo/ | - | 2017-10-18 18:27:45 | 
| oligoClasses/ | - | 2017-10-18 18:28:16 | 
| omicade4/ | - | 2017-10-18 18:31:23 | 
| oneChannelGUI/ | - | 2017-10-18 18:28:13 | 
| ontoCAT/ | - | 2017-10-18 18:29:14 | 
| openCyto/ | - | 2017-10-18 18:31:28 | 
| oposSOM/ | - | 2017-10-18 18:32:11 | 
| oppar/ | - | 2017-10-18 18:34:32 | 
| pRoloc/ | - | 2017-10-18 18:30:47 | 
| pRolocGUI/ | - | 2017-10-18 18:32:12 | 
| paircompviz/ | - | 2017-10-18 18:31:10 | 
| pandaR/ | - | 2017-10-18 18:33:12 | 
| panp/ | - | 2017-10-18 18:27:51 | 
| parglms/ | - | 2017-10-18 18:32:51 | 
| parody/ | - | 2017-10-18 18:28:38 | 
| pathRender/ | - | 2017-10-18 18:27:51 | 
| pathVar/ | - | 2017-10-18 18:33:41 | 
| pathifier/ | - | 2017-10-18 18:31:11 | 
| pathprint/ | - | 2017-10-18 18:35:27 | 
| pathview/ | - | 2017-10-18 18:30:59 | 
| paxtoolsr/ | - | 2017-10-18 18:32:33 | 
| pbcmc/ | - | 2017-10-18 18:34:34 | 
| pcaExplorer/ | - | 2017-10-18 18:34:32 | 
| pcaGoPromoter/ | - | 2017-10-18 18:30:13 | 
| pcaMethods/ | - | 2017-10-18 18:28:04 | 
| pcot2/ | - | 2017-10-18 18:28:00 | 
| pdInfoBuilder/ | - | 2017-10-18 18:28:07 | 
| pdmclass/ | - | 2017-10-18 18:27:45 | 
| pepStat/ | - | 2017-10-18 18:32:12 | 
| pepXMLTab/ | - | 2017-10-18 18:32:42 | 
| pgca/ | - | 2017-10-18 18:35:40 | 
| phenoDist/ | - | 2017-10-18 18:29:16 | 
| phenoTest/ | - | 2017-10-18 18:29:20 | 
| philr/ | - | 2017-10-18 18:34:56 | 
| phosphonormalizer/ | - | 2017-10-18 18:35:10 | 
| phyloseq/ | - | 2017-10-18 18:30:14 | 
| piano/ | - | 2017-10-18 18:31:04 | 
| pickgene/ | - | 2017-10-18 18:27:26 | 
| pint/ | - | 2017-10-18 18:28:59 | 
| pkgDepTools/ | - | 2017-10-18 18:28:02 | 
| plateCore/ | - | 2017-10-18 18:28:51 | 
| plethy/ | - | 2017-10-18 18:31:07 | 
| plgem/ | - | 2017-10-18 18:27:41 | 
| plier/ | - | 2017-10-18 18:27:39 | 
| plrs/ | - | 2017-10-18 18:30:46 | 
| plw/ | - | 2017-10-18 18:28:21 | 
| pmm/ | - | 2017-10-18 18:33:06 | 
| podkat/ | - | 2017-10-18 18:33:05 | 
| polyester/ | - | 2017-10-18 18:32:29 | 
| ppiStats/ | - | 2017-10-18 18:28:05 | 
| pqsfinder/ | - | 2017-10-18 18:34:33 | 
| prada/ | - | 2017-10-18 18:27:31 | 
| prebs/ | - | 2017-10-18 18:31:04 | 
| predictionet/ | - | 2017-10-18 18:30:06 | 
| preprocessCore/ | - | 2017-10-18 18:27:18 | 
| proBAMr/ | - | 2017-10-18 18:32:32 | 
| proFIA/ | - | 2017-10-18 18:35:09 | 
| procoil/ | - | 2017-10-18 18:29:22 | 
| profileScoreDist/ | - | 2017-10-18 18:33:51 | 
| prot2D/ | - | 2017-10-18 18:31:08 | 
| proteinProfiles/ | - | 2017-10-18 18:30:57 | 
| proteoQC/ | - | 2017-10-18 18:32:06 | 
| psichomics/ | - | 2017-10-18 18:35:05 | 
| psygenet2r/ | - | 2017-10-18 18:34:21 | 
| puma/ | - | 2017-10-18 18:28:14 | 
| pvac/ | - | 2017-10-18 18:29:21 | 
| pvca/ | - | 2017-10-18 18:30:47 | 
| pwOmics/ | - | 2017-10-18 18:33:18 | 
| qcmetrics/ | - | 2017-10-18 18:31:29 | 
| qpcrNorm/ | - | 2017-10-18 18:28:45 | 
| qpgraph/ | - | 2017-10-18 18:28:41 | 
| qrqc/ | - | 2017-10-18 18:29:27 | 
| qsea/ | - | 2017-10-18 18:34:46 | 
| quantro/ | - | 2017-10-18 18:32:20 | 
| quantsmooth/ | - | 2017-10-18 18:28:00 | 
| qusage/ | - | 2017-10-18 18:31:20 | 
| qvalue/ | - | 2017-10-18 18:27:27 | 
| r3Cseq/ | - | 2017-10-18 18:30:07 | 
| rBiopaxParser/ | - | 2017-10-18 18:30:55 | 
| rCGH/ | - | 2017-10-18 18:33:27 | 
| rDGIdb/ | - | 2017-10-18 18:34:49 | 
| rGADEM/ | - | 2017-10-18 18:28:59 | 
| rGREAT/ | - | 2017-10-18 18:32:55 | 
| rHVDM/ | - | 2017-10-18 18:28:10 | 
| rMAT/ | - | 2017-10-18 18:28:46 | 
| rRDP/ | - | 2017-10-18 18:32:28 | 
| rSFFreader/ | - | 2017-10-18 18:30:44 | 
| rTANDEM/ | - | 2017-10-18 18:30:50 | 
| rTRM/ | - | 2017-10-18 18:31:11 | 
| rTRMui/ | - | 2017-10-18 18:31:24 | 
| rain/ | - | 2017-10-18 18:32:24 | 
| rama/ | - | 2017-10-18 18:27:28 | 
| ramwas/ | - | 2017-10-18 18:35:14 | 
| randPack/ | - | 2017-10-18 18:29:32 | 
| rbsurv/ | - | 2017-10-18 18:28:13 | 
| rcellminer/ | - | 2017-10-18 18:33:04 | 
| readat/ | - | 2017-10-18 18:34:58 | 
| reb/ | - | 2017-10-18 18:27:47 | 
| recount/ | - | 2017-10-18 18:34:52 | 
| recoup/ | - | 2017-10-18 18:34:25 | 
| regionReport/ | - | 2017-10-18 18:32:31 | 
| regioneR/ | - | 2017-10-18 18:33:06 | 
| regsplice/ | - | 2017-10-18 18:35:08 | 
| rfPred/ | - | 2017-10-18 18:31:17 | 
| rgsepd/ | - | 2017-10-18 18:32:47 | 
| rhdf5/ | - | 2017-10-18 18:30:13 | 
| riboSeqR/ | - | 2017-10-18 18:32:10 | 
| rnaSeqMap/ | - | 2017-10-18 18:29:15 | 
| rnaseqcomp/ | - | 2017-10-18 18:33:26 | 
| roar/ | - | 2017-10-18 18:31:36 | 
| rols/ | - | 2017-10-18 18:30:25 | 
| ropls/ | - | 2017-10-18 18:33:28 | 
| rpx/ | - | 2017-10-18 18:31:51 | 
| rqt/ | - | 2017-10-18 18:35:26 | 
| rqubic/ | - | 2017-10-18 18:29:39 | 
| rsbml/ | - | 2017-10-18 18:28:18 | 
| rtracklayer/ | - | 2017-10-18 18:28:28 | 
| sRAP/ | - | 2017-10-18 18:31:30 | 
| sSeq/ | - | 2017-10-18 18:31:06 | 
| safe/ | - | 2017-10-18 18:27:41 | 
| sagenhaft/ | - | 2017-10-18 18:27:38 | 
| samExploreR/ | - | 2017-10-18 18:35:15 | 
| sampleClassifier/ | - | 2017-10-18 18:35:21 | 
| sangerseqR/ | - | 2017-10-18 18:31:47 | 
| sapFinder/ | - | 2017-10-18 18:31:52 | 
| saps/ | - | 2017-10-18 18:32:43 | 
| savR/ | - | 2017-10-18 18:31:44 | 
| scDD/ | - | 2017-10-18 18:35:14 | 
| scater/ | - | 2017-10-18 18:34:15 | 
| scde/ | - | 2017-10-18 18:33:47 | 
| scone/ | - | 2017-10-18 18:35:15 | 
| scran/ | - | 2017-10-18 18:34:31 | 
| scsR/ | - | 2017-10-18 18:31:48 | 
| segmentSeq/ | - | 2017-10-18 18:29:01 | 
| semisup/ | - | 2017-10-18 18:35:36 | 
| seq2pathway/ | - | 2017-10-18 18:32:52 | 
| seqCNA/ | - | 2017-10-18 18:31:13 | 
| seqLogo/ | - | 2017-10-18 18:28:08 | 
| seqPattern/ | - | 2017-10-18 18:32:51 | 
| seqTools/ | - | 2017-10-18 18:32:42 | 
| seqbias/ | - | 2017-10-18 18:29:19 | 
| seqplots/ | - | 2017-10-18 18:32:25 | 
| sevenbridges/ | - | 2017-10-18 18:33:35 | 
| shinyMethyl/ | - | 2017-10-18 18:32:13 | 
| shinyTANDEM/ | - | 2017-10-18 18:31:29 | 
| sigPathway/ | - | 2017-10-18 18:27:59 | 
| sigaR/ | - | 2017-10-18 18:30:11 | 
| siggenes/ | - | 2017-10-18 18:27:22 | 
| sights/ | - | 2017-10-18 18:34:43 | 
| signeR/ | - | 2017-10-18 18:34:58 | 
| sigsquared/ | - | 2017-10-18 18:32:57 | 
| similaRpeak/ | - | 2017-10-18 18:33:18 | 
| simpleaffy/ | - | 2017-10-18 18:27:25 | 
| simulatorZ/ | - | 2017-10-18 18:32:27 | 
| sincell/ | - | 2017-10-18 18:32:54 | 
| sizepower/ | - | 2017-10-18 18:27:54 | 
| skewr/ | - | 2017-10-18 18:32:57 | 
| snapCGH/ | - | 2017-10-18 18:27:52 | 
| snm/ | - | 2017-10-18 18:29:17 | 
| snpStats/ | - | 2017-10-18 18:28:24 | 
| soGGi/ | - | 2017-10-18 18:33:11 | 
| sparseDOSSA/ | - | 2017-10-18 18:35:13 | 
| specL/ | - | 2017-10-18 18:32:41 | 
| spikeLI/ | - | 2017-10-18 18:28:01 | 
| spkTools/ | - | 2017-10-18 18:28:41 | 
| splatter/ | - | 2017-10-18 18:35:19 | 
| spliceR/ | - | 2017-10-18 18:31:09 | 
| spliceSites/ | - | 2017-10-18 18:31:30 | 
| splicegear/ | - | 2017-10-18 18:27:21 | 
| splineTimeR/ | - | 2017-10-18 18:34:06 | 
| splots/ | - | 2017-10-18 18:28:03 | 
| spotSegmentation/ | - | 2017-10-18 18:27:40 | 
| sscore/ | - | 2017-10-18 18:27:53 | 
| sscu/ | - | 2017-10-18 18:34:26 | 
| ssize/ | - | 2017-10-18 18:27:44 | 
| ssviz/ | - | 2017-10-18 18:32:09 | 
| staRank/ | - | 2017-10-18 18:30:24 | 
| statTarget/ | - | 2017-10-18 18:35:02 | 
| stepNorm/ | - | 2017-10-18 18:27:37 | 
| stepwiseCM/ | - | 2017-10-18 18:30:07 | 
| subSeq/ | - | 2017-10-18 18:33:46 | 
| supraHex/ | - | 2017-10-18 18:31:19 | 
| survcomp/ | - | 2017-10-18 18:29:27 | 
| sva/ | - | 2017-10-18 18:30:07 | 
| swfdr/ | - | 2017-10-18 18:35:22 | 
| switchBox/ | - | 2017-10-18 18:32:22 | 
| switchde/ | - | 2017-10-18 18:34:53 | 
| synapter/ | - | 2017-10-18 18:30:29 | 
| synergyfinder/ | - | 2017-10-18 18:34:59 | 
| synlet/ | - | 2017-10-18 18:33:32 | 
| systemPipeR/ | - | 2017-10-18 18:32:26 | 
| tRanslatome/ | - | 2017-10-18 18:31:08 | 
| ternarynet/ | - | 2017-10-18 18:30:15 | 
| tigre/ | - | 2017-10-18 18:29:03 | 
| tilingArray/ | - | 2017-10-18 18:27:41 | 
| timecourse/ | - | 2017-10-18 18:27:47 | 
| timescape/ | - | 2017-10-18 18:35:24 | 
| tkWidgets/ | - | 2017-10-18 18:27:17 | 
| tofsims/ | - | 2017-10-18 18:34:08 | 
| topGO/ | - | 2017-10-18 18:28:09 | 
| trackViewer/ | - | 2017-10-18 18:31:44 | 
| tracktables/ | - | 2017-10-18 18:32:39 | 
| transcriptR/ | - | 2017-10-18 18:33:51 | 
| traseR/ | - | 2017-10-18 18:33:29 | 
| treeio/ | - | 2017-10-18 18:35:15 | 
| triform/ | - | 2017-10-18 18:30:34 | 
| trigger/ | - | 2017-10-18 18:30:11 | 
| trio/ | - | 2017-10-18 18:31:18 | 
| triplex/ | - | 2017-10-18 18:31:05 | 
| tspair/ | - | 2017-10-18 18:28:42 | 
| tweeDEseq/ | - | 2017-10-18 18:30:09 | 
| twilight/ | - | 2017-10-18 18:27:35 | 
| twoddpcr/ | - | 2017-10-18 18:35:24 | 
| tximport/ | - | 2017-10-18 18:34:13 | 
| uSORT/ | - | 2017-10-18 18:35:00 | 
| unifiedWMWqPCR/ | - | 2017-10-18 18:31:47 | 
| variancePartition/ | - | 2017-10-18 18:33:31 | 
| vbmp/ | - | 2017-10-18 18:28:15 | 
| viper/ | - | 2017-10-18 18:31:53 | 
| vsn/ | - | 2017-10-18 18:27:18 | 
| vtpnet/ | - | 2017-10-18 18:31:08 | 
| wateRmelon/ | - | 2017-10-18 18:30:48 | 
| wavClusteR/ | - | 2017-10-18 18:32:07 | 
| waveTiling/ | - | 2017-10-18 18:30:34 | 
| weaver/ | - | 2017-10-18 18:30:02 | 
| webbioc/ | - | 2017-10-18 18:27:24 | 
| widgetTools/ | - | 2017-10-18 18:27:20 | 
| wiggleplotr/ | - | 2017-10-18 18:35:31 | 
| xcms/ | - | 2017-10-18 18:27:42 | 
| xmapbridge/ | - | 2017-10-18 18:28:38 | 
| xps/ | - | 2017-10-18 18:28:20 | 
| yamss/ | - | 2017-10-18 18:35:08 | 
| yaqcaffy/ | - | 2017-10-18 18:28:18 | 
| yarn/ | - | 2017-10-18 18:35:10 | 
| zlibbioc/ | - | 2017-10-18 18:29:31 | 
| 120px-Blue_Light_Icon.svg.png | 7.1 KiB | 2017-10-18 18:10:50 | 
| 120px-Green_Light_Icon.svg.png | 7.1 KiB | 2017-10-18 18:10:50 | 
| 120px-Red_Light_Icon.svg.png | 7.0 KiB | 2017-10-18 18:10:50 | 
| DEVEL3b.png | 2.6 KiB | 2017-10-18 18:10:50 | 
| STATUS_DB.txt | 462.9 KiB | 2017-10-18 18:10:27 | 
| index.html | 5.1 MiB | 2017-10-18 18:38:06 | 
| malbec2-NodeInfo.html | 5.9 KiB | 2017-10-18 18:37:02 | 
| malbec2-R-instpkgs.html | 118.5 KiB | 2017-10-18 18:37:02 | 
| malbec2-index.html | 1.3 MiB | 2017-10-18 18:36:05 | 
| meat-index.txt | 320.0 KiB | 2017-10-18 18:10:26 | 
| oaxaca-NodeInfo.html | 5.6 KiB | 2017-08-16 18:21:44 | 
| oaxaca-R-instpkgs.html | 110.1 KiB | 2017-08-16 18:21:44 | 
| oaxaca-index.html | 1.1 MiB | 2017-08-16 18:21:44 | 
| report.css | 9.2 KiB | 2017-10-18 18:10:50 | 
| report.js | 5.1 KiB | 2017-10-18 18:10:50 | 
| report.tgz | 14.6 MiB | 2017-10-18 18:38:09 | 
| tokay2-NodeInfo.html | 6.3 KiB | 2017-10-18 18:37:02 | 
| tokay2-R-instpkgs.html | 115.4 KiB | 2017-10-18 18:37:02 | 
| tokay2-index.html | 1.4 MiB | 2017-10-18 18:36:33 | 
| toluca2-NodeInfo.html | 5.6 KiB | 2017-08-16 18:21:44 | 
| toluca2-R-instpkgs.html | 114.0 KiB | 2017-08-16 18:21:44 | 
| toluca2-index.html | 1.1 MiB | 2017-08-16 18:21:44 | 
| veracruz2-NodeInfo.html | 5.4 KiB | 2017-10-18 18:37:02 | 
| veracruz2-R-instpkgs.html | 115.0 KiB | 2017-10-18 18:37:02 | 
| veracruz2-index.html | 1.4 MiB | 2017-10-18 18:37:02 |