| limma 3.32.5 Gordon Smyth
 
 | Snapshot Date: 2017-08-15 17:17:57 -0400 (Tue, 15 Aug 2017) |  | URL: https://hedgehog.fhcrc.org/bioconductor/branches/RELEASE_3_5/madman/Rpacks/limma |  | Last Changed Rev: 131654 / Revision: 131943 |  | Last Changed Date: 2017-07-30 02:16:23 -0400 (Sun, 30 Jul 2017) | 
 | malbec2 | Linux (Ubuntu 16.04.1 LTS) / x86_64 | OK | OK | OK |  |  | 
| tokay2 | Windows Server 2012 R2 Standard / x64 | OK | OK | OK | [ OK ] |  | 
| veracruz2 | OS X 10.11.6 El Capitan / x86_64 | OK | OK | OK | OK |  | 
##############################################################################
##############################################################################
###
### Running command:
###
###   cd limma.buildbin-libdir/limma && zip -r ../../limma_3.32.5.zip . & cd ../..
###
##############################################################################
##############################################################################
  adding: CITATION (264 bytes security) (deflated 49%)
  adding: DESCRIPTION (264 bytes security) (deflated 43%)
  adding: doc/ (304 bytes security) (stored 0%)
  adding: doc/changelog.txt (264 bytes security) (deflated 70%)
  adding: doc/index.html (264 bytes security) (deflated 44%)
  adding: doc/intro.pdf (264 bytes security) (deflated 7%)
  adding: doc/intro.Rnw (264 bytes security) (deflated 52%)
  adding: doc/usersguide.pdf (264 bytes security) (deflated 14%)
  adding: help/ (304 bytes security) (stored 0%)
  adding: help/aliases.rds (264 bytes security) (stored 0%)
  adding: help/AnIndex (264 bytes security) (deflated 71%)
  adding: help/limma.rdb (264 bytes security) (deflated 1%)
  adding: help/limma.rdx (264 bytes security) (deflated 0%)
  adding: help/paths.rds (264 bytes security) (stored 0%)
  adding: html/ (304 bytes security) (stored 0%)
  adding: html/00Index.html (264 bytes security) (deflated 86%)
  adding: html/R.css (264 bytes security) (deflated 75%)
  adding: INDEX (264 bytes security) (deflated 68%)
  adding: libs/ (304 bytes security) (stored 0%)
  adding: libs/i386/ (304 bytes security) (stored 0%)
  adding: libs/i386/limma.dll (264 bytes security) (deflated 54%)
  adding: libs/x64/ (304 bytes security) (stored 0%)
  adding: libs/x64/limma.dll (264 bytes security) (deflated 55%)
  adding: MD5 (264 bytes security) (deflated 41%)
  adding: Meta/ (304 bytes security) (stored 0%)
  adding: Meta/features.rds (264 bytes security) (stored 0%)
  adding: Meta/hsearch.rds (264 bytes security) (deflated 2%)
  adding: Meta/links.rds (264 bytes security) (stored 0%)
  adding: Meta/nsInfo.rds (264 bytes security) (stored 0%)
  adding: Meta/package.rds (264 bytes security) (stored 0%)
  adding: Meta/Rd.rds (264 bytes security) (stored 0%)
  adding: Meta/vignette.rds (264 bytes security) (stored 0%)
  adding: NAMESPACE (264 bytes security) (deflated 73%)
  adding: NEWS.Rd (264 bytes security) (deflated 66%)
  adding: R/ (304 bytes security) (stored 0%)
  adding: R/limma (264 bytes security) (deflated 41%)
  adding: R/limma.rdb (264 bytes security) (deflated 6%)
  adding: R/limma.rdx (264 bytes security) (stored 0%)