| Back to the "Multiple platform build/check report" | A B C D E F G H I J K L M N O P Q [R] S T U V W X Y Z |
This page was generated on 2017-08-16 13:13:40 -0400 (Wed, 16 Aug 2017).
| Package 1081/1382 | Hostname | OS / Arch | INSTALL | BUILD | CHECK | BUILD BIN | |||||
| RCytoscape 1.26.0 Paul Shannon
| malbec2 | Linux (Ubuntu 16.04.1 LTS) / x86_64 | OK | OK | [ OK ] | ||||||
| tokay2 | Windows Server 2012 R2 Standard / x64 | ...NOT SUPPORTED...NOT SUPPORTED...NOT SUPPORTED... | |||||||||
| veracruz2 | OS X 10.11.6 El Capitan / x86_64 | ...NOT SUPPORTED...NOT SUPPORTED...NOT SUPPORTED... | |||||||||
| Package: RCytoscape |
| Version: 1.26.0 |
| Command: /home/biocbuild/bbs-3.5-bioc/R/bin/R CMD check --no-vignettes --timings RCytoscape_1.26.0.tar.gz |
| StartedAt: 2017-08-16 01:41:51 -0400 (Wed, 16 Aug 2017) |
| EndedAt: 2017-08-16 01:42:37 -0400 (Wed, 16 Aug 2017) |
| EllapsedTime: 46.0 seconds |
| RetCode: 0 |
| Status: OK |
| CheckDir: RCytoscape.Rcheck |
| Warnings: 0 |
##############################################################################
##############################################################################
###
### Running command:
###
### /home/biocbuild/bbs-3.5-bioc/R/bin/R CMD check --no-vignettes --timings RCytoscape_1.26.0.tar.gz
###
##############################################################################
##############################################################################
* using log directory ‘/home/biocbuild/bbs-3.5-bioc/meat/RCytoscape.Rcheck’
* using R version 3.4.1 (2017-06-30)
* using platform: x86_64-pc-linux-gnu (64-bit)
* using session charset: UTF-8
* using option ‘--no-vignettes’
* checking for file ‘RCytoscape/DESCRIPTION’ ... OK
* checking extension type ... Package
* this is package ‘RCytoscape’ version ‘1.26.0’
* checking package namespace information ... OK
* checking package dependencies ... OK
* checking if this is a source package ... OK
* checking if there is a namespace ... OK
* checking for hidden files and directories ... NOTE
Found the following hidden files and directories:
.BBSoptions
These were most likely included in error. See section ‘Package
structure’ in the ‘Writing R Extensions’ manual.
* checking for portable file names ... OK
* checking for sufficient/correct file permissions ... OK
* checking whether package ‘RCytoscape’ can be installed ... OK
* checking installed package size ... OK
* checking package directory ... OK
* checking ‘build’ directory ... OK
* checking DESCRIPTION meta-information ... NOTE
Package listed in more than one of Depends, Imports, Suggests, Enhances:
‘XMLRPC’
A package should be listed in only one of these fields.
* checking top-level files ... OK
* checking for left-over files ... OK
* checking index information ... OK
* checking package subdirectories ... OK
* checking R files for non-ASCII characters ... OK
* checking R files for syntax errors ... OK
* checking whether the package can be loaded ... OK
* checking whether the package can be loaded with stated dependencies ... OK
* checking whether the package can be unloaded cleanly ... OK
* checking whether the namespace can be loaded with stated dependencies ... OK
* checking whether the namespace can be unloaded cleanly ... OK
* checking dependencies in R code ... NOTE
Namespace in Imports field not imported from: ‘BiocGenerics’
All declared Imports should be used.
* checking S3 generic/method consistency ... OK
* checking replacement functions ... OK
* checking foreign function calls ... OK
* checking R code for possible problems ... NOTE
addGraphToGraph,CytoscapeWindowClass: warning in
.sendNodeAttributesForGraph(obj, other.graph, attr = attribute.name):
partial argument match of 'attr' to 'attribute.name'
addGraphToGraph,CytoscapeWindowClass: warning in
.sendEdgeAttributesForGraph(obj, other.graph, attr = attribute.name):
partial argument match of 'attr' to 'attribute.name'
.BBSOverride: no visible global function definition for ‘as’
.multiGraphToNodePairTable: no visible global function definition for
‘edgeSets’
is.classic.graph: no visible global function definition for ‘is’
is.multiGraph: no visible global function definition for ‘is’
makeRandomGraph: no visible global function definition for
‘randomGraph’
valid.graph: no visible global function definition for ‘slotNames’
valid.graph: no visible global function definition for ‘is’
valid.title: no visible global function definition for ‘slotNames’
valid.uri: no visible global function definition for ‘slotNames’
valid.window.id: no visible global function definition for ‘slotNames’
validCyWin: no visible global function definition for ‘is’
restoreLayout,CytoscapeWindowClass: no visible binding for global
variable ‘custom.layout’
restoreLayout,CytoscapeWindowClass : <anonymous>: no visible binding
for global variable ‘custom.layout’
setEdgeAttributesDirect,CytoscapeWindowClass: no visible binding for
'<<-' assignment to ‘timing.info’
setEdgeAttributesDirect,CytoscapeWindowClass: no visible binding for
global variable ‘timing.info’
Undefined global functions or variables:
as custom.layout edgeSets is randomGraph slotNames timing.info
Consider adding
importFrom("methods", "as", "is", "slotNames")
to your NAMESPACE file (and ensure that your DESCRIPTION Imports field
contains 'methods').
* checking Rd files ... OK
* checking Rd metadata ... OK
* checking Rd cross-references ... OK
* checking for missing documentation entries ... OK
* checking for code/documentation mismatches ... OK
* checking Rd \usage sections ... OK
* checking Rd contents ... OK
* checking for unstated dependencies in examples ... OK
* checking installed files from ‘inst/doc’ ... OK
* checking files in ‘vignettes’ ... OK
* checking examples ... OK
* checking for unstated dependencies in ‘tests’ ... OK
* checking tests ...
Running ‘RCytoscape_unit_tests.R’
OK
* checking for unstated dependencies in vignettes ... OK
* checking package vignettes in ‘inst/doc’ ... OK
* checking running R code from vignettes ... SKIPPED
* checking re-building of vignette outputs ... SKIPPED
* checking PDF version of manual ... OK
* DONE
Status: 4 NOTEs
See
‘/home/biocbuild/bbs-3.5-bioc/meat/RCytoscape.Rcheck/00check.log’
for details.
RCytoscape.Rcheck/00install.out:
* installing *source* package ‘RCytoscape’ ... ** R ** inst ** preparing package for lazy loading ** help *** installing help indices ** building package indices ** installing vignettes ** testing if installed package can be loaded * DONE (RCytoscape)
RCytoscape.Rcheck/RCytoscape-Ex.timings:
| name | user | system | elapsed | |
| CytoscapeConnection | 0 | 0 | 0 | |
| CytoscapeConnectionClass-class | 0 | 0 | 0 | |
| CytoscapeWindow | 0.000 | 0.000 | 0.001 | |
| CytoscapeWindowClass-class | 0.000 | 0.000 | 0.001 | |
| addCyEdge | 0.000 | 0.000 | 0.001 | |
| addCyNode | 0.000 | 0.000 | 0.001 | |
| addGraphToGraph | 0.000 | 0.000 | 0.001 | |
| clearMsg | 0 | 0 | 0 | |
| clearSelection | 0 | 0 | 0 | |
| copyVisualStyle | 0 | 0 | 0 | |
| createWindowFromSelection | 0 | 0 | 0 | |
| cy2.edge.names | 0 | 0 | 0 | |
| deleteAllWindows | 0 | 0 | 0 | |
| deleteEdgeAttribute | 0 | 0 | 0 | |
| deleteNodeAttribute | 0 | 0 | 0 | |
| deleteSelectedEdges | 0 | 0 | 0 | |
| deleteSelectedNodes | 0 | 0 | 0 | |
| deleteWindow | 0 | 0 | 0 | |
| demoSimpleGraph | 0 | 0 | 0 | |
| displayGraph | 0.000 | 0.000 | 0.001 | |
| dockPanel | 0.000 | 0.000 | 0.001 | |
| eda | 0.000 | 0.000 | 0.001 | |
| eda.names | 0.000 | 0.000 | 0.001 | |
| existing.CytoscapeWindow | 0.000 | 0.000 | 0.001 | |
| fitContent | 0.000 | 0.000 | 0.001 | |
| fitSelectedContent | 0 | 0 | 0 | |
| floatPanel | 0.004 | 0.000 | 0.000 | |
| getAdjacentEdgeNames | 0 | 0 | 0 | |
| getAllEdgeAttributes | 0 | 0 | 0 | |
| getAllEdges | 0 | 0 | 0 | |
| getAllNodeAttributes | 0.004 | 0.000 | 0.000 | |
| getAllNodes | 0.000 | 0.000 | 0.001 | |
| getArrowShapes | 0.000 | 0.000 | 0.001 | |
| getAttributeClassNames | 0.000 | 0.000 | 0.001 | |
| getCenter | 0.000 | 0.000 | 0.001 | |
| getDefaultBackgroundColor | 0.000 | 0.000 | 0.001 | |
| getDefaultEdgeReverseSelectionColor | 0 | 0 | 0 | |
| getDefaultEdgeSelectionColor | 0 | 0 | 0 | |
| getDefaultNodeReverseSelectionColor | 0 | 0 | 0 | |
| getDefaultNodeSelectionColor | 0 | 0 | 0 | |
| getDirectlyModifiableVisualProperties | 0 | 0 | 0 | |
| getEdgeAttribute | 0 | 0 | 0 | |
| getEdgeAttributeNames | 0.004 | 0.000 | 0.000 | |
| getEdgeCount | 0 | 0 | 0 | |
| getFirstNeighbors | 0.000 | 0.000 | 0.001 | |
| getGraph | 0.000 | 0.000 | 0.001 | |
| getGraphFromCyWindow | 0.000 | 0.000 | 0.001 | |
| getLayoutNameMapping | 0.000 | 0.000 | 0.001 | |
| getLayoutNames | 0.000 | 0.000 | 0.001 | |
| getLayoutPropertyNames | 0 | 0 | 0 | |
| getLayoutPropertyType | 0 | 0 | 0 | |
| getLayoutPropertyValue | 0 | 0 | 0 | |
| getLineStyles | 0 | 0 | 0 | |
| getNodeAttribute | 0 | 0 | 0 | |
| getNodeAttributeNames | 0.004 | 0.000 | 0.000 | |
| getNodeCount | 0 | 0 | 0 | |
| getNodePosition | 0 | 0 | 0 | |
| getNodeShapes | 0 | 0 | 0 | |
| getNodeSize | 0 | 0 | 0 | |
| getSelectedEdgeCount | 0 | 0 | 0 | |
| getSelectedEdges | 0 | 0 | 0 | |
| getSelectedNodeCount | 0 | 0 | 0 | |
| getSelectedNodes | 0 | 0 | 0 | |
| getViewCoordinates | 0 | 0 | 0 | |
| getVisualStyleNames | 0 | 0 | 0 | |
| getWindowCount | 0 | 0 | 0 | |
| getWindowID | 0.000 | 0.000 | 0.001 | |
| getWindowList | 0.000 | 0.000 | 0.001 | |
| getZoom | 0 | 0 | 0 | |
| hideAllPanels | 0 | 0 | 0 | |
| hideNodes | 0.004 | 0.000 | 0.000 | |
| hidePanel | 0 | 0 | 0 | |
| hideSelectedEdges | 0 | 0 | 0 | |
| hideSelectedNodes | 0 | 0 | 0 | |
| initEdgeAttribute | 0 | 0 | 0 | |
| initNodeAttribute | 0.000 | 0.000 | 0.001 | |
| invertEdgeSelection | 0.000 | 0.000 | 0.001 | |
| invertNodeSelection | 0.000 | 0.000 | 0.001 | |
| layoutNetwork | 0.000 | 0.000 | 0.001 | |
| lockNodeDimensions | 0.000 | 0.000 | 0.001 | |
| makeRandomGraph | 0.000 | 0.000 | 0.001 | |
| makeSimpleGraph | 0 | 0 | 0 | |
| msg | 0.004 | 0.000 | 0.000 | |
| new.CytoscapeWindow | 0 | 0 | 0 | |
| noa | 0 | 0 | 0 | |
| noa.names | 0 | 0 | 0 | |
| ping | 0 | 0 | 0 | |
| pluginVersion | 0 | 0 | 0 | |
| predictTimeToDisplayGraph | 0 | 0 | 0 | |
| raiseWindow | 0 | 0 | 0 | |
| redraw | 0.000 | 0.000 | 0.001 | |
| restoreLayout | 0.000 | 0.000 | 0.001 | |
| saveImage | 0 | 0 | 0 | |
| saveLayout | 0 | 0 | 0 | |
| saveNetwork | 0.004 | 0.000 | 0.000 | |
| selectEdges | 0 | 0 | 0 | |
| selectFirstNeighborsOfSelectedNodes | 0 | 0 | 0 | |
| selectNodes | 0 | 0 | 0 | |
| sendEdges | 0.004 | 0.000 | 0.000 | |
| sendNodes | 0 | 0 | 0 | |
| setCenter | 0 | 0 | 0 | |
| setDefaultBackgroundColor | 0 | 0 | 0 | |
| setDefaultEdgeColor | 0.004 | 0.000 | 0.000 | |
| setDefaultEdgeFontSize | 0 | 0 | 0 | |
| setDefaultEdgeLineWidth | 0 | 0 | 0 | |
| setDefaultEdgeReverseSelectionColor | 0 | 0 | 0 | |
| setDefaultEdgeSelectionColor | 0 | 0 | 0 | |
| setDefaultNodeBorderColor | 0 | 0 | 0 | |
| setDefaultNodeBorderWidth | 0 | 0 | 0 | |
| setDefaultNodeColor | 0.000 | 0.000 | 0.001 | |
| setDefaultNodeFontSize | 0.000 | 0.000 | 0.001 | |
| setDefaultNodeLabelColor | 0.000 | 0.000 | 0.001 | |
| setDefaultNodeReverseSelectionColor | 0.000 | 0.000 | 0.001 | |
| setDefaultNodeSelectionColor | 0.000 | 0.000 | 0.001 | |
| setDefaultNodeShape | 0 | 0 | 0 | |
| setDefaultNodeSize | 0.000 | 0.000 | 0.001 | |
| setEdgeAttributes | 0 | 0 | 0 | |
| setEdgeAttributesDirect | 0 | 0 | 0 | |
| setEdgeColorDirect | 0 | 0 | 0 | |
| setEdgeColorRule | 0 | 0 | 0 | |
| setEdgeFontSizeDirect | 0 | 0 | 0 | |
| setEdgeLabelColorDirect | 0 | 0 | 0 | |
| setEdgeLabelDirect | 0 | 0 | 0 | |
| setEdgeLabelOpacityDirect | 0 | 0 | 0 | |
| setEdgeLabelRule | 0 | 0 | 0 | |
| setEdgeLabelWidthDirect | 0.000 | 0.000 | 0.001 | |
| setEdgeLineStyleDirect | 0.000 | 0.000 | 0.001 | |
| setEdgeLineStyleRule | 0.000 | 0.000 | 0.001 | |
| setEdgeLineWidthDirect | 0 | 0 | 0 | |
| setEdgeLineWidthRule | 0 | 0 | 0 | |
| setEdgeOpacityDirect | 0 | 0 | 0 | |
| setEdgeOpacityRule | 0.000 | 0.000 | 0.001 | |
| setEdgeSourceArrowColorDirect | 0.000 | 0.000 | 0.001 | |
| setEdgeSourceArrowColorRule | 0.000 | 0.000 | 0.001 | |
| setEdgeSourceArrowOpacityDirect | 0.000 | 0.000 | 0.001 | |
| setEdgeSourceArrowRule | 0.000 | 0.000 | 0.001 | |
| setEdgeSourceArrowShapeDirect | 0.000 | 0.000 | 0.001 | |
| setEdgeTargetArrowColorDirect | 0.000 | 0.000 | 0.001 | |
| setEdgeTargetArrowColorRule | 0.000 | 0.000 | 0.001 | |
| setEdgeTargetArrowOpacityDirect | 0.000 | 0.000 | 0.001 | |
| setEdgeTargetArrowRule | 0.000 | 0.000 | 0.001 | |
| setEdgeTargetArrowShapeDirect | 0 | 0 | 0 | |
| setEdgeTooltipDirect | 0 | 0 | 0 | |
| setEdgeTooltipRule | 0 | 0 | 0 | |
| setGraph | 0 | 0 | 0 | |
| setLayoutProperties | 0 | 0 | 0 | |
| setNodeAttributes | 0 | 0 | 0 | |
| setNodeAttributesDirect | 0.000 | 0.000 | 0.001 | |
| setNodeBorderColorDirect | 0.000 | 0.000 | 0.001 | |
| setNodeBorderColorRule | 0.000 | 0.000 | 0.001 | |
| setNodeBorderOpacityDirect | 0 | 0 | 0 | |
| setNodeBorderWidthDirect | 0.004 | 0.000 | 0.000 | |
| setNodeBorderWidthRule | 0 | 0 | 0 | |
| setNodeColorDirect | 0 | 0 | 0 | |
| setNodeColorRule | 0 | 0 | 0 | |
| setNodeFillOpacityDirect | 0 | 0 | 0 | |
| setNodeFontSizeDirect | 0 | 0 | 0 | |
| setNodeHeightDirect | 0 | 0 | 0 | |
| setNodeImageDirect | 0 | 0 | 0 | |
| setNodeLabelColorDirect | 0.000 | 0.000 | 0.001 | |
| setNodeLabelDirect | 0.000 | 0.000 | 0.001 | |
| setNodeLabelOpacityDirect | 0.000 | 0.000 | 0.001 | |
| setNodeLabelRule | 0 | 0 | 0 | |
| setNodeOpacityDirect | 0 | 0 | 0 | |
| setNodeOpacityRule | 0 | 0 | 0 | |
| setNodePosition | 0 | 0 | 0 | |
| setNodeShapeDirect | 0 | 0 | 0 | |
| setNodeShapeRule | 0 | 0 | 0 | |
| setNodeSizeDirect | 0.000 | 0.000 | 0.001 | |
| setNodeSizeRule | 0.000 | 0.000 | 0.001 | |
| setNodeTooltipRule | 0.000 | 0.000 | 0.001 | |
| setNodeWidthDirect | 0.000 | 0.000 | 0.001 | |
| setTooltipDismissDelay | 0.000 | 0.000 | 0.001 | |
| setTooltipInitialDelay | 0.000 | 0.000 | 0.001 | |
| setVisualStyle | 0 | 0 | 0 | |
| setWindowSize | 0 | 0 | 0 | |
| setZoom | 0 | 0 | 0 | |
| showGraphicsDetails | 0 | 0 | 0 | |
| unhideAll | 0 | 0 | 0 | |