| CAGEr 1.18.1 Vanja Haberle , Charles Plessy
 
 | Snapshot Date: 2017-08-15 17:17:57 -0400 (Tue, 15 Aug 2017) |  | URL: https://hedgehog.fhcrc.org/bioconductor/branches/RELEASE_3_5/madman/Rpacks/CAGEr |  | Last Changed Rev: 131771 / Revision: 131943 |  | Last Changed Date: 2017-08-07 04:04:05 -0400 (Mon, 07 Aug 2017) | 
 | malbec2 | Linux (Ubuntu 16.04.1 LTS) / x86_64 | OK | OK | OK |  |  | 
| tokay2 | Windows Server 2012 R2 Standard / x64 | OK | OK | OK | [ OK ] |  | 
| veracruz2 | OS X 10.11.6 El Capitan / x86_64 | OK | OK | OK | OK |  | 
##############################################################################
##############################################################################
###
### Running command:
###
###   cd CAGEr.buildbin-libdir/CAGEr && zip -r ../../CAGEr_1.18.1.zip . & cd ../..
###
##############################################################################
##############################################################################
  adding: CITATION (264 bytes security) (deflated 54%)
  adding: data/ (304 bytes security) (stored 0%)
  adding: data/exampleCAGEset.RData (264 bytes security) (deflated 0%)
  adding: data/FANTOM5humanSamples.RData (264 bytes security) (stored 0%)
  adding: data/FANTOM5mouseSamples.RData (264 bytes security) (stored 0%)
  adding: DESCRIPTION (264 bytes security) (deflated 54%)
  adding: doc/ (304 bytes security) (stored 0%)
  adding: doc/CAGEr.pdf (264 bytes security) (deflated 45%)
  adding: doc/CAGEr.R (264 bytes security) (deflated 82%)
  adding: doc/CAGEr.Rnw (264 bytes security) (deflated 70%)
  adding: doc/index.html (264 bytes security) (deflated 57%)
  adding: extdata/ (304 bytes security) (stored 0%)
  adding: extdata/Zf.30p.dome.chr17.ctss (264 bytes security) (deflated 82%)
  adding: extdata/Zf.high.chr17.ctss (264 bytes security) (deflated 82%)
  adding: extdata/Zf.prim6.rep1.chr17.ctss (264 bytes security) (deflated 81%)
  adding: extdata/Zf.prim6.rep2.chr17.ctss (264 bytes security) (deflated 81%)
  adding: extdata/Zf.unfertilized.egg.chr17.ctss (264 bytes security) (deflated 82%)
  adding: help/ (304 bytes security) (stored 0%)
  adding: help/aliases.rds (264 bytes security) (stored 0%)
  adding: help/AnIndex (264 bytes security) (deflated 79%)
  adding: help/CAGEr.rdb (264 bytes security) (deflated 1%)
  adding: help/CAGEr.rdx (264 bytes security) (stored 0%)
  adding: help/paths.rds (264 bytes security) (stored 0%)
  adding: html/ (304 bytes security) (stored 0%)
  adding: html/00Index.html (264 bytes security) (deflated 84%)
  adding: html/R.css (264 bytes security) (deflated 75%)
  adding: INDEX (264 bytes security) (deflated 70%)
  adding: MD5 (264 bytes security) (deflated 44%)
  adding: Meta/ (304 bytes security) (stored 0%)
  adding: Meta/data.rds (264 bytes security) (stored 0%)
  adding: Meta/features.rds (264 bytes security) (stored 0%)
  adding: Meta/hsearch.rds (264 bytes security) (stored 0%)
  adding: Meta/links.rds (264 bytes security) (stored 0%)
  adding: Meta/nsInfo.rds (264 bytes security) (stored 0%)
  adding: Meta/package.rds (264 bytes security) (stored 0%)
  adding: Meta/Rd.rds (264 bytes security) (stored 0%)
  adding: Meta/vignette.rds (264 bytes security) (stored 0%)
  adding: NAMESPACE (264 bytes security) (deflated 58%)
  adding: NEWS (264 bytes security) (deflated 64%)
  adding: R/ (304 bytes security) (stored 0%)
  adding: R/CAGEr (264 bytes security) (deflated 41%)
  adding: R/CAGEr.rdb (264 bytes security) (deflated 26%)
  adding: R/CAGEr.rdx (264 bytes security) (deflated 1%)