Back to the "Multiple platform build/check report" A  B  C  D  E  F  G  H  I  J  K  L  M  N  O  P  Q [R] S  T  U  V  W  X  Y  Z 

BioC 3.3: BUILD/CHECK reports for RTCGA

This page was generated on 2016-10-13 12:40:13 -0700 (Thu, 13 Oct 2016).

Package 1017/1210HostnameOS / ArchINSTALLBUILDCHECKBUILD BIN
RTCGA 1.2.5
Marcin Kosinski
Snapshot Date: 2016-10-12 17:20:15 -0700 (Wed, 12 Oct 2016)
URL: https://hedgehog.fhcrc.org/bioconductor/branches/RELEASE_3_3/madman/Rpacks/RTCGA
Last Changed Rev: 121552 / Revision: 122332
Last Changed Date: 2016-09-29 07:13:14 -0700 (Thu, 29 Sep 2016)
zin2 Linux (Ubuntu 14.04.2 LTS) / x86_64  OK  OK  OK UNNEEDED, same version exists in internal repository
moscato2 Windows Server 2008 R2 Enterprise SP1 (64-bit) / x64  OK  OK  OK  OK UNNEEDED, same version exists in internal repository
oaxaca Mac OS X Mavericks (10.9.5) / x86_64  OK  OK  OK  OK UNNEEDED, same version exists in internal repository