Back to the "Multiple platform build/check report" A  B  C  D  E  F  G  H  I  J  K  L  M  N  O  P  Q  R [S] T  U  V  W  X  Y  Z 

BioC 3.3: BUILD BIN report for SomaticSignatures on morelia

This page was generated on 2015-10-19 14:54:02 -0400 (Mon, 19 Oct 2015).

Package 998/1104HostnameOS / ArchINSTALLBUILDCHECKBUILD BIN
SomaticSignatures 2.7.0
Julian Gehring
Snapshot Date: 2015-10-18 20:20:06 -0400 (Sun, 18 Oct 2015)
URL: https://hedgehog.fhcrc.org/bioconductor/trunk/madman/Rpacks/SomaticSignatures
Last Changed Rev: 109592 / Revision: 109728
Last Changed Date: 2015-10-13 15:59:53 -0400 (Tue, 13 Oct 2015)
linux2.bioconductor.org Linux (Ubuntu 14.04.2 LTS) / x86_64  OK  OK  OK UNNEEDED, same version exists in internal repository
windows2.bioconductor.org Windows Server 2012 R2 Enterprise SP1 (64-bit) / x64  OK  OK  OK  OK UNNEEDED, same version exists in internal repository
morelia Mac OS X Mavericks (10.9.5) / x86_64  OK  OK  OK [ OK ]UNNEEDED, same version exists in internal repository

Summary

Package: SomaticSignatures
Version: 2.7.0
Command: rm -rf SomaticSignatures.buildbin-libdir && mkdir SomaticSignatures.buildbin-libdir && /Users/biocbuild/BBS/utils/build-universal.sh SomaticSignatures_2.7.0.tar.gz /Library/Frameworks/R.framework/Versions/Current/Resources/bin/R SomaticSignatures.buildbin-libdir
StartedAt: 2015-10-19 13:52:43 -0400 (Mon, 19 Oct 2015)
EndedAt: 2015-10-19 13:53:17 -0400 (Mon, 19 Oct 2015)
EllapsedTime: 33.5 seconds
RetCode: 0
Status:  OK 
PackageFile: SomaticSignatures_2.7.0.tgz
PackageFileSize: 3.205 MiB

Command output

##############################################################################
##############################################################################
###
### Running command:
###
###   rm -rf SomaticSignatures.buildbin-libdir && mkdir SomaticSignatures.buildbin-libdir && /Users/biocbuild/BBS/utils/build-universal.sh SomaticSignatures_2.7.0.tar.gz /Library/Frameworks/R.framework/Versions/Current/Resources/bin/R SomaticSignatures.buildbin-libdir
###
##############################################################################
##############################################################################


>>>>>>> 
>>>>>>> INSTALLATION WITH 'R CMD INSTALL --preclean --no-multiarch --library=SomaticSignatures.buildbin-libdir SomaticSignatures_2.7.0.tar.gz'
>>>>>>> 

* installing *source* package ‘SomaticSignatures’ ...
** R
** data
** inst
** byte-compile and prepare package for lazy loading
** help
*** installing help indices
** building package indices
** installing vignettes
** testing if installed package can be loaded
* DONE (SomaticSignatures)