Package: simpleSingleCell Version: 1.35.0 Command: /home/biocbuild/bbs-3.23-bioc/R/bin/R CMD build --keep-empty-dirs --no-resave-data simpleSingleCell StartedAt: 2025-11-07 13:09:37 -0500 (Fri, 07 Nov 2025) EndedAt: 2025-11-07 13:10:11 -0500 (Fri, 07 Nov 2025) EllapsedTime: 34.0 seconds RetCode: 0 Status: OK PackageFile: simpleSingleCell_1.35.0.tar.gz PackageFileSize: 2.755 MiB