Package: rnaseqDTU Version: 1.31.0 Command: /home/biocbuild/bbs-3.23-bioc/R/bin/R CMD INSTALL rnaseqDTU StartedAt: 2025-11-07 13:00:27 -0500 (Fri, 07 Nov 2025) EndedAt: 2025-11-07 13:01:08 -0500 (Fri, 07 Nov 2025) EllapsedTime: 41.1 seconds RetCode: 0 Status: OK