Package: rnaseqDTU Version: 1.31.0 Command: /home/biocbuild/bbs-3.23-bioc/R/bin/R CMD build --keep-empty-dirs --no-resave-data rnaseqDTU StartedAt: 2025-11-07 13:07:32 -0500 (Fri, 07 Nov 2025) EndedAt: 2025-11-07 13:09:37 -0500 (Fri, 07 Nov 2025) EllapsedTime: 125.0 seconds RetCode: 0 Status: OK PackageFile: rnaseqDTU_1.31.0.tar.gz PackageFileSize: 8.743 MiB