]rȖ~:fjF 6*G`Lَ6p/H Zԯ3wdцlAwu*)3?̳Lley:zX$Fj]-WkJPVZR[&!QJMϿ6mJmo_G8bp9ͲǺqHdl[mRU*UR$'t9X&S)C\pg9Sl(H@\xe3t{7h6 S1]>.зNn}.p+{O~C4:;>[GIr?!'噣&=w5Ǘ,lݏdFG#nN>{HrQF:q.?R8>,ZӉ|*-_CЛH՘)w '$jY-b^._lWփs}<5ur\ ܿqݏm̡3n/怸DEmԅy06]g~p:M7xda (0ǖ .ќs.==R >\OGF-|k:bLfs8Tu.,VX)7죣zX ~nMM ^s  ]:ڑzLLĈ/7υz,bcSEdI䡭s`Ej>i;(cİlF8 CWNq-S& h?ca, ]@go~"Ic37nP9"]>}Qv[Q,ApWIGĺ/,0QX}3[M ~,Es*ex3gr>;DmTHJU%lv&@Y{:bx7./ŭ"RgL7( |Jq  &0\1ZiSBM :1$_k.Bcd.z`y0'}ΜS0($E+&JVUڜPǡ ~ u+ڡU8g_ +2hj#Os-wMg&!xt+?p0a+#u4zw#ɥ!\ZY?\](\ݨ_X.)0%˪NM7]A/h'HLK]ϙ;sMs> -(k.yz|낛nЃf 7iED i'/k SA1P+XK~*G LmX ,/73WaPGSGaY1Od т5C$ ƿF1+6<e F 2+X^Uf <{>c#N}?' ,}/rL,k,I( g>vLIvGן/Y/0 9s!zBKrI>CLqƶe$g##6`Uo-|zWxQŲI|)ۂ_]GVudM?,.uu_¬+ T]R+ \T#)5} 0WJzlWVaWjeEUeÒ(x/hwˊa{,, >4+[53YOo!~.]+8"g9e"~pv3} hAkAU4DY[\ۃ78jo톌Қ_7snni1YYGs#`,7a 8k$g:SXy;w?Z%}|0mOv_VGMVQ]\9sZ??_" F}Y+^R] X{;-AR``vJ q9\tU{UW=_p\;->k;Y????;˨I..v]ҿǁݝK趎~'DC=烡 aw9NO2oY{mr..jBG?"cAÂMzW-,Rz/ 95damgrz2}v<>bi5ZٵhJk0PijNjݟfx}B:u/|!ăS_}@|ħZҘ3P~M<}6ZYݧ872Tjh妶M3.. { DP 1G K@`S NlhTvx}^7On`V )]DNi!x.c#,5X$¤Eg4a_.ӈYna@1e]1 {zCpcWs6қ- -'Y{cƋ.}ZLjk[-@mNM7}+S+#y`+a\o;/*$9Mٿw}?Y:ye1HFI,l-_t] ur}uqֲe9;>(oMi(e;opxmj>7wHߍ_Jve [k)础?He++\vTVi|kxGkw3 4zoTyoDJ_X ̎WWdpNc*ۡ.VW/7.nۢ.b܍/Z)1kx≣g'%Rx,Ǜ՟(B:=Ƹt㕕jowa}̞$ˎW/c; fJYׯ*“ ^'7RoOB<9Ӈ2jlF|̵,}ˋ_F/OV[5W/1 ntDbVI 1U_(]̟y|0#4a!UotH)ƟJ5s\/yD1;@ylIx_BQwS0W\{c>OmΓl*Eg=?zz x![}|O{}{5h]\m>3Lv(OL[obgG{вy7,ofοW;O_Z&w&2~/OtAM(| kXx"}xrJ9SMSǓ4y޿ogh?C|~ x"7HFx_1-'}_,{kAx0moIz9$vIP~?HN,;~xGr~7%~}"~mrocz!OZ_'؟I !#}:w$D_t 3o|srәyh!%z?9t'ʟݴ篒<38-x ^Lܦ3e8>|Qqu?ьMtuz*ݒ|]@7ƏT3b2h)؊vU*}_ʡR_Mhxj?mˠ wDx39yxUEx:~Yx_2?>RW fw(~&~~w$ί /չ+t!_k5#k_)3/OT ө͏y-R0Sv;Cf~7<3RKJ}" 9Cs" ?YJ,d] $a c`@/hQ+brOطg"r>:x@U_0&ԦuH~C5V, PO}@J>sw~A75D<om!އOQ Ȣ팇bɑQKb^}9}h+ڝ/e#>'hd"`DJr镀Ȳ~;@űg}gP]_p1]ch=E x@~)/U\z:@]Nxb|V,L_Lxa;t6hEcÓü g0k#p 糒b@5G_"9kP/9O{=`4\+|Zë~fKg|LU(u+;^S6>^l#mx `d߂G,r:d-fʀ}xhO>ݲ{U-A~ZZ.EDI!!G~C$xejS-Gv3q͓@]G[av~4;l4b}~qo7eckB'Dfٍ*Y[@n.˴>@/!N/@=N+x~|Kls,?rۦ?@:j}~+uezH"$EHO@EAu=3?*:;xnMKqxkmj"S7Yu䳤(-&x6_7I2p}M;%z^"9}pOO_?T?YݤJ>AH ,^*ryM[\;!d<`?yh B}_Pʆһzߠ_ ,i0;P,{%~)&龺}ҏi\,;@9#tmzKl0,}?1R# X5~)dB7R]ﷷ]ps8!@<~÷R=?ߣ6cv'rOM.3,E2@=0{owx֋u'nE~>7c;eg#9/P@Gŵ4xL>tZK{Tb?D0ʗB3m[n=gxLj= Z.X|Ҙǭг?dWKLzí|) SY.9 ,iï{o}ol /@z==rx3s#lϳwC2< v ^~n7 /p'^W*afiYA`cs. kZِͼdj5B?#$y3K9 f( Z2z- X S/wxwbItgxG? t뻑 @֫SBA`|?! hd"MiۨAL0sQ|{2|1D}aW^q_qkg*gӇ-޵j7us|¾gt>oi||L'wN%j@,y|Qu"fdrRʃ)p^Tgs6´ Vu S~ `//`PnK=>CfKoŽ,.~H\̰oztrŒߵF)׷}o_S @#'yv}=HE}`vxF>G6.kvnSp Z )hr P3r?c}mU9}{kħWtxvbI0xUڣ!=gawz5\GXanZuOaRtw]_12 ?3?h٪SFE c?42*u >816U|} ?hH%G o0x?S"}CM/ݼBQbB~'t~)Ro/է1~11_>yckilN';^zzk\Qpj[W3{>}oT4UGzEsCn{xF/Cۙa}4h@ٔ2޴g4s=d<__HZb% pb~?(I3[DYo9/ӍȲ}~*2\e%J%}pξij+^U=+WvCS{o8/~>^w{8-G뾾yxf+"^Ѐūs}< }yoUhs/7*!\;x >z|0}_'{U)!*D~ e3& myq01x}>WFk YdƒI*B z-^/d>෍yMgpKs{k/zM~xFwNjM}4JmҘg~iu;_yC𓛼6(2 3пi#G?㮩x@?K1ǐxXa[ ;XsS‡Fq( |79+zw} g _ 3ذAg4hxV>[2S;b3>y6fGB<#l`< KLyD4OVySKuILx_xL!@JGz/2^kNw JO?,*_z" Wd9/`axΟxyPe!wz v?wDTYGzȆDťx@xd] v< u?=yt^27]ߤHt*jG=f}_ Ȉ'Dk 83M>>$1%!BͿ O[<#𯓑Kmj_5`oGR`FWoxqI\C{H K"vׇIB0(UE@d 2="~2[`idV(MkYTXErG >}7輌Lw],Yg-"u.E 'rϐ gE2F¸%<P@0yY@|ۮ=>R.d ?֧Tn}Fw7%2cЋV^_{q!鋡˄܇۴wXQr;^ XJJy˙=x<oNgg lz5OboL6y5??N}xsN/(dKPms|2STK&CzxCt9^GǃY[yod-QEщ<ȑ 2*l=lV<1{ sri=xebd*!R"{0 Kݤ_fKq ڪR:Těxz Oՠ*:u&"/?i+25*)X@;/GjorC#wx+ ?~7@Ppxr 7}cWA;^:-˪V~|hk1"⍍OXK)9f$JЮo8x^h[Z';ZԸ׶xMmRڣ?lqpyK} b׏\紺}b_S{*P;9_fG^fjg=!gkBJ&@AgB^q*n<Whv:a<jGdg#LOVS#)7T<lE?8//)Cxy<sEαA2(AL8^5o驞"WY3_ϰ xHOb h'd, ?<>2( hz3y=5x:K*W6{&fڎ>h"=Ir!uxHos^ǔg@|}TgRqxt ddp~82nD߾9afw2!c^n.WrQtO>tB089EVDAXuFrCZ>anLy#5~:¬ ?]џtͥg x\z~A̋9$}xKQHWb7+@Ƥ,쟎E^;ߟ1z:ݟ?vvvx,à{]EWL&{ rHz귓#wʱ,eԪ{m#=PjxϮƓxթ*6DWC#=.#i^7s ,O\!+Us?_>e4'x O$t~^,^&J>O&5Zo`"Z3#k!A3+R JaZXSS ݋9lœ\ >ŋAW~dī7&0Ywx?s| @݇v.P}?/k0KӳПIIjdut;/xa] =fϋVU.['H~^rG偱䓡|be~g<"ķ-ZΘ_c'^Qs+חpqx}W-'пp{U?nI, F;2O;e9d$/Ռ'3M-JP}_@'_AM0m#$1H֚% FƳ.F3-k؈lrmʭB؇gī7F|ʬ%( ,B6g5y,>d3h |/R FNe\ 9;6D%Cx}1+΋)32 On v hx~=_FgL6DW,h<оWBgi^$_Z/l##}il3ZJE g Nz 5a@lMy^;[|!kNW/ $^$ 0SNc[&a~$Lԉmij/&S-?F3Op?1ɏ/X#v={\>A=0e:CMqÛ=2%A>nGP9tK3AH7GڪQ2ޠr~eYP%GjtEX_-SO]y efoǕmxPN8Es{*. vQ`>7ԏP輯=@<(^\ C0E3iX>Uywo]1YxR/YUy* +Yv|2>[ֹ!W+VdBj<;YOG'z#JY}}.~NYpr:7yjp5px,p>l?O ؚ2g\b>W}G۬bZ7=>__l ۱\?Aۅ% ѽ>+ޡ}yP|wWO' voB>y;JVHc:ͻ s.C%*G:zp#ׇe ;Bd$O KaK( W;g/Xmr0C}TFC:?x7 V{:%,ahHƄ[KEjg8D+C&b.iB۬8AG_p4%$Ⱥ׻yNp7p4CjkR +7KTRmx(Foϼ^Ŗ8'n5'RʃR6$J,>>ҬQ5K/֨DyV'R> ,a[,6_0Yuԁ7_,R*o嫒e{OӼC|Nb{7 .$7/W$`c} g %57 y݄/|*C _kt6 \}͍ڢΤph^>{Q#{1 )waở繕uz=OwѯfxuCq4=;{<Ѽd{?Y߂5$?xvEB`Nw~6 ȿэbO6<^HTz"#Ptϧ#' '8]įy eY>`w?_L +Dחy'w+;:_4ZN:x[Z^ #YT‹=hJy!Gy~7Hω=Q+O<%bD?[߭9mZM1*Ly!WbiŻ / |ߌ1˱>z} l}_WO_o!{7*-vOtKo|}sYlHiσ!s:*[^V8-2R'Sx\`j_oM^wW@(+ǘm9{]iO(ǽ/C4m:/n~+@qfO|zn5f.Bg=t${j5UD_?Xp1}ӚB1I]ZAqv_ k`xeEeLF77>_]JIWOxWg 1Ua/~6[_<_br4] sAoO޴^N{}sh$1[C'SA༎X%fxqcOxOt͌ȡ+%wS"gRw{o9@{W| xgg1Zl( /ػBz];vE%*+z^@OKt<O? o@? ϖPOʳd)'Eg5nÙoFS{W, SՆׇޟW iw8fFJ>=/? -6C!>yl`W :JQ`rNγs-hwxڢmW{;߷6=SyGu<\miw ӻs3OqR2՜_h6{˿C2fJ!x~N_J^= ZD>k>@o[ ǙqgK_rzyu+_wyr" 嵒/2\ ~ɮT޲F zSÓqR[|Mu^޽YdT2v򽔈:ߟ>a>)G^׊g˞k ,w!f}?c/>?axc3rUWbFy`huJtwѿ&?`ݿ]whj9x(`J8%Gƫ-KMyCȟ]3ӬK7`o}A=@U^Q@ ?|,xͣm }xWؽRaj7мTzyzHWQgwtտh^Z uEYUb? 2YLA[ A;_1+vC=o׷3>5W w?G-Kw!V2GRY;DL~)<#0v/:墺{)ekoK7M"tDZ{Rmؘ+CҼ9W+3;9q龂<h`LςZm=y[ͫfnyZ~ʓ5@=YN{SVUwt_2<ɞ4/Cx&?uKo?Il9< o owxf?IUwJ3}xFݤag/RR[ȿyR=Oǁ#+gZ@>[lD-^ߣ['^7Iif, ;os_|jW7{ MH/Ko@P>|Bgכ^)~Jrz藙3r<?</@}]4 79v޽Xj̳+"oOh9jR8tA9`4/fskoxnjC߁힇=BcͫSO^gvŁÝ`?7_ |ւgx >sjzvx} _'>J5\~mVe%O2xSW|s7oy,.͋MϨ2cC=8Vyչ6͌VOsdx{6u%RKz^=dQa&8okB{NJ"u=γ_vJdE޽|Ϻ?<8]z:_Pc-?z78}>xyF^~_3ox.m<y;qefqIӏN l`{7airBdI:*Vü -ɺP?c7^]<~Dϻy8MN"ꃽ8 ϩ?24 Kh'2ٻW-\bzk~ɭ pBU%, ؟bc5}dӁ=Ez{8,B=؟Fl+B} ZG%{ωU<]o-eX"~R.B7ϟdXF;NO͟pcCPs^Sg_^kêְx4ؐ՞pj> Uv-?aow~\{|ZBbBT|uxg5=6OG3F<ОW-`GϠT;:bNytTfG*Ll3i}.́y\OʳƯ>3D~}wwl{o`M]Yhѹޞ*wr}~V|=tIoy-p^yKJ'ƷI yo^t:S敩.E%B˴Jl͓<2մ\=Pш?hx:ʏ?׋E@Jr=YV啦j>Տ_9&S3(rjz;6x}WOlh/xxׅc$o2O 7a2 z,Vյ? _<л72F4z tG!X{)~2fMPr\TRa /V9vy@?h*)@`J@#?W-LKY5y`>G0'/0/ǖST23Ť.]C٩R('/a[W /!΁F=>JÊV6*E}|j닧._?nޛ_pwc*Vb z?QoӺx+S@=-AgbWi|^[|?'j4>HJརH>=8eȧyf|.6ޗ?tO='ꉇC| ƫ#/C=Hnn!5xWn=x)GDb5G@ @wJ:-y {S̃+|<,'WN|H{'7MS<ϜO떕 O/Bd狞-#w L]P)K3S @}MPo? mq0kc>V&~&PՀGA&eLzkFve8a=N?ʃs v_]=og?axc:@F̳Y*\^nWg(P#l㳢L=̱,2Ƨixj7ܷ) Zo*.^Ջ r㪯񷿿#XD9n6a!6Typ#}Wlyc1kCG<B?R_P#mJяuR`<<@O`xg TmQ/\{f!~dWfuoB$?Fs@~xI=/8[HN-L{މ9_OËt F/wnܫ^4/{=o.O/޵% g{^>xwyO3L TFfy^w5y9|ضH<To?9+i7E_?:'VП{"'(Pߛ;k{_N⢬I" No59]kN.}q\'4~![.y8k|^YOg2ZOX;A6 *PߚKwqE?~JNLG"L9৛C'y@^& S nqVoq^OFˇ9 Sf2?R>oOTލӟud5S<އ;yE)|S\W^ b6MscE5J<_nZgeH} G^ۈ,[y=؃G_\o_ym? b'3D_]؃_C,P/B|;C?>p>_c#?ǵ4Rr/Kmͨ]H-^nFS#H0d5iQ.Y|w'KdxS{{7LX${ KȻӽDt}p:= K 8? ol^ #wAO'@6d2W&F懧%3^saq.| SsBCv+[wW29, [J;W(,=.lr$HY?9q&XMp?ˢ}񐟥Hm ͿJK#t+'[] C/6@L@~dFH/GPl|E^bzt~pק[|hȞбn"UюFgfL8=qcwp4g]T s~Q&HD_fH^υ&llk6=x\w tkr|͗*hL \QK&PO!'oc@~ߓچV>ZZ ( *sY?TEj  3w#EOgjy%Yyp+Y~i^~LT-7݀C>fQ2ˇ;ܬSA"8""n{5|ܶxoC'dѥ-kCgsI9Rv/@C5dy SQ\7Qiemwhs67VU!c9O?{c|ب !_L34:֣G6}^eS)z8z'x5$l/߿2fc>݄y:mSӨ[Ŗoh6yjJt^_,oJAI<8'n 5/^i Ag %CYUY OXzR@翨=<k5x]DλrQ oxS[Vg4J>Jc21kn\t d4gڦ|Hls:P1b?}Ֆ1/$qYx;s*g=pOñL?@]=ORQr]+a?~R=V{`_t_&?R|\+OiJu{aKEDRp=g߶։v3*~O?%I[*N;;3Fp67=-7$.o'8;tvۢc׻q^yG؜> j}=]*e_)}S׆0(6 ~?Yft̰uxY݀| [2*fWgZ7YMO㸟C:{ LtyL|}XLogA#YWlytps'{6чn3 5o_yHE/p{L |/_y:r4eF+^]|5F{Y 38_JTQ DdjgN4,S^^G5Η3p(: $RڿZ<'>6M ~ul{[ &{L(h'Ip79'ڟ@(YXb3x?ID0PYȳJ^+y9qɱ#tX CR3 ޑ別~ Ճx 9gWzxE{29tvIJ;)ZF_w[a2"[u%~=C(IM*G+g`{!GiDbJPQϥRxx/N?)7g.*O#q[Y"9Ug"DZuޛ[9?ZN~d.sOW}+R&<_Ħ}5—?=axLASfy{iyx?P]mP.޾}.yT=/Gࡲht/~^oH,΍oT./YReR#`XpWeu ==!(6s !$m$X>}P@ 5χlTnj1W._)ʑ;6zm6ȣ^/?7Y+w0o%; ^dϺNgk!~&WeW$xg[2m yJEjmRlw(UuxmuX*gyG|]'S'0K?䫧v!r>'=Bx]0x֙@H=_c>`%9WM64#!Ziȳ}H*J ُ_.Ϻ}I>`%]Ͼɀp]k?Η+y+LFu07ꍓ1Aޛ?t}.pkm ݼnL)hKxJmD.TʁȜ8C??KҰߡ>TS+S\D=s78{{RAJg*w)aJ8AT>'FVϯKyg`LDR#+p>P, txD+>x;7dё?g7G%p3ݽM 0xmOLE jY>p%qwBPzK}px,ޖm^+tX=`F1 `'*3Hų-asiIT_-Ym+$iO3)VߣLsck's԰}=?ի{ C:`:Y2hx+OuX|o# x>JWLC׼6gwxL|7翜u[O%_f2qxuTkXC  PfN,<ܟ9_/usd''?}.^Vo4!}ar6_[x̥_ 1ĥzx@v4O r L :͌^`:d;\/9UcDЀۜ *K[|0+W>Ǥ]B{Dg($>zY d~ *͐ ejr<?^!{~as>9 W^ soaLPvxhhȗ/d;P\tﹸ?;{Gh1 E>+vJ|;. ]1ˡҘ NW-s?GSm^!!9Qئwk"Lt}=LBnyfzx4_d 8@^lB >̴‰S@QCQﳮGb̚gp ZG <(_ oX5 Oi >-]- ^x\G˙3p໋x{WPgs.?ᩜG_,.nao T'K);zޡ(;)@3Wb3y~wڟ:{u^VzV@㚏_J '炧^ޠ}!2ߵxˏRA[\Bo0un*K|Vw S o*ęȏom߲%"Fhń]z9agǷȫ}56#L 6c {)PDzŋl vxH%y?y>Ft U-!w*p}Au*cuO/TMσ뷞rk5Z:L."@w',)Ǣ9?9ȟ}[ QTOfշqylV "v!/A,?!V0bb\"_M-m~;N3$޻o^؟y/8ophsWI|ŋ`B3=np]aE<xŋy?#wxA =ZB6D@Mz>.o|tX_x 򥮾➾:AWW.\~](ZA2zt|~`xUϥ;(1GmywJh;G?;{m :gjV >+*)tEpJS Oi r P?zOW<*{kAoMuq?7-RA ~ ^wۿJaKNo;P~kLѿy1m"G|p qSok @VDkO|CAAk. Tw&EϱxL=>˗nT aǨ#t,@@*e#eNWW:yˬ't3Xh{rWhO`~~P%Z.=۾DS4>HT X >\AL\Tw3U T5wYT^ Tx z#8C{fX:xVx< ^qrUAmglG贓28^`3:?h񶂧?Uxh v>l_2^5_ա?/Bķ3 O=kr):D$=,ݔ_~XwFĻ<:/xM>iQg}mL4b߻G-8~1fUB+ gJty:+lu3L>pڴdvTpZT!gBOIcAĻGzn.Λx|ENJ3f! ZOKR,ϛ/k,/P>o}~镻cE[u5MݷS6 ֣Dor. DcFR'P~N)&KOo%Ck>Oh?gxSU*kldyxy/d)KB2͛B_5) 4CV>KHᡟ@<뾍o4c+On_CĎin_) ,t*]²PN6= ǼO(M\x,WtxS)7hËKD|hrGE<ﵻ(B哟Hl ?zB<-oYdcAz }pxhɄû6U>4y>»[?e;_Se|i_hn$C\|+~Qu%xWۢÃ޿鬒/Ab9B["㉑Y47~~"BޟykFf`}/"a\1j0ą￁כy[~OgA`_]eGo/?Ogz͢s6O |Bz9HߐE󻙑yY-.AHxe%gVsOFP$sx,|EKfA9&E[C0zx?Mf\P C \pÄqΧo m6_EN sާBa[ԏx' =gׁH RԧAx`sz3 ϻŁ|oPv=_|HhO~[eo&]w9UG{5Qog<5h_݄O/kޡŬAW9$<Ds^.G /CݟgזUw`֯T}c&C|yD~)0ݱ@//rHPf׀3w +*[zg;$yv`5?*<3:L/Dp@r$= _fTa=\gĬxR|B/uc_&U_WC\CW0u0x%~@ ++'yerqm}4_fFT<\@?g^c@?2qX=5y0?VJaN 3"m=e__nԖ2ٌFp z ^x}+eК)ٟ!4"o/%~"_$S_ p_UFaGv|_gpx@>ܮo>BС y-z>Fߍw;5& |Z?zхGK_\9 n~DWr3b ~kdX(U%x'_T<?] ?s,_e'^>Sy_O&TߧsmLWaRyC04AgށO߯0 9I\-E3o{>t ͱ>p}oP X^p)kYnwtvBK] JmXGxoFx4O~DȃCzGSڽ1O|X_|/n6{D?͑5x8D =jItQoX>Ut3j= FO'!GMr=k9e;4W|x6ύ(3`|1y5jy–w*B(h?8ctH#G2>Ǻݿ^kJFmۥdgUVb„TMߛ9[L5:=+sf UYIO[`w}cɼ3;K;xsq+w['I"ax'gqyҫ3 ?f&^Z['3Ư7/<7y^$t;Q(@6RSnǥEyXEwl>BMZډ6P~z"]2A 8B QSnd'$.} uLp'B ^芭?-o7pPAn?kvu Cf?Oݽ9{~\Ǘg_`+D4:k4*XpwW kLFPͿ}=/'~u ߏcF'S&{x5[>s[tYV}A_eH~G e֪g>p2l^0s|@w"yu&/]Q։QUsvFs׍L35!yw҇QlZ=j F0xE?rv$_|~St}<~@?+Ӯ@{%S< ?WJrȊgcTJ{. TGq"חyuBKu QU8ʳwX-M#qsU %{@_ˢH_0X-z/tzJQ鼡=~|)nN9 CxWE;@gެ@rzA:,ok Lq;y=(@/%X @?2NjD,QORy?zx]gb$SF]7N;|?)Az0YGSy *l rdUO'Lz@'<dy* a/յ5>s3c}gF(=>O]qQ2)tyh:{ד-RͰMk~7:M٩5P_\݈]s~:K?>e RTK</F ޕBh) De)fzEA~sRoh)K}!uQV"@< cOT<Aay=*\d_}hy?ٟ{ZC5ϨDo/g~<C :^fü!s;B;"oԶ ;~#=z_< ^^4݉wcOX{I|oϏf?eZ؉ڏy7 Y$g~,տ'jO65z'AgJ쁠Ͼza\5ͺvpOE]TCe7Ax?:y-Szc!*Vƒ沗Q}lyUz5dkݷ--F zM|e¤EO+; ۊC ,]Cn OA3<{ǀ^놛#_O˻F`j~<*? c(퐨1Poq5?-\Q3^|(ؕ̑M9^>3alZ3x̐)#&I\<@[tw]x}/MiApuX,`Sv!&c!:÷qiP$W~Q\sO4|;YFr\[_,o:^xW?xe>lڃ~->KnyXH(l='.^=x~x }EdY| Jyxs6`Y^#yoF1oCӃ Vsv yR[ 8<|1|ik?+l{޳_*kKm ^ {Fey@п7KN@ӈ?p"@ =%Fƒߟ={Յhp0w<=Jlz' } W'<޾\io1t֏R@3@A'ZW`?@ ^&kX^8?SzvM9C}4==#>|)NM㟔roy||d{GW'|zC<*Yb; [BA_~@|_ QM'"6 sU)Ğ)ۅuo.rUx뗿Wm^3YyūmC><\1z5>'`r/9+AX@}lCH5}}P~UƢc7zg^ﴐ(uk݊K Λmv~Ϋ~;|%*y]Rwܥe&q x?=xLË?z'-;W?5'\0,ȏeNZy_`wgJ~jR%f3w;nR_*ʆ kݹuȟ~__=ųuB>ߞG^m1tWПI.FN>o>@^ ~{dlDy=ХB۽\r;ߛSv^ǼkE4a,C>u~>F(߸)krkk^9:}n/GP}#Yw6~އV|V⃖HS?2wi%[y\.kyh1^?e:ɱ腏y﮵ɍ&w"㩟[6[%"_C^"%ӼH _RR G|i{//u|UNIz޲eڟy`>MGKͧ˓R|}n+2yߚ_2C|UTyァ^{UoK8:fY5c~:@]~%zKZ FMމ|7ٟQHp{8|UlyT!}M'W?<~ۀxLwx7<#2B9RgyGlxwqj\!ϼXtށo<'?(S]$: q@G޹6| mI<3SX\aNjw-/֍p1!icgaLk:/ge2D?Iy؁K\aT<{kdB^?Ujnm%ܟU*͓rϿg|VC?og֝8Ov c904-tOJFGE2w$k)/0_#Z ޜe|3^ңx6MbepxRMg>{Q׍k6&y-N><#Ȟ_vC8||-Nd|z!t ؟cYaHfu t4?݅Z#,s^s~?2Vk tc;F>UY3M!oף+SH).< /ʇZ1CC&)4F ك\} G#>وItc(?“Y+Tk} ^yы7dXGJdN !`?7^[RZNǦg}QcSBk(Fzj}`F;P|n$ҡLwKZfLU%۟qTfk9a<|y% nB~<3[?W2lV}(Jq{>ǖ*'.hu8ϼ|0;ӏ?8O?w SL%.Ox C+7~rdgۿ}]]Cx@|wM鷊6/7ZX#&tOn= =_9{d+}CZfX} /"=jy7Ao}%BT_}=r>}S}x3UI'E?=b s=z&ʔ ? hcʃewOcT%BX`OA9#vyvgE/~!jfou<+`?0gI,Td??ƺ%y&a}1 }?ށJx~~y7 w7x1 w"8v0-IO~X+Skd @=qn [g)Kd~Y7xs#D~zZ"pw^_o;=6/k&?x6!"1KV[ tuG{P*_wۉYq֧VkTӞU-I8.=wȊT܉ng+n|{lDŤO_P|:F-MDx(>Kno !yS'Z*i\2~Jq l}}p4pzaJ{fr!ԇUgښoW3-w! 7ZBۼx~~Ʒ;|oG/<~D/x +Ixzb p߮K%$^v|CdhJĘ^޷وGgErƦ ?FVl'>7X倒m|ri7^^<Ђr[Ƥ_'\X>*rޟ7<~ߨ+(#jl*u7mj{sSr W2ҏ>>sSˆRcy3ⴗ+~Ǧs,/wLM<|ӿ? =2X^$=4?D! OV{|\*8s3TV2=Ǐ!"^̯X w9^ *__3C~|l>?6W/@OG=c۽t'_5[`ux>tW+~~q_~?OYWO:Z_zV:wc7`u;Gt4Z>@j:ZTpw…8[*lk|Lz7~ 0p)ox8p<יzlYC\AsO!,ω63 }v|Qy/U^5{N<ްлY[nRڟ{t9?-Bl7o:Y/'lǗd ўwb,Œ z?}"gy&+VdV.|o[۷oGw㖇}x2iyb5*j]0>spYyo}YU>N#Wf+!ѽ :=]<8?KT= |uoYv}ΰ{U/)7{x~ι}G1dX^V.jՐ]p|d'[l)B(7R_1hVGk*\*@}Ό1ixy3t$~Yd#_ {R σQ\{9nVט?*6}_GϹÿVy{RɴSwrH/O<~|O^kmM{ԈyC/@"x;^_X B,U)pYŷLv{ܣ;??g{ۄɿ ۻO)ycwT Ȼӳ%륙*0 i?4_ۼhz1>(zS6>O糩Q]BhQP{ʪ </5>tcsY?2>>S'G͓L=ʢ++wJ5GSNR[Dm B珂+kx_WnKdڡ#{_k -~Av x,?n >Fؔ0z6<|{t 'U!Ӳjֿ{]2^Z!%go `!'^<d*ꗚz ϝvy_<,2d5f*;LNneZM|F,4 Xq[n?wZbѣ [KB'LVjߣ{^]<=v5>ԳJD΢y< i|l;hr_/cykk"ũI}o>2 %ML!4>#4Q*# 5,ޓusɈQK{%Xx@|C%MO'NII`Xk3<myK\8OWiy>;'h1C~@j>p(oxCj7CFEQ֢[/WXV!j<<~ J#p~Q;]es >kt6W[२1o0㳼Dyasd|ee}?;:yӤs3p "c@QFc|{IwϧQc2GS:S_rU偝( - ߗ\yPĎO.Xb)."ڕ@^Yϐr AxhqL:K"udKQ7Z=px+# 3zYVtoWGxB祊Ҷ!ft JL.<~P+6x^h:]v4h:դw,m1orҰ/`<`d޷-Yxȥ&Cɕ_WC>;fƦW ~U_N ߯a;?O c! /O$7SJY/`I_w5~xb 3i,X=r!%-eM my\[輎].u; g+u߱_`v$b/<\@<=lExKxԏ?_ yǐޡIGr~R ĩZs-4+އXK īAaVG9ˏ-O| \M]s-^:~h柇/Rljo2|Wn:SQAj> \Z[<{:_xȚfj=pL_Z3CCcw~?HZ|"S+hȟ2*IS)dݰz*/f^y+-#$R?p> !]4Bf d7@L lt{ksR;>D~v3)˳w~p>.>w[J!5=ħ-&~ݍ* 7̻o. JT.@|R`~V;}x"4<>R/D u1^Iy\4'/5i:_=i[Ac=~}A l{ ^yHN xB9qs) y:ϙo;˥u.mx|R`/Y޿wȖ!x,3+4ǗB1|~ rn|}1DzDmxgJfF='%|72G] jLQ&wJaP9}|S7GuZ޽uCO~u)ucR߷oݔ*HE<ޛE#?噷Dt!ۿ}~W >jW!zx*:.zE2 w C=D_ZGR|o xȟyp=v|kY0}jG `u.xGj]}WZv}iKs|mD W7@}^>?zsDjU+AJeJ:!x^oIƷk>uˏ^KGo%8@<7CTTO&e&&eYWZdnd!E |=e[W;҆^`I.98;[ }ZmEVn5au|~X\zD~`t3McCO]?Ƒ_dW>y)ۼՕ#*_Zpk<_z_~v,/<;tϿGc|Bs`у/"{'2V#;N'/n|ៀxk|G.d,05w7梌?⭷E#O6Wu9O}bT7އf"Mq!;rGMP/'ցxyt_X&J =b[=շnx;;/-דpg+kH}KOB>w/S(uYy8}]<묬q 7+\a?<|zhmKaj5D7x(X)Qʪ}E/eoTj<ʹ?+K362f8oҜPY26(Sr}p_ lt2-Ǡ(ǨYz Ϲ)->4<c$˷Lލ}}[>'@{!|Ow}/<3z9B>?uh mx[ŵpn0eL]n)uڽ{Cc~jӸ2r<ϾW 9ІoǤ}xTGʓe̓^xs y}I "!yZ/q$yo^| ο}!xƖ?-O~PE~DSt=H y }޴w?nxR-pkx&">~1;)yh^@~h|A P:暏Bk>}"0y=?.?Ui% Q1z7$E zQ,~*ǻf8;gٟ*#rў/Ot)T1uX^_7a /ݟg߿KB۩^xWZ_s+.8>gǛ Yҽ/\N.Z=[s'̤5WiO 3i]3^q;Ae݂RI4Yx}]h%%F ڭ<{K])?xsykDp I̬d2 S?by. f3T<$Ǘ|l2=  Qox ןY^ƥw \^\dw;-K/idm]ϊC_, TMp# PAP9V)+UəB!l@{b6#|~5 ϾzFKZ= ij&׷W?:Zs&{@ޣŘ<( 0<u/DI}߁zaCm +}ZS ϋS&m+gBd PY<:zu43BD=\Oi`Yf7o0#놷F ?byh9Qmc/ῧ;ųw(-=x lXF  r< l;|Y~)V{=fdyl)A/ז2D?Z/%,O-Ez!ߟ|-ZbB0d\5wQ5DL.`zC,ϬMԣ^ۇ#@=Rɣ k2~YSTߥ_|,8Xz}ݟh:GH}=G(xP?%vif7"t2+|`OtYnjݜ\,8=^k-vx3_@%P?/tˌE^d7ҦG~DL.Q-o<,O:s#[?G\^Aފ0bw_jWW'65ycR|‰x!' H.A98hO 7bZʟLPzSf\DbSpk =a> 3\;ްXZ+`p<|d~ ǻLvq_r<0E:9 +~q"u:|W2 RPT4ו5$_Jׄx)TOx ~O|x9 ?޴X0Xi}g_ [='?`wW^YSdUUȵ ^ [MÛ '&f|ÃcC%sɣ/7wߐzĵ97i?Gg\<tp³>G _?Kzf'QK:[K?y|{o<g "zLY[!yS3e4A[-ff9T[?蹮ciHylF_IeDZH؉`~ ?E^ZMigxo_yg{{>ocO1/A9 Ff}Y1 C^5Exm=kVY_Yh}%m!h)yr# @Te3C~R*o|=0@k{&x:@Ǯ/OxE}W:VЇGtAHL ͠yS56#+=ʔ' 8[0?q/x=x;HfΤóFY#z ]1vӟ 92&?=I46> ],E|/ϛ29ߟ6Jr}2B[A 8'=stbO@@=:YQkA:7@KyN>K+)/h}L4?GZ6[¿JŃw~E1S><5v_|HEL#MLEngߖw ҞwjxCʹȫ0bytԓyu%=ӆȃ!|@; =3ib.vd-\[#؂D~/! c"Mv}%O!x}o(|ٟїS^*]bX~#P;QVˉ2 oPJ] 0T`σPpz)*~!x';| {^bRUJ P^5OgY&x!}gI.})(^nytz^xcы{~[ėɆ:TVL<4 -ֽ!:V<5s|;/v}!nxj:uQFw-a09~ǯ\=*5 v}X PxGWN֛~Yo/#X x]߯`}(kׇ=|-wg֏9 fQ{߉g $9 2F~ɺ/=Oe% 4롌$ ok^=_x!cA><./^G{y/{[/[ ys!)ky_0\?Z!,?̢NX6(/gu ȻfUh,j?*TxV$t=ZG !w G=ܥGP|”E\{ ~u2ygÎp[$aއP| /M {WBg<#3(=X6޸&N"?-OVۃfV(QNoW E_a%~3oyx| ˳ YCΤ>x!nމ]_ogyE|=}myH+%oPσ_jx\ /0Ao^]ъI zG\~<\E ʚRF߱q5{W6lĝM !Kj[B"1 pP41Kn&   P2NVffYX//v gais֓6B_Vݏ=O86^:8n GsAma- >_@ۍГؠ}qIa|,0Mf^ >Z0 ~3׏HiʐG18S͢7H<|H7>Y?Nһ'?c8xALǮ^\~/6pd~vdW?V*np-q z1?}q+1CӢο]{w^i=SǜqRn<rV[^T}i7Y?G23{;7ek;;M״^6e{ku}M[Ec=ڹ =2ˑ5azwpIl4j_r{Mzbjzy{=hDSag[*^}z'ӂDŽɿ2N>$~"oyp*_^f3-ɬF-+|r\bZR-e(^e;L{`?~㤀xAB~Ŧ庈|Bi;WHi Xq6t)hv>Dgӑr:@xӡ>*L1~sޥǕQac+O0՜|~=7c}jϧ.O~gO m8ʓڗ8Xv})_ Z*fqͪ&ºΧO?ZvmXw On~b7'7ug?gbY1̪#Ҝ@[ot'ǺSӓѧiFrnUOZuM,xcE3<|}xuryʽh0XS: |;r nTQ5U8}ncf#E*a)3}~<=ka vt }:PǛ+9nǗa#޷>ڠÚ u{j7XǃET?-fT#Z?PQ]/l 4k-'ʀdqCxRfUB,7Cs޾] s+5T&kG_ꦥ)coվpq=ݙo߿_r.auX*67 D.<990ǰ;MoUCρ_shɉm]|nϩMݖ|j odVcm7trq 5nSl݈s?;%̹`5ժM3>7Vkwʵ.7+; .>n'5v]c㭓Ë˃O|GUMXfq g=LEE;wpI1Va\rYC̙i1{kJsZ`1zi7cLm*/2 ໪p)Zf?+mg>_EKW1e%bJ`roLr1-~f͜K`a: .GgmFKrov::}뛃/LuV,spz@x:J%o!JKGO. /yܭ?8}{uݙR%we^<(Χq[} uGXpұ`gG|`5Tr )'T0(\?+BB8e@8?/ӓׂؼnqU9͵LЩiERhl P8z7q* Q~8P۩1ZZP5TWu7ELau ?cp xZ+ݽR+ȣ=w:v!DG;#{ѵVц\ JT\/ynMXs=-=k-Ś yA}\c!io1 iOMI>U@ͼ+_|(@ϝ8ݲ[:&Cv{%.~*aɍa l__;Q{9M;Ya~Oz j\sAԟTV@SL B1}wx}y dj%˫coa-ޗ=R@uî[ݝɦG#Y{G` F^v j5X0dbg w%&V"WP@2U-N{t,jm:)2W昶esi d9`69oEܹcvɩ4CO촾ڭ ^ic;a~_ݓS{Mi$b+ MI2ʖ\d,d$ YH Me $ YH@pп),nL$ -M|BGlgꤽM|RM~y>h3 NWb[tv8;Vs+v'bqq0{69:p)ڼ_x]hĖA%oayC=Rfl+8gw=3.Om}4` <^=m5êSִ#ao0ɆwQkPQUCϬS5̜!Mo`F5ð^%| /}som1(Gzw>ɳW5eΆ p]XCXGȒ%hj[JY>i BCl)N%Bo3s6:, <>Ô i;~Ͳ`;>ABv˜1sq.\o.]m0[ƒ 3 %4jUwY($A C)A]h}ogev\/@ݎɁq}xeSf=Zi$lֿI+B_AK.Ay@F{ZUؔj$(9#7Ցu|dk@IOKf'+] Z! 5,A|Ac%︶^x.\$\|~%Wh4#_Y-=G=Me~.~~wK~JI,vd {Ȑ7 y$xlGp$/gY"N."^ '׼mv?=~_xd_~!>'(6$!nWfv fl2bA BGS͓ܻͭp2DL%S}΁':EJBeWGlt55_F"UJ[kX+֙ٳIRݢtyW X ݲBVTYgM+~YP6%G$ܐ?Il%pd$ YH@R8,dp @e̼{% /dty2f |d*+ r񫴄8b*[8zo0q;]Dc/\g0neTS8;Rm\[#&RJo,1Beyϐn B,` x:P4`JӦ[۝,yo,;F%,KvR j? %هP>0,i@ B8kSlQRJ΀OF(hŢḧ́<["+EUՑYruprΞ{Ag,kPbvkDR .]_vDA4 V1hbsc3?<`IZ0WiQsYrȑ@r$Or$-u\,*KFaG0~W2 0 SmL B|K_tdsMO[2ῥ-1C3L80`!'7 BWyC'ӫ7 z^d_qEJZD d`?bpdhn]wņ &_ɤs쾈"x/)To:_#K;ˋ"Wh nI=hR2x]38Tfk JRT"OJAY -%f+lk)W)eKqH@,d`d$ YH?Yf{ ldFn't3xW_Le~G-e+?|(M+ ˱- nG S ,1CG,l_&RR 4$$oe3 $[F3 LbN˥b!pyR!I(`pg( UYl% Z(ؚ? 52-_apW܈J%_3XrHϖ _FYR_^s/ e= Jj"2J w9@C@?$[jω,Y&KՌ@뿌%˒DO'}'}n`^YB0U+*lp-.ϋ8iiT+L.¯y"zV\A1ɿެ)m:[F\I'6j[J7?)aLl4gdNjdnfɡWCx72 EZ+%x}]tW:z{xWWWA˾)2Smk>0|d+ٵs/IW]O:_x>N8uC˃d6U]'Ԥj#S\!_-/܌5٠28Oɟެn WJI?IC%yǀH\)[~$~ UOuQCb]H !N'vHCqxY:²hq B(!{ޫf)lRJ-ݝNw'tKd`2-77SE.O$%A!?G 㿻!=bNAH7s`_c|F'}egTX_R D$%S1;MӴŖ x1Lbɧgy#O?K-b>91JpJ` +M?_i/;`ܴmFgp&@ l PP`t1+՚TIw[L2qZ.3}}ۗRQWr., BS]mq^΁eS,辿ZO{}ij,F?O_;Lq &`0 8_SrSc_bzGS#,yT-+CXU+IBЯ1hγ4 ƻL2 UL`[Q,#4dʚGMuWj"XV75fRkF$$v@? ŝ _NQ j:5!qCl0p[Q׌P=Z0X?V^GLPAъ%%ħmB9XoS*2@U,w:.V;2y0 \:>:Ny}@c/,>*ظڍY> nXtH>-`D[])?WW_U + hnvHf,FI$)O+3   `XX`L,o P,y@|.W-5ć=yC|IYbɎ1H̲84y=r+ǴiޫxS5\>ӈ$QfhِǾ?lx%PrC&#y);u~5E-p`(qJ'&{M*AeD8`pCF>GRM/aS8/Z>Y16?tSO~’O[D~bA*uA?[D)d ̬,P)R[eh J eJ-/&(o\nEOX ˓cff']MF']3*: @s?a1?0L'6;ف._]oNH{]nH I/9s~NEY F/C r^>18e}uV  'esaz[ňɣ^ )L&gnneR6>qyqJKÙ>Qq(Mnc;B^)t<:߭#7  Zo5Q7TҀ"ebM-L` S0K!=LuH%_1A(_{-|]`/AO٫c˨N }l/Sѿ {4n|?1 M1 H8r7YeaꇊkIlP2PqK/Vz=%T5qzMލu7z>pBi$W_)pR Ĕϔ 27%ʬL2"ei@@@@@'uOМB|Zw`AYC|.֕urilP 7'g}d1]VDU?2uO̪HYE70D!ʁO[Ĩ2?m)b"[ҾE~O?c֧~m{R` 4KDyʓI!F ho9 ?P^jyp@)ұd5Ш<0%J?{ C'_0 /Ot`+]!t7s27(9iK>MŞ*Agm0Jlol qVf2t2(<Zj(C'T)L& gnneT6@q{}KKé>Q4wQpwQ`*8:ޜCLJ?`Etj궜"V?UJKyI!ebM-x6` lr\9?I<,%OB6L/ x[< zkjo`'=^w[o$x3":(1Eۉx/w6p-ea RN [7N04+Z4 crꇔYR֝5 UZH98]SN5J~ @n[.PeFrEpXJ&J-A1MYCTa_H2"s  ? X`6T,w P/@|Z*kLN5:o&5䬏G;0Q3Hah1\@Y7Z\-8\+X/[;j$kՋR].+JTu k \+0pKY,iO9?Q.Et 3O./ O3 맒Ifdՠ~ ř3FE* '*h)K+ȟ*rry;S R>"&ODt/zO,$0?e,O?\>aXl>9 mų[ATLU>x>9pPMԊVkds1y?>A cAf6zg4:ګ D z3_E^S5ij c/K#>l2Dk#7n nYn:_2-ixOσ+. wb` 9A `^g  `'W+i,edbJz /UZvܛe!/zc:Fյis%QjeP1%#:m_ _HZq@@@@-C @@ 0@ú񑵮f!> Q^']z fI<1Ba3Ċǔ!=B!hmQu*w p2K g]Xj;`*%‹nE_\n7"LmA?=j/U,F؁ &L2[TiLp @s_؆_<^;dE1J%9EK¢ ,7RB?^?lC'60c7 MϠmɁ{nr4.ܓ6/E sAf6_g4zY rgj3Ofr:U.˅iOdGSE/_?ɴ Op||^;/kp'sT( (Z0Gѱ nczj[h89?^< ^EG&,$ |'2> ^BC ځEs(Jb0p/;, ѡ^"$#xe갪 (bA]|7o//wthknBCkaAѤp"Ϙ(^tnB%6BDc ) !}*~% 켜D]8x2ƙpvpHNPhkDC2NTy 1P=|pc-8ttf!tFE l^;?sNivnt5FP&_B O iPeMCW\AZPѣi09&F ηj$NW ,:3W0H;oq*g%獁|2ގ wX:zm ;z;LƲxC\?hFF5N/#j&@͇{mockMw-zs|ۋqm?4MRpLio3kkCֿͭ>&g/jhlnoK5[Wzfv'!A`|AD%Q͔Zڛ,["?gA X=]E]=NwOkn{cgO[{WOoT??{ىzBK][N \>)UT z:hA4׵S4uvuu4/[,FKMMήΞw^'ZNiC]69dN-&I'ېBÚhCS4hnUrV^l_)=>(l6pzRh{|7N:E3!8h@߱h GTlDvU3^n(Yr׫w4u/oS'>~:zL"]*oY"̥+.h\FLL> ,.)h,e3|(4 9ҁ2Qp!I9ڰFCCcǚNK]a9FkshƉIrRk'%ZGlqM<:-w?n[(>}sQ杓͕W?|u-UmadZ/ޚFII $V'W(-11/梶_-YGeW-<7I/vHZ <Ѐ @  C `F[jɬ19eytI"|f`6hdz6ZBs1dGwnC֕<9>EL<ІnJ.e?ҶzϬqf;hJl&}:&-S_6۰ Z 2Ckl$ѡP@kT"p\?4$CMludZγXxEZP_=Clb``!u&<ej| .?G6" ]ݖO >.! bt@hh0yf) 1D.-җ+ܯX"=>_vf[0;-?m2әs#"?W @)D~@_KAy㶭Llht^ԧQn[Uώ-0hcᆀ+ 6R\ Y3\O0-P#iji3eՏL[9شϔtZU 9z V'W/|xJlŔoG4ia8ێ #k Bאַ˛#IC@@@~@@,h +`h>4?sRXVʊGWFt*͉$=EZf%JMq0U7إ!$BCܦfxeCpm WR4첹ZO`*@\ ئ%^܈9VK.O[İ~bV^7E-ںNΘ3 ǝ@,b`l`` ܯX /d9qb1d@!&ܯʄ}ձh='~$+onCc}r`Lcf1Zt$?'W,?PeXVYx&gcؓ^&l @FC gQf6g4* Dry3į:=*tKՇK0 /eP}1>>L>u_UWp5_\ny+18 08 kF `p.ի?ej/,"io1nZ./EF]L`0K!{ XʑKZ.Q(F<)_}^a#Dglwƶ;Yg-] iv>@`/HZ\sOdL_/6(^t-uriqHUzqtA^nV/+o4Ʋ_U -1S%=TSeP ╿pa1(ZE    T_pҡ 0@#YNEe68ܩ0D`V`c /5 BxL3;Ĉ\QTLíH<ݰ3G R G<䕺`V f$ K^?m 1[./v3KKfeM'#qw&A/h)͖+Ut_=ݗO'W de}.v W*Qyt,nàI?k/,F4/7:C,6Y&7MnoRŐ)-ro[b}e}rࣤ(bOrVb0J1% 0TռO*ܣ SNdr4H !˭<.E/_p?ɴ Op||=/gp'sT( ( Oe!B-(tE3#hk7%CAb\nih$PFh^vHck+G<[0؂ Rr$R8pӹ+2׷1>3DN[fj]WS3YP`JZؐpOؼq{ 3|"2SXYCyIzSuq=_|`H^X1]T),;%+RcEյis9ܱ Fsi5G)O+6    `a@`@k 0B~jI,Q#,Q҃,+@16 , ^2\[1x--J>ΡxNFRڹBڬ*HmZ?("? !G > d[MBcs(dGΑPb>FX0/&ȡӠYr(ȡ$Pɦs%2=>/1 RƢZ&(21˥!c}r`Lc kL+)dJfU{neXTYx'gcS^!9, @_^K)'W}[&*';"0foD{[KfVoagg&f n neCV608v7(gp,χX9e\e0V08pIq >,DV|%/ !o/MM-R&H f`00Ε#rTsܖ\ߖיH2hiaY0Խ:ytu ØGUC?yoS2q渦FJ?eATY~>s7fEeF]slպ"k\N"v)ٓvygbtV HS1]T));:tS@U$1|iEg G@@@@ @@P 0X`GM P5UKz-=N> fxLBaNt ? 36fÔ\`V 7Z\}8/XE Eu0rƃ})P+%&0pل#Vv/p{)_"o[A<[2Źߜh#0:NC* /h.?/(vH6_8/RE-bVJY+FK._ K.r/OE?[bɁa s`+ \_0-bRe}rf8['tK%vH?[=/]& "]|HoLO3Ynўy(*C3M-CpOp2uRJwa.qi8C2 .2 `+ǛLNB=M=kx1GЀ#ebM.x`0 z ʑK\-ܞ[lvLM# xglKu2zTul6^;φ2* O[/䛈o,g.~18Hjj=5)'Uzt8Al^l^'WG(q(e( 0$> nO">-MD[]i?1J[mWKf /^?V??;L? _ W̃ 0@ԉB[, !>2ttJĬ f_`n.X"P05fs1|ۢIWd?'eΧDC:5v k-ϕDS{SCD6Ԅӂ/BnA0;DYK^O[DgŐT?\"ROik#eΚN5_#@N&-T_E69R_d墼e\x1.G?"?/)M=/NƐκv5<_jngŋI?ܔ d}r`#Ʈ DW̭2bi"/X'nozɁ[麽{j,N C/:CyHvHA?kZ=/"]}HoK{Χ}Y_HM2b%)"eFv>>L>uRJ/d U\ S܄M܄߫Sxs '/KT*_^?lu˭4vHC#`3p)D#=cPW`ris?1[}^~E) v>C;_{ǖv{t|4k_`N (e x-Z abє=Ңz<-PL쀜nG1J c1JB:L9FOcTQjJL2ShvHZ@@@@ h%!`5U#k) B҃2+@,1KX?S,a Kr[hscȹDc8h&tUJGhZJ;=/3fS[hL ˔Lot1y!=bұij+d7 hIC,62Yf6;mvH vn/-be}r榗[)RKm}>; 5F@$7C=鿬{/"Qby\n5 Hf]=OpOp,SO ƥBY{3}~7ap7a +<ޜǓ`K5 y}jI`CIXT@SMI P3%P57ܺ £h`"8 ~N_z<\R[tƙ4ޑ !&Th-A﬚1yuY,\.=:CKT3"x%WU1&A!b턄 )"MņZs_sz2DTQR2+8ѮkGu<@SKff{zHk\=9#ݚa( eV`7~)qrD7дP'[Ѵh /#p((LNYDLC\5bC9=ǴSeLW4R9Mќ9sʜ݅eEE#1fX{i')l<q9fLP4V0Qb2Ecgv1(nSۺh8(.zVӵ )WM. oyW5zQDi(|E4ʡ(2MUCJLiir)5ukjAY@ ~D'\6֕RWeըX Ѥw)HyMk+D'iƆzDci8`N\%TK=MӷSxH BE|7vcڵJ5RF+Ͻ+|TVQm2T'S2-JҐh/?XB8&|toeIF[dRݨj& _--3:o*oZ{c(hjG)xp]G[s[SֻՔޢTo{b饶h񮷦A. {N:Dg1ّ/=Ec-\Qzz*SˆL(|p_YͺֈV7Jd(R=W zl_IQ/MMFL uDiyXhHIWTbܥFcihh Xc:cHIrR+UTnғj?cZfC2Z4ph0ީes)㰲uh/`0af4l0(f5D]-a‹ z){[/?12STLGf^e"a<ЕpwOAGO(MOuRF_g޷W JN&]t._s⃔rib(_@*B pEziEh3YjǐBrv[uAXU!5W20e2)T,o+Wl<"z֫Z{š o3tP{ K~_|v&nJ(Kۻ2"^@-e0PtPVUKDs{QV0bE*K^[ 3od6ᬊ7s $0V:4X_[!*TOxWj^nΔN@4Ao}Kp*@j9uNDHpߝҏzC{o.C FG"h5Is0Ͽ7JQqu<$>B՟Ҫ?eS_3SF Ѭ<³ҫ gVY[sUZu~WV|Z>?5^uW'F_#o+|Pƃ 3,ڔTc'yŧjsxK^X'FW#͟pjԘAD5w^X'9u Rjx GBG:K^Ue9n]F.Պ WkUdT: k]bc Cr>++ȥ#>WQ)mɹ.)Gb80\*?WQxJRf58xTt F~R(`M0*%VzNW r0on7JkQ vkU8ޡvf*ξškWحSddjZꥉ(Ο &G"+:tCJtkdH7zSՓb[.ZV2){M!minfY Ս`[9[ҚL"Ɂ jaKS>U/[Lp#^E 1 &@(-bgq; E犉Eu18[sEB E `.b-DH.e aȗ ]=H WKQi!SBRù)}{\2C#T]Vb.an'D. bb!j#|MN>>Rn吒H %qª^.P=dҗ;B@7lZ  >2Kq¨zj2k%GҵlEU;i1KBy#2VY|V|&mk(t/<^Yg8ȅ'c}A_fz7yTO5h,hm4_-znj:jP%g=+g"=CDO< :zA C:%CZ3ƙIqW5`o;pDZT~CE} ^Albbeo6- GB"b#h k L$!1 B{ QgvY(p:޹{82LA3t(Dϳqx6hYƓ<94\h\Q:m1Ǘj8ݭu>&B\ѷ`q% Gj{d[P x(_B+Bb)6?fvS$;<"=nEL?>9].ڣ7IS!1á!ų#ŕ^KYeP_; F؁ &L!<Q78`B0 DXKvZ(=Bk/_ nECra/UUƋw(R #Lڗ!39;!j KO,Ka0n0'6\19ZZ.pa-:$xK`GHRxT])d<>f3hz{#Rgo2< q{C F{uSDm)"~* M9SՕ՝!Ԇr!.ڭ>-R&?a_xa? ec.5;K9mqh^F3|1\7.ʹl AN8|Uю~8GjŸ2Fp5U|'V#y-9UJKWՇD'6LYh$LmҸ'U(|sK SNT8A:I+ $I'PGxI:>&NF1.6 X|Wl4ݝ̉ԄgbgA21YVQ.+sXZ0+]Y7D qU* Pc ΐ̠HN2Ĉdl#gFG:GTfR2yp~q8Z}XTD~p`$ 1UPZ},Q<7.{Y| sMO&1t)# |gHZg^O?hڥIR^a]B$x`|OpOṕ=:hg xHˆ]Z. nO|ے33+ǖdY.q>=gY=I¢ &0q xH0aT6XIFDL8pm%PP;ⱉPU$­H9KÑq'̖} |\!xa1Ǽlx&頂'kMZlʓlt| UNo㸉!ɚT,l9 o_3ZChqab,ZzzёPїF.N$<~dqlw+B`}i,`)T}R %YeV:<SadO ޔWu>Ѱ&b!6hGG0Viac6ۍ.k yу¥V?: ~$׏*].<޹'?啇GjH2D?@@@BeR  8@#l@h)0@K^Ӂ\9 i;E:V: f"fiCwbr4*JC@Q[% |&rG ]}V]>;b#Ɂ n`t5Mi0^O)7"+7%Mi\)mgs1q)?U@녝@l2|3d]ur/\.zHh.u*s)pXqR:\j -ͯ r+- wR5*uOjd$PB M0@ A PTu2@e?U$;LETaIA!F?'!2?yIW9?Ur{T{bKɁ n`vfby?UګXeY*eN|U*X9 4 HY뙟tU?'-dײF9 @Taɣ܀#eD:nnWn:O . QZ\DE\Dmp:9`+O]z_[{y1%M=huLvWd0Sdf6uLɯF#}=6%}; £)юN%Fsjvb+wv5!t7mAqZ/ai;,` 52}T>^"<3C*lP%d":{c48FۮN{G+;kbZfۋw3my<cX Dy0ޤT0BZ.9= p7ILFh).w^Kϑj=]? #~Wz40jPbotǟf+ 0ppd+a4y]ͭ.YO2cp=YB6-ADToʺ"bVGF htɬrK0.3dYx 4D":%1Dڅ"] 6^h1K&~qAQsqGC9θe|x34%A"6eDE;ESjmQ-tG[;ێ!.4q2xE{3#u'lv>h_Qph?Lm"SQԹ og64jn gfn/jc1p,lv-{I} "Κ[gM*q`ۋ >7X6 0S+^#VHʡ #ShDB=ܛΰXZӶvEE;ؠA5ڕsVxDFp4Y-ݏM֨` T@Jj[D)?p #gyBtJJF'E=P48W ck\z#ܝ8[hZ_$J 8*?5F5XÍ=Fw^/ΡP)_8YS9<˙>8 əC#ce"Dk2D0mq/k_ƫ?ryRdD$FCBa}t\(3B" vPV'+[ڣFto2rQdX12j2V@))\|;MluM  @̳6)D5X2Ԑ6B.@,N&PB{6o)P ߺƠʠqƱeϢ{2KJ#%#~Yٖ2c|+j(tB>?hHv.U*㬭l D&5+]!610ʛ l] Cx['WLJAt)a< 6?358Ն59-кcl $dTجTg Zh[h!zѪh,vH2[d-hRta͓^ʷ7S\e<ǿ.Ic{vu]Y* VU &Zm; U~| zz"{ AMlqq4WrP(BN;t8}~P_a͝!Q׫o+,hhA!P\W,i4(a6G/ĢDSthNCVi,c0^67 BR4-av q \5ɸ _J>["_<44f;Q6Ƴ^s_AҚc-y?to aDcl]kKkו49f,LlhɥLNFƷ13\/,LT"JaWCS֐O|yYNʮf`&CDg(T4G9%Pa9u[BL$WKSP̶RcEQe묝2Q1Fg12 4+2g0gq.$^/%}J/Mti/ xrhJAT!K~"Z"ŵX6фV GJ Z k!{UG*wMϞ%jKVlBP$`C ;wb6n'ǜhēxa& k*ȋ#[$uPm :cg`@> 'ťZb/!'L:<v`0džGhkT)p1ȵ<+GW^ Ȋ)2%+=GC#bCUmגT]6He*].,LFvM#P 1avԗAtsߵIq4@gS a*`U[KcuKiH/]?'4ZCY$<$=?r{}pCNYִcw~ӱWLl'OoUƽ?~x{=n^vsOo_h8>UG |O^8O9rs]v5VL&[w|Wv\/4&uk%gV˚}dGq7oy|Z+;/?G~lS˾gzgȉՏ}~Ufֿ:?ep?-]s~go8+{W?G߸91.]1b^ϗg'C0:7G|ꕣ{ŷꆕ=~NS)n]Xݗw.tI o?]Yx7xcva}?q}ѫ^{1|ҧ{ޣmܺ w|ݯ^ٱɉun.GωNpө7i߾znߒ~폧mq? 0Y{J7G^oع-~s饗^ow``呮ν`{Sx_֞+hz`oXҧWoFv;T_za{Xsqj&#K:'x+j˕[o۞\03z:媗?ё?=p`dΛ~&܃Fx`͝;uGz{v+|l7w]xyۦ {ҧO~m;g\{zn|eE3&Mtݣ]"w*kO;T'uwx^:yswNg+οۘ;ϻqd2yUOm2>ѷc?:hs^ګ[G}?Gm 2'缗z>^OW9NN8a7~<֪G#Μ~w,~6Q;w_}d?j>vuDz7yԞo~yϲ{ni摫~@۟oԗ3s皇 ~g~}5Iya+޺ϟ{;t&=KywG^pYuo{nǭ_ݾǣO[Orȳzڼ;߹=Ob=k=_,\Dmk{vS?c|w==1i+?jh`ɽGv͢3F׮޽䉝o39|>Ga }W|>w|奵g'~Ս>S62yՎ'OXqtuy2ǾM7>ު:ö=fmߜrg~wv?|{_95\}?k]s36}g/o8ፑ D{sgQ7Ջg<h5X0Ya4N_|OYS؉O<~y~/ʋ_&pmgG= :K.cuG~u篱bx%-}zYSo?x__y7~ŃS'wcl}uG_ntPw.{Kϵg w3gΜqstL'v;[[7<ׇu-ys_[v|#z슪]e7:&W?y{~uB)Y=M#>bĶuk}Ҵ$ֶC|aח_|u|ӱi׆<[۝;_A9fׯg|ޡ+n=t;߸M`g;6rn>w5g-;bտ۽NziK?Msݶ/|fbw=#ww6wMU[BS7yTyws;?pwڶ#> E2>y? R_߻wy+~wci'TO/R7t^cVC߮Է:;\\|էzO­gN_ukx޺} m}{^~ξ'y~GVwy2o֛Mpg,k/~MNfv?/\>E =.?,-޺MNǣk9s<=uo#{;aŅo,z2t_~=~˜>/鞶xWӪ8\pv'`qOM5|>BM1'/{dϩ>[㯎zsj)޼}3nx}`oT?wz+/=/q{ߣL8zn{;tݺ]՜n gN|*vbWtm{/_n9yݯ[sXz$iwleτ˾x{;^wCY[{~pSj䮫Z#uw{0|{b=p{#'L8/=뽍<}^z]m*ޅGyK-[n6y9hOQFג/>v?\7?qDeIuNǾq3v3? qn/q/y9[AkŗSxs. un|tI/3]?w ?n~ٞ5?Edϻl/l?6]qK{m_]%>iuoSUmyN۟~y'8yv0˝s? ;mgwNM^Ĝ?]ydmmVϻ髫'+w}:ú yjU^j[0={^|S{OtuGouU^L%W2ʆ;׷񻍖g.bKy|i5pMU'?'V9OvբO6\']0qN>̋O_COZcVSrmk7?|8ɥm|g-G]iu8=u~r{.G3Ϻeg޹ZV֞3aױsr~zX=^Zٜob}7ٷ]nsfʹ_q#["O[Xs- }Ѝx~˻oqnu;uOx˟_9JkV>R :w=ypM}ڽy=y-[C$fn՛לb߾?rG+~6]SBS\Aŏ߾yhضm}եzM>Gm','wyknԂ5ι{9~AKmw]up+5hwHЂY3}LrnRO-𵼧5ja}/MGmn^ox$#UU7*2w [ΪƇ&, lw^ TZ&s:a u =֚8؊Ԟӗ(1M}|šdʣ+SwJ|4ɰ^XZTϹr)I HyBJT|ڞֿ_I֍8Vat_iisJwGt/YYIѦ1[S)X&?z\ks-]2}~inOuTϯ$KBRtd{gu1}MyxbSq(x|YCr}JV%ru,4w}_>0i^UoQSx=G~nBe'OdglKzOs)8Q 6p?e3B+ Jy{c)*A}BƲufώ<~ՁaԽi/Ϭl^%O b`{IĿNty,Sۆ gz=0HC/C4Jbk.ןgp,E=f,ڀO;R"U{}\t\T[{lMTQ2cg䷒k {ϟoa>w=M׽WUG4Ss|NM8gcu-#w3.fm/_iTԌNw\LR_BLچ8mhK}_$OvJ)%+#w% 9Q^#|k&1T*޽{~AJ<+m<|\;>gu>.7x,[ZFf hggcEF$ʏ&SL0 /K_%6K:뚺bh͔ZE!f>ܸLQaӶav0TȋO{y1b\4tK@|ՕwvN6պ9 Pv+('JxW\KHH8dmzepfwL8q1'X&C9O.ߑK-^|G԰U^Z97jr>Z^/?1h*(rɜ?*ZU6RnWJnҹtulEeZD ]vʚgN}㚲ϑ/M ˳u;v}!k E;{z׻1 +>8+-*Z_:(9ՁO/Uܸʕ+XQ%kK}kw;ˡ7g<>}>!V:?ͣ-?>4 :;O*G!nAAf;O[$5c]KE/XՋ+q1 M O^M[ {s^/цӝ$^l#*|sBmj+$o8~qUH@^ao۔rgolXqe:,O+QNz[^164"KۼY#.?CEV)ܝ7tɓ|L2ϟ-43"6#f13=gQė ̚1aϧ;EdP̵,B֙`x0<k伉S&-bzHU͊-'UL];fan&MNyL`\쪍ZWKB29;f'f;:>ߊ-g(?@h?,-qh@f!ړ>퐈~I?D"9! yKe>Rаkh~1 `3T <9_m @@|>SJ)x :8n0ۑNJnH3>L6z|O g28 f W޷(zRYl3b3GM˟41!6=^ܙ,ԩ>5`6O簹<]j<>:N lO8w|ql6 @eloeda#5ve|9 <0Ōw Gƫ*.0aRf4@*;`Y#EssSp<\#QP]=XL60L&=+.ݍ.6SOu_L0.dqhTzC1"ktgC8L`.LGqvM:|@'hBoIcs@ cxP9ܖX4ICjh (aT3FYkU`AO]<.TGL6A}r/[7rT| ۪l.G#3t6Y-ؿP7MfЛ1ܙ<(N7Fޣ ?f:Z Mt4oByVâyXZW55' >*4jdnvPmW W5pfO8i$+PAN`w!ALW `6@uuӠʀ }Vjy .TS|`+ˁK`GcpL5`| 0Yg[X`ں`[0f{Tɕbp5f@[NZg$x6B ȶRa̭yjK\r} `bvԐtxhK;`hY̭Ur7<[+s|zvar8LFLc7n9CA5Wz3/7 ^.`84[b͠=I,ڂ/*}VOaOvِEIVH#4|Z=уqg;.bCk4(zK6MSnnZzv\f58dJtxNn]l`HMiOKOF[oㆴ殜۸ɓ@yCtZsOTU5~IA79w kaw"ruxmh&W]L&aӸ6$v,Ъae`dۤ@C޾B4˛a:P]6nptmܥhS2&.&`-"ܹ~/5iݙthkhŷAʙP _D?Ke>XLH]<fl ŀeLM zO`2p0{ЃJĝx; CͲpI@_ھ0\Uh`riTkH{rS9,^]x{W-ܸC`pimko54w~qކ1 5Pߓh,~ŝ,:!NLJ zyod`J;kE VN<ZӤ[fۆ=2|KZLP6Vj% +kLjj rhPRSc0j ZWAkNZHΐ uvà1f5/tsh|?vX}?y;oU $?lʙg@#~Pͫ{,4khïMu4&KHn4*w) 0͆BZ]xf4| c;HYs::VQhhqR*?!;`πb\v(fӄfNJJZuX%Vlog+vp &CuR[ P4HS7|Pqxړ0&2V-`t)fi29VlH=B>To[<-e2nGP_  l)sh+{rLm:>wG6LoN=6\ `Uo[9'9gtHؖoE@D@D@0v D@D@DN0 (T6`(34 "a@|hm Ax}EW!>:CLHY{=aӠ=+c:6LTxJ#6NTR**RVS76yS*?W@ ЏVE%*4ߊUZ<$ ox:uq0@gR }f/_\A67 !#nkDo i("ͽ! T] ʅ8tm|NcP]! !X O7;H{ 6&H+/@{_h<Ţ"Q3)@1 ݑ]ji1V?l}@=h05a]7wVIѕhSAM_ҽ<@B?OBɑ__EѴ=߂=뉔DoR<6|W(?ӟ tZ# <!3v&BٯtO7_!1-?F(DȊJ!,dz+eC$qG$S??>o Zߞc}  Q ͼ3`Zk[aх2u7]ΧtD[hDSNovta-I@>'B죴OCn'K.Š% <. 4 Gr,#a6І:mp{=$,4+|',?*25缏~/9+3DG([;Po#S0b FL)w\_֖бIo heMUשf]>w% 10JX6?K`@/dOm2~.^z;v)w;W. n!kRKeQjFI]<=amd 8]muj;~W]Ewݩ&L O斤׳`4#HmOG@D@D@Db! "  % AP8Q  Ä1DF 9ćA?~^q;Y.ۻ s1XX3t虿c;ֆ3- A+S]@/ۇmiaj\z\~  n!6{q+xn 1#WX1C!_HWۿ'1:+K@"Fm. ;׉9ud&,o]m:{?& (p8B'pHHĀk3o((\G4{@p?>o8_4"dKC#(bEB6KcuH"_"d%%`WC}+(߃?$LK ODD~gn%k 'B 냮ā|',?<)t4o$%#_$G4j\'BEhQo1ڞ0EaY$}m{E'ok<#q>1}x{=,.4qw?-mL hb_pH0DX͕ #C+FsPB'>;qw`_Cؐ~b1;#SSIyII駡Kc8d{@1}6F4'0nP^ l<^7Ř9; nS쟣o[*g횁?z0FIu01ۇX4|2`U-a3 R;kVy*mS=jWi9u|gՌXEM6 iM}8E˫r)X,jf~Uٳ#jHxu꧖v)pres*lJ9P$y@=&SF +FUD6:.^~IsEIK,k[rJO'ۥ%ZqM{t_*nnn:}7,01 ڑ8UVIUHz8-ogwL-%8885sx+قY~W[^z<>̢$|$谠Ajr93Pqqqe^ѷGM^x4!!-=ۢeޝUPy<'vN>1 mJ|O s'+g.mǙuuu> ,NyCg?=K@ƈ%.̋S|[p̗mFKe1JaUOSP~X\R?'Y_Pma_@22}|i"Ye~F'w]82!]&2]}~- :t qWeߴ-3ZyZqyqGXJ}Li]4(PFFWs5x^=yn;aoČx([?Б0P۔7R_2(ԫD#]mv+ ٛUBPHrM#eIF?]-^_*g'tPYs/%8vֺGn:&z'8|||*~;C]Ty'޲M]gP|Şǯ`؂ȳTU%4軤-;+:?.[FZ 4ܕ7exd mmm+ˑ><%ݽK.oQTT N/_j$&=:sͿ",,,M[⳱ DB4yg-Ki5B}Vo0<$$NjkRi)$HK=`:vܸ/|.K,o0xˑ3FU\ݹFYY_;=}Ȩ9tD |q J LN F{;,222Pc5l04;HtM;=&{~3jQ*%*ҔK 5ps ]c4Zz̚M_A|7/׿vKs\ ]0_ Uh3٣uVG??5 #Q11<EQ-y~UjXvvdu?!rې᲎)>ڻO’O,o(: u}=ɔ'a{X_ٍaj#dlCEP*|t#i EEEjR S͒^bdx4><~9T7GѧL[dɆNpe#-ZQx!5]eݷ!c%ƍ,Sff^R=yOR?y1Uo\<=gwQ et&9qêuS<0nqܢL6혪QiXHӷJ'lﺐWe$U}vJ xe]H*;΀'*IhQ)7Ly=k6eΗam<9t2? wj£!3 At<3Cg2(|9)q ty6z8Forjbn@}\K7oU[O7~Fq|JgW-Ux=lO@wwe *Cz4m0" gVTH $9=2h:-HR7<߅:$:ch*o1N{DCwNv6xΔ˧~>zGր)f_sR_l;_3fԈ̏  }ŠjB}ʾbc=a>X>hux VOOI!Ԥ^$ <0,YbѣO #FQchoFUjP;:5RUKN3xso$]` / uvbsZ""dP!M,?E!_XQ߸D ?C5x?r9A>F_ݤ0E{@C{ױ @puu!XIC#3p [7`\2~=nx,rTtTZpehg6ACK{'jMMah: -~Лd]rєqa7p9Y& 0-?<> AAA  F3q# "`9z1Bݎ j~?~Bl^.L3Ь821͟ƌyOPҽXZŠ$$){I:Ih4XQJمX|`b=Æv綤ߓM>7I?HDQHWD}ȵXi7s|,0}7s[MYGRx QMJ!6:Fs];㿫6I1- 8d/t%RS! 闌n?`l;oH'dm@!o=AAvWb7[G'Mǿ6Ig ?HX C$G텳lv !?(Ӥb"GG4 ;4(BE"^(B }ח|c5Wtbʰa3"$ D#]lKZ?D4E!}#w'=q ؆0bFlÿK8 bPNh3?qn4[QYf 2S?+;vzq\0"7BMďb%D"Iud.dU k'вJgA`= \S[LHDpp`9<#9 _r@6L8?⤀#+S4|&O)eBʨj[@.On`Hg2b@u(DŽq6?:l͊2[Cfkl Cfz}eL>X#4kjC&tAWG]Ʈӂ*l^V 2qS\^qtpm `aOJ(s))0b9 uDŽ$Ė/e@a?P(wKR`s2CEu o#E12PP(7TK !<(̸*DžbٞF<쿚:5tgB߅~""0I, K#/$"BCA%Dq$mp~ _1("FfC}@CM0@Q(@@8!LDl xEjdIoZMЦne 8WW, MnM "atƹP`h|0g #D@b]ax4REШ)t -D0.03Xu~ FOHٴlO&6/@c.|>ɮj^axs`ˑd #eyL@O}Ƒ/x.fl Ǎ-K>Ua!@q&Ȥ_?daT$7n<< 3LˑHFBJcA N~H`Gh qb*4F y cy#8PD} Lq( oqЇa鿎 $0}xH` #9A;?/H RQ G}M<[!15$PFbK  oHBtci"0Ѐ `0i#zf>M TѠǹ#fQItCE ^0 M~<<0,enD0(lf2+pVpj&N猌{I(=d7I'I倍lN)dCϿg(LˊJ\6F24X^0 JySUz, .XhULR(d"TbbNhAK`seNf#";OsPn}bV Ga AaeҗsDeMM@Er/S:pp&,঍rDnD&\ E"=A7-DJf "=.`ʁF/8l n.zX|;qsk}1x 6|LJ*@?a(Rx>qn9xEr!60(28P*x،8GXz\ƘDSǢj٭)3\x@" /Xdi.k-`4rXz̰ E1A2S`y@_Ȕ'Pl$ʍx |yΟ\ !u+77NQU1N.%뜷Iy. phqBP~w`I=Ƹm=Ϸage UO8toܬ֊YeV8/JBJORO"BW*U{(֦4/.y+:>MBEjԡc.nx@~[xF-' +[?ѻC5Hz(QѬ7_J)읯qV~Ր~)?iPæ/L8trdAb󿳒C@&sS%4߿\@ν7K?slܴ~ }3p2"Z$NJSM^M'z{_W4(YѺ-̫0lDyO'޾~yh/^n/*,\3*W?F!GD̖?29͹7f ]sJ!4!!^P?&\JPGl\&;tvv.^ V kKnq˗ ٭v·7%><3?8>@Usg"ׇv ??^NOmoG+=1/ W#('/]11o"uB!%ŞhlyOS+j, 7}lWIT_n ڢiu555;]73^H".*d2ĦsV[aLQklUe6_O]SjSaйdkVikߏ/kxc~Vd%,2Vyƪ䮋4יťjV9 p -ל lh8zWݳc') y+X*%]$P/1`d[EvqWwLڹMj``ஓFͧw)}']O/;lGw~Wy?lē ͞=^*Ynp˪|~~a̧j5sWR Wod md~J?n9:"Tb|Z]qqqvXz)Ι6_*+ύ(֛:E%w9"IV6GR 9"|T-HxPsfuޯ.ac3=:Nz,)䮕 CV!aן1vxUSc8sڔߩf5']¼ ,cϞ=&6ѱJ, ޽I&|T͵VNK!6Dn|I.[ņsn.ocYCP[h6ᢗՄu#4ݙ %%/=|o[Qm&):S=wVCUp}[t 2ILB)ˎL}хM%l~; s2Oέ]k*ݾ-^0Otqޯ*vBg.\P _vWAYqG$aPA˄C}q/ :o·£(USZ*z\R~Om[}B ɱʥZ2,Pwr0m!=M5RR>ecMv+X`E.vQEe7'KO! ՚|N;}RԹt%z۸mh͊^6erqmR ț29㟁b;3yd}ߣܘ4+Cv` -fL ܒq)3 y}kpBb;b뀧6!Y2BFDȵ]dTBBd@ٛ( M*)T?տ)}=|9sCU::gC M;Ƚ~l'rtLzBJ6}iC/o,ax Fnrp'Fy6;!X쁋l2SP EI:3i,|Dc !Zl%T>孕wH8-Fes;IL|Nl =8oS,еqsRY.V\8H!ܨ4_uRHjЍOR\Gp2-L@0- 9xv_;h^Ȍ{095j:oH{SypY[4[^I+I-Vŋ- Q2I9>BekgAXCxX-y"u*C G]^\E\C(wҵct[Z*ؠI!B abbaBei c̤OpĦ<- )raޞBM?Wa[\Q>pnBnRVgD\"}P2l#i5P'umJڡ=/&m#(SHX ƀPtWu#TNR'AkKd󊷊EW?P5L)=*_Řz=T<"{qKÍZfSJ>P"2aN.^$GM UHd-MwJnDHK1 Ƅ8[$BZS7]&TՕv3OrN?:sfVAT7,KU)ǛXXybuz.BXy*fW>$ޚ4b 2"/ӏeEIbۇ. , 9l O1XSM|dݬO -<LXNus :Q̦ \`;̑A"LL:`vhS<34;c]v160w(Qs]#F9">MΦOrQг;l|&젛#ᬖz8WKףt #H%IgPʷpI)]6 eV4ŋ{M\(1aWE@s!a;3UKu{IpKXfcbZi [0^LH&;yصj{VZZg}l9ku~S2E:<˸v[dCvli|f(}\qiFA|[\2e7Tr#734@N),DjԄvk\tdoNx.XW|-Xp,%\[?e^eڱ aXLndЦ jE4+f(VȔU&M}kӓŽ2_}AlhNPW&xP>lM4ŃI{<)mRv)MGh-H5K~”P-ݥz/}&M -x2`F[wckfºF~\䌫uQȊ;v޴:=0rS~BUۑm Vi&Mb`/7Pi YI2ׁ=4^2ˋ)Rl.#9G jٙzgї>g޽{S v%&/ɿ s;.Л􆇅݀Z2 ء.*2R.޷\ٮ:Ku_(KGtO;dp/NRd3i.Ew!ߤ鬻%!q\b^>AHMCook"yz7^7AԎg< 8ux.(UEF27m(peR`l5b1=&ad#MԤ^1>>~PV[y-ae'ib{ rm]>R| N/kUq)Uczf0$znAu_MN^4h%ai8.@뱃+JSE8vyH$MYl dzgYK )g~ㅄywg#+ݻp&ߍN! UFP~Ic++%O\)c4]EVq}p\<{MNd4~ 5=߅QG$q, |S)jYU@@m7T~0<" { H6WQEU>Xk-)ftƭЈ8MCJW30RbS?OpK+bd'`deQakNSVSa]wrum~fPȚ~Iըt' ˾-l:n)qA'0vOV˗A?CP+A;4fSr "aǏ) 2͑3r赺{gC0@%|)ՃDW^kkQ2ueK<7c4lmL[IEI#xf4tǘJ64Բo|ra乗Dh":,yd񼹜ex{I[w2|F#m<#Cz|ϕ{OzTg"➿>1~%ON2O/}2(5x;ǂȻP´KL-pƱDM3\p='H<3a;8D0]+EsG,0bTjY&qnAprvd3ӍW4/mG*w)}b@E AJ.:@vV%"xPLFΩG}kaaiN`akuqp m#DOc.\0 wC?N =~@@P|Uw{cOGZ/m(:}B{Kh?vޚ{KR3Ѕu=7ZP[r?H[sޞ,'*0d u-m̎[3}H6}^iK.-?Il5_,'v[% N{w"O9{=!`>ևEbw]X>]/^qxDž.`DhdF cH ?}:Tľ}P;ѷ_+| _SϷj^bh |*aǗq?,?.q?Ck`KCn xi?oiue#Gv%vw9`H\Pg8#qݽ".{v.Y}B ~j&XwspB@߈aUf~翮IaϱF?~Q~Jև.DCp?  Qw[ٲ:ڮk ߈__<` `\ C/W: h2XkZ8@@߈$֮ D@zr`iJ 3^%JO HG>Wq[9hn7O%YF44b H#mio049i|V3>{q_ܐ}XF|3.(q/_}h= (⟘ȟ`~MNM}8 A QN;{scaT4ܶEK3=vT5PLxj8';}U |0x/&(@=a `ˌQVzÞ(铃Ig*CQPS.7R8~CRp+Un5h'.KA~ O�wFm 5|f4\3Y7{ }9xey VE Ø9ss3l&HN3ֲx7# /}r:>PM4a36ln[Jh%\Kx93mhB 806~Ϣ,JKjr>M8IoF$Ű="Ssۆj>9`+,YMM&5,_RnؑQ8>" Xޑx+EO9Gxxעj3{}dGU J/ӈbpE{T)ⶖU]t9Um[1[I 7; dnpȖђkF2MY+y.OL1uA v5lMI񯫓)?peܮIۨ=F;}/kGqʎig`JB571>~houH:r(+GbG!+BC, mj%{_*ʡK7~O罌ZAB(%pB+iPpV|`ň/{H7/Յ7Gz\xB?s:HS^M%`'mSz>Qhy7}^;Z@ma?X z07iS\q_)*j_:*:6^$"===MACD~ܰl:ӑa/kzA i14S6b7o&R_!,%DʢA"m+B^Ly ESuޢzTӑ#DBT܎K)v9"b]!٤1 Dp`{?e?:E3o#B0Gu<3ڣ`SOD흺Ǘ;2=.5Sxkkll|+9Sx@>g^}|xtP_e]޲A\W|D8|O}3naʅ=%'7e,Hr CгڑJSDxE~Ҙ>'ě(+Wr҉0gU/ƒȘ{ _zfKNon=|}.q0*ƪz3ʪY Fd5IL j_C{rhzշl츚ꮙ?ogW4lnndJm/%~Bd:iJ677J1 rV?ݬ:JB|sKƎ Gn+ך%t/tևN|X-yӕִd8!gsFQpɷzA^yA+OW>++.@P¯%ʺdGbé`6+.?b\`l]taF^ld׉7'+k񁆛8#CCmM!N᧾MurSvrDnd _AVi~nZ`k%qbV]d>Q)WUF 75^)]+VtX׌>=YիCĸD'g{&J<؝Hc.m:$Rl5Q~]Q T+SMgKK`Rt*w0v9iLqwL HЇJx@PQ3":>Ɔ- Y`.rv\a\[_xx=qnʽ(v#y"BW2rEe"}4;^,ItiL9 ly-qr)Sku_MH`܂<:{,_VHΜeF6EJIJRցBo EMǷ~91_xl?xuHDDlMUʙ@fcfc`1蓪 _jt DupIQhj٦3GoKϤm4s5C5bQYO"7V_7M`瘬ߔ"O 9!m])Pmk5CPAN_$tۥEg)7XP8^v%t4g1Y+(+MC|JؘJFOU8z*h)2ۺN& _3%'\NQ>p-<$rOS6m1G" \Q9Li/JHHxc1i~Zii w΋UǏQm0b$//xh4;GBGWKOyT"'d_jYҹsJ0:wI>2XZfT 掵QNFaI&֧Gm-diKa骎ie;nmw]=S~S&)] [j.Q1c+K==\t|=.go~^n@ҼY-SI /s펕W߫ T0<&N-q8hɲRw0f{!\c|]zY8cC:IٲyDd>sqY aڟ,TB 71U$4޼NzYg zi:㩍{lR띦^}u7 ;Ȅ8jc~=y+.OF]%U`ã ["5>ؐڧ>RB ^+Afp)2^}p:.7%/bk`浴m]|$Cn6Ƹ}j}kI/e?EKO+ۂA;_~T=:<╚ᴘ-Ar@G ) }1ё}1T bO\[8UfL4W;; /[k<5o^Ӫ3,BxQ_&\etXɟUԆ垕1Cv֪;Ĭw\w=a7$-ԍzauty8E/_tqn̫vgm8=5#$לA* >ڪIU0sr!:]aGW@;r\e};s}1zO]"wplëźzaбvL{%l+Wj<*Kojy,m̭98*F|S`2Fݮ;zj%L[cpwxYHWn|gǽ9xΆۯ}XWz[£WdV͟{I^Jg̪Tl)%^Z,SE]ϵ-Of"SH3%q?V?H~{:`K~HSƇQegWeR6/Y>sN-vۻ7Uaϑcu|P|唫qP\Vٍ'ZMqG++!&I.mu-A 7{{2wn6+&XL$Z0csZEFU쌣ᣃMJh5HbbR+l^{oa^(>'f(4uC;h.*5V%u(qabj_6Kɱ {cܕqʢgY.+2p.Iߓ-׎n|J+w\%'>e}^EiƋσw39mۜw;?}vRyn|;+7vz1kIY%S*mA^*)R 2Y(<҂vUGa#7؎kW%WD"ߔ/]pkGGm &{Eߦq9 /*Osys5=]⇌ȝUL؟jS6d!s__owkc gS֞ ~%|క%aa?J̲i nS;j/._~ h}>8XsiqEn/}~^~}7Ȇʾ'W5&nN f>|{ݴ:jJuK$U}%"| ZЗWۢ#j>n"OF)~ߧ2AoɃv H7jVSZ< 9-+?Ek#".9UWWL!@;î+c,ǥ=<"HoI[\o{̂'Ocy娿GZ15wo;U 5za Xv(ZJ~?HWߥZ7LRfIG= *k;;AN=Uz;5 [Hpԏ)&p!>>>*,lr?MYf:v& h{<)h<\hNyIv;FOH&̖lm~.B#CpzAݴ׋Q禮M^+V?#Bӥ2y/ q:y˗orrRRxAc_i9PA93!.H˔|{_-|GfˮGXa߆./w=Bڸ|i* 3NTJJTQ?BFU0k:ptOh'bB$\h:8S=ߏ%-#^K*߰0:h`h/ϨAUT\i{iG$?m2Z{8br4]+g?}qQ+1>N_/kٓ}YټiJöۤG9wۂ+G;F'.?x`94&Z#W4=[tgCj&^Q'(>),)g715'_1,xy"Ps,N݇s))\7 c#(4Y w~@dMݷc>ݓU5w6 }PAmzsS G16l[1]e +K'[burtyerlԬ5$&IrQE=jnh?$Eqֲz[q<.װ Voc(;y1бY7O>]}x1SIu#F_ʓq¿{kk?x"c_=; {uzkmOM:QK)QX7q!$gIiCZgɅDTrȧ4$FNWNJ 'sR@z_<{ # V(Se'&2kUo<^kvﻋz冉24G花c%^qN$ET,Y||.|ѻO+X+rߠ.݅4E{= .*ػ2of+Zfǵj:RUNdUvV=9u-g-'h3 դǏ:):`A._6G/MOGdCcv͒ Ѽ,[ %)^mbwjhMarQinn%3ַ;V_CW?(gHcQ;׶ %a08$k۹Tgo8<b}Zgeo??|cbD  .>rzjv;H@3nDΡ@ `|a ۻxM&^lwA@ӭ2,Z"uO4D\VlMc` <%exWg81 $Hf;X#Pdjp]X#1BHa;%&DV\RX1in{W?rfI@\-#fI$V3w[0eS LV yaBxC[&-mY0"A s$AaBi'+pnKmn(U>p%ӋpeS#h*6ŐyP8FQ=ٽ{%PZ䀽CHzڪDӲ #Mny[U$i0XVÓ: GHCFԹh9:|?}/:ÂXRY```s{0poR``  b ̫/:&AKi"īSC  R2*>`!˷Ƕ{?Ch/hW,ƿs',ܲd oM<[!.OxF7])UC\:'ҍ?ECW?eAd{lt5`wZ8?]eog!` {uD#?LbP}nݾs.;H9s;xMJIaΜhVKg8<;$<0Dpp$b>m5aƛ ndR?O8LKK%ǀ}Lot%ߩ_H ?$, qX7:޶ ]aB. '{ljO2K_nI`w6w+/o*^ @t>0ra[eqvxE8 ާ<[Mil18p[,ֺE[_k@G,G{<`~.`.`!̏XR/pE5c݇w,FEZQiL*-x|xڻ[u2鷔`̳2k`Ab;¡h; { IY^945I859AୗvՁV+m@rЕ @Ag ~1짙N8^?KĀ89k -a<Bn!)@9rjrx7?f,fAen’18,>ўu ~Q# $# @Y(יezc2T1*bz/C 0]$X}zrnhI"nvN>3KxokȖ=0@W0pW0pwGN:\/pq疋f34'v_;p=xw$r}A?6v%wO NTxmkxBѡl[C& %uaf@2\k14=K jZgP<y7|٨7"d* 혲эa)˔$\CYݪ73.o%ƞhz ~F*CzU9MZO )!)m 8}ћ!Tv5pqB*ve3ySb$eA 0iT&:\ V4(ZK3 C!DP x8ꥤ8Џ5XWZF19X4/=we#u@SeBgs-ճm;'Z X)]׀GjH&?X'ΤЀZm|`y=JTY_`]׀~ q0Y X?WG4`yRHL4`xh=-@Όa%08<qEOP N.T BogO}؄Y;gǒ_p_,&J`WewjC"?pX0ź}QvDyDhvD-D:ĭDi?/"@__ G ۴P` `GahNb0_Ч=X,> qˑ 2 ?2{ ח½ 0`Uٌ