Package: recountWorkflow Version: 1.35.0 Maintainer: Leonardo Collado-Torres MaintainerEmail: lcolladotor at gmail.com git_url: https://git.bioconductor.org/packages/recountWorkflow git_branch: devel git_last_commit: 5dea0c6 git_last_commit_date: 2025-10-29 09:46:52 -0500 (Wed, 29 Oct 2025)