Package: maEndToEnd Version: 2.31.0 Command: /home/biocbuild/bbs-3.23-bioc/R/bin/R CMD build --keep-empty-dirs --no-resave-data maEndToEnd StartedAt: 2025-11-07 13:05:07 -0500 (Fri, 07 Nov 2025) EndedAt: 2025-11-07 13:06:23 -0500 (Fri, 07 Nov 2025) EllapsedTime: 76.0 seconds RetCode: 1 Status: ERROR PackageFile: None PackageFileSize: NA