Package: highthroughputassays Version: 1.35.0 Command: /home/biocbuild/bbs-3.23-bioc/R/bin/R CMD INSTALL highthroughputassays StartedAt: 2025-11-07 13:00:16 -0500 (Fri, 07 Nov 2025) EndedAt: 2025-11-07 13:00:27 -0500 (Fri, 07 Nov 2025) EllapsedTime: 10.6 seconds RetCode: 0 Status: OK