Package: highthroughputassays Version: 1.35.0 Command: /home/biocbuild/bbs-3.23-bioc/R/bin/R CMD build --keep-empty-dirs --no-resave-data highthroughputassays StartedAt: 2025-11-07 13:04:41 -0500 (Fri, 07 Nov 2025) EndedAt: 2025-11-07 13:05:07 -0500 (Fri, 07 Nov 2025) EllapsedTime: 26.0 seconds RetCode: 0 Status: OK PackageFile: highthroughputassays_1.35.0.tar.gz PackageFileSize: 514.7 KiB