Package: generegulation Version: 1.35.0 Command: /home/biocbuild/bbs-3.23-bioc/R/bin/R CMD build --keep-empty-dirs --no-resave-data generegulation StartedAt: 2025-11-18 13:04:51 -0500 (Tue, 18 Nov 2025) EndedAt: 2025-11-18 13:06:00 -0500 (Tue, 18 Nov 2025) EllapsedTime: 69.0 seconds RetCode: 0 Status: OK PackageFile: generegulation_1.35.0.tar.gz PackageFileSize: 1.288 MiB