Package: cytofWorkflow Version: 1.35.0 Command: /home/biocbuild/bbs-3.23-bioc/R/bin/R CMD INSTALL cytofWorkflow StartedAt: 2025-11-07 13:00:17 -0500 (Fri, 07 Nov 2025) EndedAt: 2025-11-07 13:00:44 -0500 (Fri, 07 Nov 2025) EllapsedTime: 27.2 seconds RetCode: 0 Status: OK