Package: csawUsersGuide Version: 1.27.0 Maintainer: Aaron Lun MaintainerEmail: infinite.monkeys.with.keyboards at gmail.com git_url: https://git.bioconductor.org/packages/csawUsersGuide git_branch: devel git_last_commit: 88748f9 git_last_commit_date: 2025-10-29 09:47:19 -0500 (Wed, 29 Oct 2025)