Package: arrays Version: 1.37.0 Command: /Library/Frameworks/R.framework/Resources/bin/R CMD build --keep-empty-dirs --no-resave-data arrays StartedAt: 2025-11-18 13:04:25 -0500 (Tue, 18 Nov 2025) EndedAt: 2025-11-18 13:04:49 -0500 (Tue, 18 Nov 2025) EllapsedTime: 24.0 seconds RetCode: 0 Status: OK PackageFile: arrays_1.37.0.tar.gz PackageFileSize: 9.64 MiB