Package: TCGAWorkflow Version: 1.35.0 Maintainer: Tiago Chedraoui Silva MaintainerEmail: tiagochst at gmail.com git_url: https://git.bioconductor.org/packages/TCGAWorkflow git_branch: devel git_last_commit: 2f0362b git_last_commit_date: 2025-10-29 09:47:09 -0500 (Wed, 29 Oct 2025)