Package: SingscoreAMLMutations Version: 1.27.0 Maintainer: Dharmesh D. Bhuva MaintainerEmail: bhuva.d at wehi.edu.au git_url: https://git.bioconductor.org/packages/SingscoreAMLMutations git_branch: devel git_last_commit: df15a5d git_last_commit_date: 2025-10-29 09:47:22 -0500 (Wed, 29 Oct 2025)