Package: RnaSeqGeneEdgeRQL Version: 1.35.0 Maintainer: Yunshun Chen MaintainerEmail: yuchen at wehi.edu.au git_url: https://git.bioconductor.org/packages/RnaSeqGeneEdgeRQL git_branch: devel git_last_commit: eefcd92 git_last_commit_date: 2025-10-29 09:47:00 -0500 (Wed, 29 Oct 2025)