Package: RNAseq123 Version: 1.35.0 Command: /home/biocbuild/bbs-3.23-bioc/R/bin/R CMD INSTALL RNAseq123 StartedAt: 2025-11-07 13:01:00 -0500 (Fri, 07 Nov 2025) EndedAt: 2025-11-07 13:01:26 -0500 (Fri, 07 Nov 2025) EllapsedTime: 26.4 seconds RetCode: 0 Status: OK