Package: GeoMxWorkflows Version: 1.17.0 Maintainer: Maddy Griswold MaintainerEmail: mgriswold at nanostring.com git_url: https://git.bioconductor.org/packages/GeoMxWorkflows git_branch: devel git_last_commit: c01ff41 git_last_commit_date: 2025-10-29 09:47:36 -0500 (Wed, 29 Oct 2025)