Package: ExpHunterSuite Version: 1.19.0 Command: /home/biocbuild/bbs-3.23-bioc/R/bin/R CMD INSTALL ExpHunterSuite StartedAt: 2025-11-07 13:01:02 -0500 (Fri, 07 Nov 2025) EndedAt: 2025-11-07 13:01:28 -0500 (Fri, 07 Nov 2025) EllapsedTime: 25.8 seconds RetCode: 1 Status: ERROR