Package: ExpHunterSuite Version: 1.19.0 Command: /home/biocbuild/bbs-3.23-bioc/R/bin/R CMD build --keep-empty-dirs --no-resave-data ExpHunterSuite StartedAt: 2025-11-07 13:04:17 -0500 (Fri, 07 Nov 2025) EndedAt: 2025-11-07 13:04:42 -0500 (Fri, 07 Nov 2025) EllapsedTime: 25.0 seconds RetCode: 1 Status: ERROR PackageFile: None PackageFileSize: NA