Package: ExpHunterSuite Version: 1.19.0 Maintainer: James Perkins MaintainerEmail: jimrperkins at gmail.com git_url: https://git.bioconductor.org/packages/ExpHunterSuite git_branch: devel git_last_commit: 396a93e git_last_commit_date: 2025-10-29 09:47:33 -0500 (Wed, 29 Oct 2025)