Package: zebrafishRNASeq Version: 1.31.0 Maintainer: Davide Risso MaintainerEmail: risso.davide at gmail.com git_url: https://git.bioconductor.org/packages/zebrafishRNASeq git_branch: devel git_last_commit: b4c2621 git_last_commit_date: 2025-10-29 09:55:10 -0500 (Wed, 29 Oct 2025)