Package: yeastRNASeq Version: 0.49.0 Command: /home/biocbuild/bbs-3.23-bioc/R/bin/R CMD INSTALL yeastRNASeq StartedAt: 2025-11-06 10:55:48 -0500 (Thu, 06 Nov 2025) EndedAt: 2025-11-06 10:55:55 -0500 (Thu, 06 Nov 2025) EllapsedTime: 6.5 seconds RetCode: 0 Status: OK