Package: yeastRNASeq Version: 0.49.0 Maintainer: J. Bullard MaintainerEmail: bullard at stat.berkeley.edu git_url: https://git.bioconductor.org/packages/yeastRNASeq git_branch: devel git_last_commit: c4feb7b git_last_commit_date: 2025-10-29 09:31:40 -0500 (Wed, 29 Oct 2025)