Package: yeastExpData Version: 0.57.0 Command: /home/biocbuild/bbs-3.23-bioc/R/bin/R CMD INSTALL yeastExpData StartedAt: 2025-11-06 10:56:28 -0500 (Thu, 06 Nov 2025) EndedAt: 2025-11-06 10:56:32 -0500 (Thu, 06 Nov 2025) EllapsedTime: 4.5 seconds RetCode: 0 Status: OK