Package: yeastExpData Version: 0.57.0 Command: /home/biocbuild/bbs-3.23-bioc/R/bin/R CMD build --keep-empty-dirs --no-resave-data yeastExpData StartedAt: 2025-11-06 11:48:19 -0500 (Thu, 06 Nov 2025) EndedAt: 2025-11-06 11:48:27 -0500 (Thu, 06 Nov 2025) EllapsedTime: 7.8 seconds RetCode: 0 Status: OK PackageFile: yeastExpData_0.57.0.tar.gz PackageFileSize: 935 KiB