Package: yeastCC Version: 1.51.0 Maintainer: Sandrine Dudoit MaintainerEmail: sandrine at stat.berkeley.edu git_url: https://git.bioconductor.org/packages/yeastCC git_branch: devel git_last_commit: 9491a18 git_last_commit_date: 2025-10-29 09:30:41 -0500 (Wed, 29 Oct 2025)