Package: xcoredata Version: 1.15.0 Maintainer: Maciej MigdaƂ MaintainerEmail: mcjmigdal at gmail.com git_url: https://git.bioconductor.org/packages/xcoredata git_branch: devel git_last_commit: b8c7f61 git_last_commit_date: 2025-10-29 10:04:47 -0500 (Wed, 29 Oct 2025)