Package: vulcandata Version: 1.33.0 Maintainer: Federico M. Giorgi MaintainerEmail: federico.giorgi at gmail.com git_url: https://git.bioconductor.org/packages/vulcandata git_branch: devel git_last_commit: 583091f git_last_commit_date: 2025-10-29 09:59:27 -0500 (Wed, 29 Oct 2025)