Package: tuberculosis Version: 1.17.0 Command: /home/biocbuild/bbs-3.23-bioc/R/bin/R CMD INSTALL tuberculosis StartedAt: 2025-11-06 10:59:02 -0500 (Thu, 06 Nov 2025) EndedAt: 2025-11-06 10:59:28 -0500 (Thu, 06 Nov 2025) EllapsedTime: 25.8 seconds RetCode: 0 Status: OK