Package: tuberculosis Version: 1.17.0 Maintainer: Lucas Schiffer MaintainerEmail: schiffer.lucas at gmail.com git_url: https://git.bioconductor.org/packages/tuberculosis git_branch: devel git_last_commit: dcbbafb git_last_commit_date: 2025-10-29 10:04:25 -0500 (Wed, 29 Oct 2025)