Package: topdownrdata Version: 1.33.0 Maintainer: Sebastian Gibb MaintainerEmail: mail at sebastiangibb.de git_url: https://git.bioconductor.org/packages/topdownrdata git_branch: devel git_last_commit: 062bb26 git_last_commit_date: 2025-10-29 09:59:35 -0500 (Wed, 29 Oct 2025)